BEGIN:VCALENDAR
VERSION:2.0
PRODID:-// - ECPv6.15.13//NONSGML v1.0//EN
CALSCALE:GREGORIAN
METHOD:PUBLISH
X-ORIGINAL-URL:https://pcche.org
X-WR-CALDESC:Events for 
REFRESH-INTERVAL;VALUE=DURATION:PT1H
X-Robots-Tag:noindex
X-PUBLISHED-TTL:PT1H
BEGIN:VTIMEZONE
TZID:UTC
BEGIN:STANDARD
TZOFFSETFROM:+0000
TZOFFSETTO:+0000
TZNAME:UTC
DTSTART:20230101T000000
END:STANDARD
END:VTIMEZONE
BEGIN:VEVENT
DTSTART;TZID=UTC:20240202T173000
DTEND;TZID=UTC:20240202T210000
DTSTAMP:20260425T034428
CREATED:20240126T171707Z
LAST-MODIFIED:20240126T171707Z
UID:4386-1706895000-1706907600@pcche.org
SUMMARY:Drama Club Progressive Dinner
DESCRIPTION:***For Drama Club members only***\nWe will be hosting a progressive dinner for all of our Drama Club members. As the kids go from house to house\, they will be solving a mystery and …While solving this mystery\, the kids will be staying in character. That’s the fun part of this dinner besides the food and games. Kids will be maintaining their character (from the Baker Street Irregulars) throughout the night.\nWe are asking for $10/each kid. This will cover the costs for food. If you have any questions\, please feel free to message Jeanna Kane.
URL:https://pcche.org/calendar/drama-club-progressive-dinner/
END:VEVENT
BEGIN:VEVENT
DTSTART;TZID=UTC:20240210T120000
DTEND;TZID=UTC:20240210T140000
DTSTAMP:20260425T034428
CREATED:20240126T170316Z
LAST-MODIFIED:20240126T171242Z
UID:4382-1707566400-1707573600@pcche.org
SUMMARY:Drama Club - Capernum Studios Tour
DESCRIPTION:***This event is for Drama Club members only***\nWe have this amazing opportunity to see behind the scenes at Capernaum Studios!!! Drama Club members and their family members are welcome to sign up. This event currently has time spots open from 10:00am-4:00pm. Once we get all payments in\, we will be able to reserve our spots and set our time. Tickets are $20/person.**** Tickets have been bought for the 12:00pm timeslot. Feel free to bring a lunch to eat there.\nThe Capernaum Studio Tour Experience-\n-Learn & Experience How Movie Makeup Special Effects are done\n-Experience Our Virtual Production Stage – This is How Shows Like\n“The Mandalorian” Were Filmed\n-Green Screen & Broadcasting Stage\n-FIVE Different Large Outdoor & Indoor Movie Sets – Including Where “The Chosen” Series Started\n-Learn How OVER 150 Films & Creations were done at Capernaum Studios\n-Explore on your own our Statute Garden & The Village where “The Chosen” Series filmed their first 2 seasons\nPlease comment below with the number of people that will be coming. Payments will be due by December 31st. If you have any questions\, please message Jeanna Kane.\nIf paying via PayPal\, please send $21/person.
URL:https://pcche.org/calendar/drama-club-capernum-studios-tour/
END:VEVENT
BEGIN:VEVENT
DTSTART;TZID=UTC:20240214T130000
DTEND;TZID=UTC:20240214T150000
DTSTAMP:20260425T034428
CREATED:20240126T170030Z
LAST-MODIFIED:20240126T171233Z
UID:4379-1707915600-1707922800@pcche.org
SUMMARY:Valentine's Party
DESCRIPTION:Location: Willow Park Baptist Church  \nWe are excited for our annual Valentine’s party this year\, as it is full of fun traditions for all ages! We will have a Valentine box contest\, Valentine exchange\, photo booth\, games\, crafts\, and more!\nPlease list your kids’ names and ages below to RSVP.\nWhat to bring:\n💌All students from preschool to high school are invited to make their own Valentine box at home and bring their finished creation to the Valentine party for our annual Valentine box contest. The creations will be judged according to age group and theme.\n💌 Each child should bring approximately 2 dozen pre-signed Valentines to share with their PCCHE friends for the Valentine exchange. You can determine the number valentines your child brings based on the total RSVP numbers for those in your child’s age group posted in the event. I will add a spreadsheet with RSVPs closer to the event so you have a better idea.\nAge groups (this may need to shift slightly):\nPreschool/Early Elementary: Toddler – 6 years\nLower Elementary: 7-8 years\nUpper Elementary: 9-10 years\nMiddle School: 11 – 13 years\nHigh School: 14+\n💌 Bring a refreshment to share!\nSign up here: https://www.signupgenius.com/…/70A054EA8AB2BA4FD0…\nThis is a PCCHE Sponsored event\, so it is for PCCHE members only.\nCharis Miller is the contact for this event.
URL:https://pcche.org/calendar/valentines-party-2/
END:VEVENT
BEGIN:VEVENT
DTSTART;TZID=UTC:20240216T100000
DTEND;TZID=UTC:20240216T120000
DTSTAMP:20260425T034428
CREATED:20230525T232822Z
LAST-MODIFIED:20240126T171223Z
UID:4196-1708077600-1708084800@pcche.org
SUMMARY:Casa Manana - Seussical Jr the Musical
DESCRIPTION:***Tentative Details – We are waiting for final date approval from Casa Manana.*** \nSeussical Jr. the Musical\nPayment is due by 12/8/2023 for this performance. Casa Manana has strict payment deadlines for us\, and therefore\, we must also. \nAll shows are $10 /person age 1 and over. Please RSVP by commenting your family name and the number of seats you need below. Please also include any special needs such as wheelchairs\, hearing impaired\, visually impaired\, people with walkers\, or people that cannot handle stairs.  \nPayments may be made by cash or checks payable to PCCHE. You may also send via Paypal at treasurer@pcche.org\nlf you choose to use PayPal\, please add 4% to your total ticket cost. \nShow Description:\nHorton the Elephant\, the Cat in the Hat\, and all of your favorite Dr. Seuss characters spring to life onstage in Seussical Jr.\, a fantastical musical extravaganza from Tony®-winners Lynn Ahrens and Stephen Flaherty. With catchy music and heartwarming tales\, this is sure to be a family favorite. This show is suitable for all audiences. \nThere are not individual tickets for these shows\, but rather predetermined group seating. You will be seated by an usher with the group “PCCHE.”\nPer Casa Manana policy\, sorry no refunds.  \nAll shows begin at 10:30\, please arrive by 10:00 and wait in lobby at sign “PCCHE” for an usher to seat. Please do not go to the check in desk. See all policies below. \nDirections:\nCasa Manana Theatre is located in the heart of the Cultural District at\n3101 West Lancaster Avenue\,\nFort Worth\, TX 76107\nBox Office: 817 -332-2272\nParking: If the Casa Manana lot is full\, additional parking is available at the Will Rogers Memorial Center Equestrian Center Garage. To access the garage\, exit around Casa Manana’s lot and turn right (south) onto University. Turn right\nonto Trail Drive and then right onto Watt Drive. The garage is immediately on your right. Parking is on the second level with stair access to Casa Manana’s south lobby entrance. For additional information\, please visit\nwww.culturaldistrictparking.com\nArrival & Seating:\nThe lobby opens at 9.30 am.\nPlease arrive no later than 10:00 am.\nWait at “PCCHE” sign. Seating begins 30 minutes prior to show time. An Usher will be assigned to escort our group into the theatre to our predetermined seating.\nLate arrivals will be admitted at an appropriate point in the show and seated in the first available seats. Please note that all recordings of the stage production are prohibited. lf recording equipment is found in use\, it will be confiscated by the theatre management. This includes cameras and cell phones. lt is requested that all cell phones be turned off in the theatre.\nAt the end of the Show:\n1) Please wait for the actors to leave the stage\, and the house lights to come on.\n2) Please do not go onto the stage.\n3) Please wait for dismissal instructions from the theater personnel. \nThis is a PCCHE event in which we will be intermingling with the general public\, and therefore guests are welcome to attend with you\, so long as you RSVP and pay for them according to the requirements noted above.
URL:https://pcche.org/calendar/casa-manana-seussical-jr-the-musical/
END:VEVENT
BEGIN:VEVENT
DTSTART;TZID=UTC:20240221T140000
DTEND;TZID=UTC:20240221T160000
DTSTAMP:20260425T034428
CREATED:20240126T171927Z
LAST-MODIFIED:20240126T171927Z
UID:4390-1708524000-1708531200@pcche.org
SUMMARY:Park Day
DESCRIPTION:A park day gathering for some fun and fellowship at Holland Lake Park. Open to all ages.\nAs this will be an informal gathering\, please keep your RSVP’s up to date on Facebook so that other moms will know who will be attending and who to look for at the park.
URL:https://pcche.org/calendar/park-day/
END:VEVENT
BEGIN:VEVENT
DTSTART;TZID=UTC:20240227T183000
DTEND;TZID=UTC:20240227T203000
DTSTAMP:20260425T034428
CREATED:20240126T172046Z
LAST-MODIFIED:20240126T172046Z
UID:4392-1709058600-1709065800@pcche.org
SUMMARY:Mom's Night Out
DESCRIPTION:Join us for a night of fun and food at Olive Garden! 😀
URL:https://pcche.org/calendar/moms-night-out-5/
END:VEVENT
END:VCALENDAR