BEGIN:VCALENDAR
VERSION:2.0
PRODID:-// - ECPv6.15.13//NONSGML v1.0//EN
CALSCALE:GREGORIAN
METHOD:PUBLISH
X-ORIGINAL-URL:https://pcche.org
X-WR-CALDESC:Events for 
REFRESH-INTERVAL;VALUE=DURATION:PT1H
X-Robots-Tag:noindex
X-PUBLISHED-TTL:PT1H
BEGIN:VTIMEZONE
TZID:UTC
BEGIN:STANDARD
TZOFFSETFROM:+0000
TZOFFSETTO:+0000
TZNAME:UTC
DTSTART:20220101T000000
END:STANDARD
END:VTIMEZONE
BEGIN:VEVENT
DTSTART;TZID=UTC:20230613T190000
DTEND;TZID=UTC:20230613T220000
DTSTAMP:20260425T125203
CREATED:20230525T230413Z
LAST-MODIFIED:20230525T230425Z
UID:4185-1686682800-1686693600@pcche.org
SUMMARY:Ranger’s Game
DESCRIPTION:Join us for PCCHE Family Night at Globe Life Stadium on June 13 at 7:05 pm for the Rangers VS. the Angels!   \nHere’s what you need to know: \n1. This event is open to all PCCHE members AND their friends and families!  \n2. Each family will purchase their own tickets directly at https://www.mlb.com/rangers/tickets/single-game-tickets. PCCHE will be sitting in section 103.  After purchasing your tickets\, feel free to comment with your seat numbers so everyone can try to purchase tickets in the same area. \n3. Tickets will be $16 each (plus tax and fees) after using the code “COKE50” at checkout.  Parking starts at $15.
URL:https://pcche.org/calendar/rangers-game/
END:VEVENT
BEGIN:VEVENT
DTSTART;TZID=UTC:20230616T180000
DTEND;TZID=UTC:20230616T200000
DTSTAMP:20260425T125203
CREATED:20230430T215820Z
LAST-MODIFIED:20230430T215820Z
UID:4140-1686938400-1686945600@pcche.org
SUMMARY:Daddy Daughter Dance
DESCRIPTION:Please join us for the 3rd annual father daughter dance! Tickets will be $20 a couple\, with an additional $5 per additional kiddo. There will be food and music for an evening of fun!!! Please rsvp with the names of the people in your attending party!
URL:https://pcche.org/calendar/daddy-daughter-dance/
END:VEVENT
BEGIN:VEVENT
DTSTART;TZID=UTC:20230619T110000
DTEND;TZID=UTC:20230619T180000
DTSTAMP:20260425T125203
CREATED:20230525T230719Z
LAST-MODIFIED:20230525T230719Z
UID:4187-1687172400-1687197600@pcche.org
SUMMARY:Splash Kingdom Meetup
DESCRIPTION:Let’s get together this summer at Splash Kingdom! Advance “Choose-a-Day” tickets are currently $12.95 and can be purchased at\nhttps://splashkingdomhudsonoaks.centeredgeonline.com/areas/areadatetime/bcc1afe4-44d9-4698-8511-e79e366fc868#/06-19-2023\n(Prices are subject to change.) Entire families or teens are welcome! Please comment below if attending.
URL:https://pcche.org/calendar/splash-kingdom-meetup/
END:VEVENT
BEGIN:VEVENT
DTSTART;TZID=UTC:20230630T110000
DTEND;TZID=UTC:20230630T130000
DTSTAMP:20260425T125203
CREATED:20230613T192210Z
LAST-MODIFIED:20230613T192221Z
UID:4225-1688122800-1688130000@pcche.org
SUMMARY:Mom’s night! (Day!)
DESCRIPTION:At McAlister’s Deli  \nJoin us for a delicious lunch and fellowship! Bring your favorite homeschooling curriculum\, book\, manipulative\, etc to share\, and inspire other moms over our summer break! Because this is a daytime event\, we will get a nearby table for the kids\, so they can enjoy a nice fellowship with their friends as well. Please RSVP if you plan to attend and if you plan to bring any children with you\, so we will know what size tables to reserve.
URL:https://pcche.org/calendar/moms-night-day/
END:VEVENT
END:VCALENDAR