BEGIN:VCALENDAR
VERSION:2.0
PRODID:-// - ECPv6.15.13//NONSGML v1.0//EN
CALSCALE:GREGORIAN
METHOD:PUBLISH
X-ORIGINAL-URL:https://pcche.org
X-WR-CALDESC:Events for 
REFRESH-INTERVAL;VALUE=DURATION:PT1H
X-Robots-Tag:noindex
X-PUBLISHED-TTL:PT1H
BEGIN:VTIMEZONE
TZID:UTC
BEGIN:STANDARD
TZOFFSETFROM:+0000
TZOFFSETTO:+0000
TZNAME:UTC
DTSTART:20220101T000000
END:STANDARD
END:VTIMEZONE
BEGIN:VEVENT
DTSTART;TZID=UTC:20230501T080000
DTEND;TZID=UTC:20230501T170000
DTSTAMP:20260425T141053
CREATED:20230430T214525Z
LAST-MODIFIED:20230430T214525Z
UID:4128-1682928000-1682960400@pcche.org
SUMMARY:Last day of Spring Co-op
DESCRIPTION:Last day! Enjoy your summer!
URL:https://pcche.org/calendar/last-day-of-spring-co-op/
END:VEVENT
BEGIN:VEVENT
DTSTART;TZID=UTC:20230501T183000
DTEND;TZID=UTC:20230501T203000
DTSTAMP:20260425T141054
CREATED:20230430T214728Z
LAST-MODIFIED:20230430T214728Z
UID:4130-1682965800-1682973000@pcche.org
SUMMARY:Parents Night
DESCRIPTION:Come and view some of kids hard work from co-op this semester! Kindergarten graduation included\, along with Senior grad recognition.\n6:30 pm at Spring Creek Baptist Church
URL:https://pcche.org/calendar/parents-night-5/
END:VEVENT
BEGIN:VEVENT
DTSTART;TZID=UTC:20230502T183000
DTEND;TZID=UTC:20230502T190000
DTSTAMP:20260425T141054
CREATED:20230430T215008Z
LAST-MODIFIED:20230430T215008Z
UID:4132-1683052200-1683054000@pcche.org
SUMMARY:General Meeting
DESCRIPTION:Come join us for our annual spring general meeting!\n6:30 at Spring Creek Baptist Church
URL:https://pcche.org/calendar/general-meeting-7/
END:VEVENT
BEGIN:VEVENT
DTSTART;TZID=UTC:20230502T190000
DTEND;TZID=UTC:20230502T203000
DTSTAMP:20260425T141054
CREATED:20230430T215447Z
LAST-MODIFIED:20230430T215447Z
UID:4136-1683054000-1683059400@pcche.org
SUMMARY:Dad’s Night
DESCRIPTION:Meeting at Antonio’s restaurant at 7 pm.\nJust for dads! Come hang out with the guys and enjoy some delicious food! This is a PCCHE Sponsored event\, and therefore only PCCHE members may attend. RSVP by clicking the “Going” button and commenting your name (or your husband’s) below\, so they will know what size table to request.
URL:https://pcche.org/calendar/dads-night-2/
END:VEVENT
BEGIN:VEVENT
DTSTART;TZID=UTC:20230505T100000
DTEND;TZID=UTC:20230505T140000
DTSTAMP:20260425T141054
CREATED:20230430T215309Z
LAST-MODIFIED:20230430T215309Z
UID:4134-1683280800-1683295200@pcche.org
SUMMARY:Field Day Fiesta
DESCRIPTION:10 am at Greenwood Baptist Church  \nField Day Info \nFriday May 5th. 10am- 2 pm ish \nIt’s going to be at Greenwood Baptist Chruch\, at the cabin and field across the street. Please park in the parking lot beside the cabin. We will break for a sack lunch around noon. Cotton candy and snow cones will be available. If you have not RSVP’D and plan to attend I need to know! Field day requires lots of help! There will be a sign up sheet at co-op Monday May 1st  for you to pick your job to help with on field day. If you’re not there to sign up there will be a spot to fill\, no worries! Kids will get wet and muddy! It’s so much fun! Please have them wear appropriate clothes ( no white) and bring a towel.
URL:https://pcche.org/calendar/field-day-fiesta/
END:VEVENT
BEGIN:VEVENT
DTSTART;TZID=UTC:20230512T180000
DTEND;TZID=UTC:20230512T193000
DTSTAMP:20260425T141054
CREATED:20230430T215657Z
LAST-MODIFIED:20230510T212327Z
UID:4138-1683914400-1683919800@pcche.org
SUMMARY:Drama Club Production: The Enchanted Bookshop
DESCRIPTION:Do you like mystery\, intrigue\, and laughter? If so then bring your friends and family to see all your favorite story book characters as we embark on a journey to A Likely Story Bookshop where books come to life! PCCHE Drama Club is proud to present our first production\, The Enchanted Bookshop by Todd Wallinger\, featuring some of its finest students in classic roles such as Dorothy\, the Queen of Hearts\, Robin Hood\, Tom Sawyer and more! So come join the fun on May 12th\, 2023 at 6:00PM at Spring Creek Baptist church.  \nThis play is produced by special arrangement with Pioneer Drama Service\, Inc.\, Denver\, Colorado.
URL:https://pcche.org/calendar/drama-club-production-the-enchanted-bookshop/
END:VEVENT
END:VCALENDAR