BEGIN:VCALENDAR
VERSION:2.0
PRODID:-// - ECPv6.15.13//NONSGML v1.0//EN
CALSCALE:GREGORIAN
METHOD:PUBLISH
X-ORIGINAL-URL:https://pcche.org
X-WR-CALDESC:Events for 
REFRESH-INTERVAL;VALUE=DURATION:PT1H
X-Robots-Tag:noindex
X-PUBLISHED-TTL:PT1H
BEGIN:VTIMEZONE
TZID:UTC
BEGIN:STANDARD
TZOFFSETFROM:+0000
TZOFFSETTO:+0000
TZNAME:UTC
DTSTART:20210101T000000
END:STANDARD
END:VTIMEZONE
BEGIN:VEVENT
DTSTART;TZID=UTC:20221201T130000
DTEND;TZID=UTC:20221201T180000
DTSTAMP:20260425T210907
CREATED:20221102T154413Z
LAST-MODIFIED:20221102T154413Z
UID:3960-1669899600-1669917600@pcche.org
SUMMARY:Operation Christmas Child Processing Center - Teen Event
DESCRIPTION:1201 Creekview Dr\, Coppell\, TX 75019\nBefore the millions of shoebox gifts collected each year can bring hope and joy to children around the world\, each one has to be carefully inspected and made ready for international shipment by volunteers like you. Tens of thousands of volunteers serve annually at eight shoebox processing centers across the United States.\nMeeting location to drop off your teen/teens will be in the Weatherford Lowe’s parking lot. Exact meeting time will be posted at a later date.\nVolunteers MUST be at least 13 years old. This is a strict requirement and parents must fill out a permission slip. Please RSVP with the names of everyone in your family who would like to participate (please include ages of participating children and your email address so that the minor consent can be sent to you). Also\, if you would like to volunteer to drive others to the processing center\, please let us know that also.
URL:https://pcche.org/calendar/operation-christmas-child-processing-center-teen-event/
END:VEVENT
BEGIN:VEVENT
DTSTART;TZID=UTC:20221202T110000
DTEND;TZID=UTC:20221202T130000
DTSTAMP:20260425T210907
CREATED:20221102T154946Z
LAST-MODIFIED:20221102T154946Z
UID:3963-1669978800-1669986000@pcche.org
SUMMARY:Christmas Party - Teens
DESCRIPTION:Willow Park Baptist Church \nMark you calendars! This Christmas party is for all PCCHE teens ages 13 & up (the kids will have a separate party\, same date/time/location). You are welcome to drop your teen off for the party\, or stay and enjoy the festivities as well! More details to come\, as well as sign up sheets for refreshments! This is a PCCHE Sponsored event\, and therefore only PCCHE members may attend. Please RSVP your teen’s name and age.
URL:https://pcche.org/calendar/christmas-party-teens/
END:VEVENT
BEGIN:VEVENT
DTSTART;TZID=UTC:20221202T110000
DTEND;TZID=UTC:20221202T130000
DTSTAMP:20260425T210907
CREATED:20221102T155406Z
LAST-MODIFIED:20221102T155406Z
UID:3966-1669978800-1669986000@pcche.org
SUMMARY:Christmas Party - Kids
DESCRIPTION:Willow Park Baptist Church \nMark you calendars! This Christmas party is for all PCCHE children from birth-12 years old (the teens will have a separate party\, same date/time/location). This is not a “drop-off” party\, so please plan to stay and enjoy the festivities with your children! More details to come\, as well as sign up sheets for refreshments! This is a PCCHE Sponsored event\, and therefore only PCCHE members may attend. Please RSVP your child’s name and age.
URL:https://pcche.org/calendar/christmas-party-kids/
END:VEVENT
BEGIN:VEVENT
DTSTART;TZID=UTC:20221202T190000
DTEND;TZID=UTC:20221202T210000
DTSTAMP:20260425T210907
CREATED:20221201T193022Z
LAST-MODIFIED:20221201T193022Z
UID:3992-1670007600-1670014800@pcche.org
SUMMARY:"I Heard the Bells" Movie Night
DESCRIPTION:Movie Tavern – Fort Worth\n4920 S. Hulen\nFort Worth\, Tx 76132  \nJoin us for a holiday family movie night! The link to purchase your own tickets is at the end of this post. Please RSVP so we know who is attending. This is an approved and open event.\nThe inspiring true story behind the beloved Christmas carol and its author\, Henry Wadsworth Longfellow…\nKnown as America’s Poet\, Henry Wadsworth Longfellow leads an idyllic life…until the day his world is shattered by tragedy. With a nation divided by Civil War and his family torn apart\, Henry puts down his pen\, silenced by grief. But it’s the sound of Christmas morning that reignites the poet’s lost voice as he discovers the resounding hope of rekindled faith.
URL:https://pcche.org/calendar/i-heard-the-bells-movie-night/
END:VEVENT
BEGIN:VEVENT
DTSTART;TZID=UTC:20221205T183000
DTEND;TZID=UTC:20221205T210000
DTSTAMP:20260425T210907
CREATED:20221102T155756Z
LAST-MODIFIED:20221102T155756Z
UID:3968-1670265000-1670274000@pcche.org
SUMMARY:Moms' Christmas Party
DESCRIPTION:Save the evening of December 5th to spend with fellow PCCHE moms at our annual Christmas party. More details to come soon!
URL:https://pcche.org/calendar/moms-christmas-party-2/
END:VEVENT
BEGIN:VEVENT
DTSTART;TZID=UTC:20221207T100000
DTEND;TZID=UTC:20221207T120000
DTSTAMP:20260425T210907
CREATED:20221102T161020Z
LAST-MODIFIED:20221102T161020Z
UID:3971-1670407200-1670414400@pcche.org
SUMMARY:Casa Manana - A Christmas Carol Comedy
DESCRIPTION:3101 West Lancaster Avenue\,\nFort Worth\, TX 76107 \nAll shows begin at 10:30\, please arrive by 10:00 and wait in lobby at sign “PCCHE” for an usher to seat. \nPayment was due on 10/20/22 for this performance. If you missed this show\, there are still plenty more to come in 2023!
URL:https://pcche.org/calendar/casa-manana-a-christmas-carol-comedy/
END:VEVENT
BEGIN:VEVENT
DTSTART;TZID=UTC:20221209T180000
DTEND;TZID=UTC:20221209T210000
DTSTAMP:20260425T210907
CREATED:20221102T162111Z
LAST-MODIFIED:20221102T162111Z
UID:3973-1670608800-1670619600@pcche.org
SUMMARY:Beautiful Feet Christmas Caroling Blitz **WAITLISTED**
DESCRIPTION:PCCHE is providing three trailers for our families to participate in the Beautiful Feet Christmas Caroling Blitz!\nThis event is put on each year by Beautiful Feet Ministries. Their goal is to have over 50 trailers that are equipped with hay for groups to sit on and bikes and toys to give out.\nChristians come together to love the inner-city\, sing carols\, give gifts\, bibles\, and tracts to those they encounter.\nLast year\, over 1\,500 believers on more than 55 trailers prayed\, shared gifts and shared the Gospel with those they met and we want to be a part of that!\nBecause space is limited on our trailers we are capping this event\, so please do not RSVP unless you are sure you can commit to attending.  \nIf your family is unable to attend but would like to be a part of this amazing ministry we have a solution!\nWe will be collecting toys to hand out as well as monetary donations which will be used to purchase one or two children’s bikes. We will also need items for single mothers and widows as well as hay for the trailers.\nIf you are able and willing to help out in this area it would be greatly appreciated!!
URL:https://pcche.org/calendar/beautiful-feet-christmas-caroling-blitz-waitlisted/
END:VEVENT
END:VCALENDAR