BEGIN:VCALENDAR
VERSION:2.0
PRODID:-// - ECPv6.15.13//NONSGML v1.0//EN
CALSCALE:GREGORIAN
METHOD:PUBLISH
X-ORIGINAL-URL:https://pcche.org
X-WR-CALDESC:Events for 
REFRESH-INTERVAL;VALUE=DURATION:PT1H
X-Robots-Tag:noindex
X-PUBLISHED-TTL:PT1H
BEGIN:VTIMEZONE
TZID:UTC
BEGIN:STANDARD
TZOFFSETFROM:+0000
TZOFFSETTO:+0000
TZNAME:UTC
DTSTART:20210101T000000
END:STANDARD
END:VTIMEZONE
BEGIN:VEVENT
DTSTART;TZID=UTC:20230207T183000
DTEND;TZID=UTC:20230207T203000
DTSTAMP:20260425T131751
CREATED:20230201T181226Z
LAST-MODIFIED:20230201T181226Z
UID:4025-1675794600-1675801800@pcche.org
SUMMARY:Moms' Night - Cracker Barrel
DESCRIPTION:Let’s enjoy a fun Moms’ Night Out with great food and fellowship! This is a PCCHE Sponsored event\, and therefore only PCCHE members may attend. RSVP that you’re coming so we know how big of a table to request!
URL:https://pcche.org/calendar/moms-night-cracker-barrel-2/
END:VEVENT
BEGIN:VEVENT
DTSTART;TZID=UTC:20230207T183000
DTEND;TZID=UTC:20230207T203000
DTSTAMP:20260425T131751
CREATED:20230107T232041Z
LAST-MODIFIED:20230107T232041Z
UID:4017-1675794600-1675801800@pcche.org
SUMMARY:Moms' Night - Cracker Barrel
DESCRIPTION:Let’s enjoy a fun Moms’ Night Out with great food and fellowship! This is a PCCHE Sponsored event\, and therefore only PCCHE members may attend. RSVP please so we will know what size table to request.
URL:https://pcche.org/calendar/moms-night-cracker-barrel/
END:VEVENT
BEGIN:VEVENT
DTSTART;TZID=UTC:20230206T163000
DTEND;TZID=UTC:20230206T183000
DTSTAMP:20260425T131751
CREATED:20230201T180656Z
LAST-MODIFIED:20230201T180656Z
UID:4023-1675701000-1675708200@pcche.org
SUMMARY:Rescheduled: PCCHE Teen Meet Up-Rosa's
DESCRIPTION:**This event has been rescheduled to Feb 6 due to current hazardous weather conditions. Please RSVP! \nPCCHE teens are invited to come hang out at Rosa’s and meet up with friends for Mexican food and card games!\nWhat you need: dinner money and favorite card game\nThis is a PCCHE sponsored drop-off event that is open to PCCHE members only.
URL:https://pcche.org/calendar/rescheduled-pcche-teen-meet-up-rosas/
END:VEVENT
BEGIN:VEVENT
DTSTART;TZID=UTC:20230206T100000
DTEND;TZID=UTC:20230206T133000
DTSTAMP:20260425T131751
CREATED:20230201T183448Z
LAST-MODIFIED:20230201T183448Z
UID:4039-1675677600-1675690200@pcche.org
SUMMARY:First Day of Co-op
DESCRIPTION:Welcome to the first day of our Spring Semester at PCCHE Co-op for those who are registered to attend!
URL:https://pcche.org/calendar/first-day-of-co-op-3/
END:VEVENT
BEGIN:VEVENT
DTSTART;TZID=UTC:20230111T100000
DTEND;TZID=UTC:20230111T120000
DTSTAMP:20260425T131751
CREATED:20230107T231322Z
LAST-MODIFIED:20230107T231322Z
UID:4015-1673431200-1673438400@pcche.org
SUMMARY:PCCHE Park Day
DESCRIPTION:Forecast says weather should be lovely! Y’all come out for a fun day of play and fellowship. There is a playground\, large field\, and pavilion as well as restrooms and water fountains. There’s even a basketball court around the corner and the entire park is surrounded by a walkway. Bring your frisbee\, football\, and jump rope!\nThis is a come and go\, PCCHE approved event meaning it’s open to friends and family.\nSee you there!
URL:https://pcche.org/calendar/pcche-park-day/
END:VEVENT
BEGIN:VEVENT
DTSTART;TZID=UTC:20230109T134500
DTEND;TZID=UTC:20230109T154500
DTSTAMP:20260425T131751
CREATED:20230104T152755Z
LAST-MODIFIED:20230104T152755Z
UID:4009-1673271900-1673279100@pcche.org
SUMMARY:PCCHE Drama Club Meeting
DESCRIPTION:We are so excited to be starting up a Drama Club for the High Schoolers and Middle Schoolers of PCCHE! We plan on meeting every week to learn and practice acting skills. Kids will also learn about building sets\, making props\, designing costumes\, makeup and more…Most of all we will be having lots of fun! Our first meeting will be January 9th from 1:45-3:45pm at Spring Creek Baptist Church.   \nWhere: Spring Creek Baptist Church in the Sanctuary  \nWho: Kids ages 11-18  \nWhen: Mondays 1:45-3:45pm  \nThis will be a drop-off activity for the kids. There will be 2 adults present at all times for supervision. You must RSVP your child for this club! Please send your child’s name and age for them to participate.    \n**Your student does not need to participate in co-op classes to take part in drama club.  All PCCHE members are welcome!**
URL:https://pcche.org/calendar/pcche-drama-club-meeting/
END:VEVENT
BEGIN:VEVENT
DTSTART;TZID=UTC:20230101T080000
DTEND;TZID=UTC:20230101T170000
DTSTAMP:20260425T131751
CREATED:20221201T193826Z
LAST-MODIFIED:20221201T193826Z
UID:3993-1672560000-1672592400@pcche.org
SUMMARY:Casa Mañana - Charlotte's Web - Payment Deadline
DESCRIPTION:Payment for this show is due 1/1/2023.\nAll shows are $10 /person age 1 and over\nPlease RSVP by emailing Karen: karen@familylearningtogether.com and Mail your payment by 1/1/23 to:\nKaren Sorah\n491 Green Meadows Cir\nSpringtown\, TX 76082.\nAll shows are $10 /person age 1 and over.\nlf you choose to use PayPal\, please add 3% to your total ticket cost and use Karen’s email address to send payment. Checks should be made payable to Karen Sorah.
URL:https://pcche.org/calendar/casa-manana-charlottes-web-payment-deadline/
END:VEVENT
BEGIN:VEVENT
DTSTART;TZID=UTC:20221209T180000
DTEND;TZID=UTC:20221209T210000
DTSTAMP:20260425T131751
CREATED:20221102T162111Z
LAST-MODIFIED:20221102T162111Z
UID:3973-1670608800-1670619600@pcche.org
SUMMARY:Beautiful Feet Christmas Caroling Blitz **WAITLISTED**
DESCRIPTION:PCCHE is providing three trailers for our families to participate in the Beautiful Feet Christmas Caroling Blitz!\nThis event is put on each year by Beautiful Feet Ministries. Their goal is to have over 50 trailers that are equipped with hay for groups to sit on and bikes and toys to give out.\nChristians come together to love the inner-city\, sing carols\, give gifts\, bibles\, and tracts to those they encounter.\nLast year\, over 1\,500 believers on more than 55 trailers prayed\, shared gifts and shared the Gospel with those they met and we want to be a part of that!\nBecause space is limited on our trailers we are capping this event\, so please do not RSVP unless you are sure you can commit to attending.  \nIf your family is unable to attend but would like to be a part of this amazing ministry we have a solution!\nWe will be collecting toys to hand out as well as monetary donations which will be used to purchase one or two children’s bikes. We will also need items for single mothers and widows as well as hay for the trailers.\nIf you are able and willing to help out in this area it would be greatly appreciated!!
URL:https://pcche.org/calendar/beautiful-feet-christmas-caroling-blitz-waitlisted/
END:VEVENT
BEGIN:VEVENT
DTSTART;TZID=UTC:20221207T100000
DTEND;TZID=UTC:20221207T120000
DTSTAMP:20260425T131751
CREATED:20221102T161020Z
LAST-MODIFIED:20221102T161020Z
UID:3971-1670407200-1670414400@pcche.org
SUMMARY:Casa Manana - A Christmas Carol Comedy
DESCRIPTION:3101 West Lancaster Avenue\,\nFort Worth\, TX 76107 \nAll shows begin at 10:30\, please arrive by 10:00 and wait in lobby at sign “PCCHE” for an usher to seat. \nPayment was due on 10/20/22 for this performance. If you missed this show\, there are still plenty more to come in 2023!
URL:https://pcche.org/calendar/casa-manana-a-christmas-carol-comedy/
END:VEVENT
BEGIN:VEVENT
DTSTART;TZID=UTC:20221205T183000
DTEND;TZID=UTC:20221205T210000
DTSTAMP:20260425T131751
CREATED:20221102T155756Z
LAST-MODIFIED:20221102T155756Z
UID:3968-1670265000-1670274000@pcche.org
SUMMARY:Moms' Christmas Party
DESCRIPTION:Save the evening of December 5th to spend with fellow PCCHE moms at our annual Christmas party. More details to come soon!
URL:https://pcche.org/calendar/moms-christmas-party-2/
END:VEVENT
BEGIN:VEVENT
DTSTART;TZID=UTC:20221202T190000
DTEND;TZID=UTC:20221202T210000
DTSTAMP:20260425T131751
CREATED:20221201T193022Z
LAST-MODIFIED:20221201T193022Z
UID:3992-1670007600-1670014800@pcche.org
SUMMARY:"I Heard the Bells" Movie Night
DESCRIPTION:Movie Tavern – Fort Worth\n4920 S. Hulen\nFort Worth\, Tx 76132  \nJoin us for a holiday family movie night! The link to purchase your own tickets is at the end of this post. Please RSVP so we know who is attending. This is an approved and open event.\nThe inspiring true story behind the beloved Christmas carol and its author\, Henry Wadsworth Longfellow…\nKnown as America’s Poet\, Henry Wadsworth Longfellow leads an idyllic life…until the day his world is shattered by tragedy. With a nation divided by Civil War and his family torn apart\, Henry puts down his pen\, silenced by grief. But it’s the sound of Christmas morning that reignites the poet’s lost voice as he discovers the resounding hope of rekindled faith.
URL:https://pcche.org/calendar/i-heard-the-bells-movie-night/
END:VEVENT
BEGIN:VEVENT
DTSTART;TZID=UTC:20221202T110000
DTEND;TZID=UTC:20221202T130000
DTSTAMP:20260425T131751
CREATED:20221102T155406Z
LAST-MODIFIED:20221102T155406Z
UID:3966-1669978800-1669986000@pcche.org
SUMMARY:Christmas Party - Kids
DESCRIPTION:Willow Park Baptist Church \nMark you calendars! This Christmas party is for all PCCHE children from birth-12 years old (the teens will have a separate party\, same date/time/location). This is not a “drop-off” party\, so please plan to stay and enjoy the festivities with your children! More details to come\, as well as sign up sheets for refreshments! This is a PCCHE Sponsored event\, and therefore only PCCHE members may attend. Please RSVP your child’s name and age.
URL:https://pcche.org/calendar/christmas-party-kids/
END:VEVENT
BEGIN:VEVENT
DTSTART;TZID=UTC:20221202T110000
DTEND;TZID=UTC:20221202T130000
DTSTAMP:20260425T131751
CREATED:20221102T154946Z
LAST-MODIFIED:20221102T154946Z
UID:3963-1669978800-1669986000@pcche.org
SUMMARY:Christmas Party - Teens
DESCRIPTION:Willow Park Baptist Church \nMark you calendars! This Christmas party is for all PCCHE teens ages 13 & up (the kids will have a separate party\, same date/time/location). You are welcome to drop your teen off for the party\, or stay and enjoy the festivities as well! More details to come\, as well as sign up sheets for refreshments! This is a PCCHE Sponsored event\, and therefore only PCCHE members may attend. Please RSVP your teen’s name and age.
URL:https://pcche.org/calendar/christmas-party-teens/
END:VEVENT
BEGIN:VEVENT
DTSTART;TZID=UTC:20221201T130000
DTEND;TZID=UTC:20221201T180000
DTSTAMP:20260425T131751
CREATED:20221102T154413Z
LAST-MODIFIED:20221102T154413Z
UID:3960-1669899600-1669917600@pcche.org
SUMMARY:Operation Christmas Child Processing Center - Teen Event
DESCRIPTION:1201 Creekview Dr\, Coppell\, TX 75019\nBefore the millions of shoebox gifts collected each year can bring hope and joy to children around the world\, each one has to be carefully inspected and made ready for international shipment by volunteers like you. Tens of thousands of volunteers serve annually at eight shoebox processing centers across the United States.\nMeeting location to drop off your teen/teens will be in the Weatherford Lowe’s parking lot. Exact meeting time will be posted at a later date.\nVolunteers MUST be at least 13 years old. This is a strict requirement and parents must fill out a permission slip. Please RSVP with the names of everyone in your family who would like to participate (please include ages of participating children and your email address so that the minor consent can be sent to you). Also\, if you would like to volunteer to drive others to the processing center\, please let us know that also.
URL:https://pcche.org/calendar/operation-christmas-child-processing-center-teen-event/
END:VEVENT
BEGIN:VEVENT
DTSTART;TZID=UTC:20221118T140000
DTEND;TZID=UTC:20221118T160000
DTSTAMP:20260425T131751
CREATED:20221102T153553Z
LAST-MODIFIED:20221102T153553Z
UID:3957-1668780000-1668787200@pcche.org
SUMMARY:Tipis on the Prairie at MWSP
DESCRIPTION:We will be learning how assemble a tipi with the help of Park Ranger Owens and learning Native American Tepee etiquette! The cost is $1 per person. We do need all RSVP’s by October 31 in order to give the educator an accurate head count for this event.\nPLEASE CONTACT KARISSA ASAP if you have not paid for your participating child’s RSVP. If you have not paid\, your RSVP has not been counted.\nYou are welcome to stay and hike at the park after the demonstration.
URL:https://pcche.org/calendar/tipis-on-the-prairie-at-mwsp/
END:VEVENT
BEGIN:VEVENT
DTSTART;TZID=UTC:20221115T190000
DTEND;TZID=UTC:20221115T203000
DTSTAMP:20260425T131751
CREATED:20221102T151323Z
LAST-MODIFIED:20221102T151323Z
UID:3954-1668538800-1668544200@pcche.org
SUMMARY:Dads' Night - Boo Ray's Restaurant
DESCRIPTION:Calling all dads…come hang out with the guys and enjoy some yummy food! This is a PCCHE Sponsored event\, and therefore only PCCHE members may attend. RSVP please\, so they will know what size table to request.
URL:https://pcche.org/calendar/dads-night-boo-rays-restaurant/
END:VEVENT
BEGIN:VEVENT
DTSTART;TZID=UTC:20221031T100000
DTEND;TZID=UTC:20221031T133000
DTSTAMP:20260425T131751
CREATED:20221006T163858Z
LAST-MODIFIED:20221006T163858Z
UID:3942-1667210400-1667223000@pcche.org
SUMMARY:Costume Day
DESCRIPTION:Co-op attendees are invited to wear their costumes\, today!\nNothing scary please\, and make sure you are still following the dress code!
URL:https://pcche.org/calendar/costume-day-2/
END:VEVENT
BEGIN:VEVENT
DTSTART;TZID=UTC:20221024T133000
DTEND;TZID=UTC:20221024T143000
DTSTAMP:20260425T131751
CREATED:20221006T164656Z
LAST-MODIFIED:20221006T164656Z
UID:3945-1666618200-1666621800@pcche.org
SUMMARY:Co-op Teacher Training Meeting
DESCRIPTION:If you are currently taking part in the co-op class program and are interested in teaching in the spring you’ll need to come to the teacher training meeting on October 24th. This meeting will be held directly after co-op at Spring Creek and I will go over everything you need to know for teaching a class in our program. If you plan to stay\, please bring something for your child/children to do while they wait. \nPlease reach out to Amy Ferguson with any questions\, or to RSVP.
URL:https://pcche.org/calendar/co-op-teacher-training-meeting/
END:VEVENT
BEGIN:VEVENT
DTSTART;TZID=UTC:20221021T183000
DTEND;TZID=UTC:20221021T203000
DTSTAMP:20260425T131751
CREATED:20221006T163506Z
LAST-MODIFIED:20221006T163506Z
UID:3940-1666377000-1666384200@pcche.org
SUMMARY:Third Annual Pumpkin Carving Contest
DESCRIPTION:Join us for PCCHE’s third annual Pumpkin Carving Contest! This is a fun filled\, family night you’re sure to enjoy! We’ll let the kiddos run free\, eat some great food\, and have a pumpkin contest to boot!\nPrizes will be awarded\, so carve your pumpkins at home and bring ONE family pumpkin for judging.\nWe’ve reserved the outdoor seating and entertainment area so there will be plenty of space to relax. You may bring your own food OR purchase food from the smokehouse or bakery!\nIf you have a checkerboard or a set of playing cards bring ’em along and we’ll have a friendly game or two. \nNatty Flats in Lipan is located at 19280 US-281 Lipan\, Texas 76462\nThe “World’s Largest Cedar Rocking Chair” is right out front so you can’t miss it! \nPlease RSVP.\n*This is a PCCHE sponsored event.*
URL:https://pcche.org/calendar/third-annual-pumpkin-carving-contest/
END:VEVENT
BEGIN:VEVENT
DTSTART;TZID=UTC:20221020T080000
DTEND;TZID=UTC:20221020T170000
DTSTAMP:20260425T131751
CREATED:20221006T165314Z
LAST-MODIFIED:20221006T165314Z
UID:3948-1666252800-1666285200@pcche.org
SUMMARY:CASA - Payment Deadline
DESCRIPTION:If you are planning to attend Casa Manana presents ‘A Christmas Carol Comedy’\, the payment is due by 10/20/22 for this performance.  \nPlease RSVP by emailing Karen: karen@familylearningtogether.com and Mail your payment by 10/20/22 to:\nKaren Sorah\n491 Green Meadows Cir\nSpringtown\, TX 76082.\nAll shows are $10 /person age 1 and over.\nlf you choose to use PayPal\, please add 3% to your total ticket cost and use Karen’s email address to send payment. Checks should be made payable to Karen Sorah.
URL:https://pcche.org/calendar/casa-payment-deadline/
END:VEVENT
BEGIN:VEVENT
DTSTART;TZID=UTC:20221013T183000
DTEND;TZID=UTC:20221013T203000
DTSTAMP:20260425T131751
CREATED:20220802T015516Z
LAST-MODIFIED:20220802T015822Z
UID:3899-1665685800-1665693000@pcche.org
SUMMARY:Moms' Night Out - McAlister's Deli
DESCRIPTION:Join us for delicious food and even better company! Please RSVP so we know how many tables to get.
URL:https://pcche.org/calendar/moms-night-out-mcalisters-deli/
END:VEVENT
BEGIN:VEVENT
DTSTART;TZID=UTC:20221012T100000
DTEND;TZID=UTC:20221012T120000
DTSTAMP:20260425T131751
CREATED:20220801T194319Z
LAST-MODIFIED:20220801T194319Z
UID:3893-1665568800-1665576000@pcche.org
SUMMARY:Casa Manana - Madagascar
DESCRIPTION:Tickets for this event will need to be paid in full by 9/1/2022.
URL:https://pcche.org/calendar/casa-manana-madagascar/
END:VEVENT
BEGIN:VEVENT
DTSTART;TZID=UTC:20220930T130000
DTEND;TZID=UTC:20220930T160000
DTSTAMP:20260425T131751
CREATED:20220802T014851Z
LAST-MODIFIED:20220802T014851Z
UID:3895-1664542800-1664553600@pcche.org
SUMMARY:Dr. Pepper Museum
DESCRIPTION:https://www.facebook.com/DrPepperMuseum/\n300 S 5th St. Waco\, TX \nThe Make-A-Soda Field Trip at the Dr. Pepper Museum in Waco allows students to create an original soft drink. After being greeted by a Museum Educator\, groups will have an hour to explore the Museum’s many exhibits and two historic buildings in chaperoned groups. In the second hour the group will participate in a Make-A-Soda experience; guided by a Museum Educator\, each student will create a unique soda and learning about the careers\, creativity\, science\, and economics of the soft drink industry. At the end of the program\, each person will receive a can of Dr Pepper\, either to enjoy in the Museum courtyard or take home as a souvenir.\nCost: $7 per participant\, regardless of age\nPlease RSVP with family name and number of attendees.\nPayment deadline is Monday\, Sep. 26.\nPlease send payment through Paypal to treasurer@pcche.org and remember to use the FRIENDS and FAMILY option. Please note on the payment that the funds are for the Dr. Pepper Musuem field trip!\nCrystal Paige is the contact for this field trip.
URL:https://pcche.org/calendar/dr-pepper-museum/
END:VEVENT
BEGIN:VEVENT
DTSTART;TZID=UTC:20220930T103000
DTEND;TZID=UTC:20220930T103000
DTSTAMP:20260425T131751
CREATED:20220901T223714Z
LAST-MODIFIED:20220901T223714Z
UID:3926-1664533800-1664533800@pcche.org
SUMMARY:School Portraits
DESCRIPTION:It’s school portrait time! I now have the appointment scheduling sheets\, so call or text to set your child’s appointment 817 988-7817. Let me know if you’d also like to book a group picture slot for your kids along with your individual appointments. I will have the price list/order forms with me at co-op\, and I will also post it here.\nSue Wells Photography will be taking our portraits again this year. She is always so great to work with – so patient with the kids! She offers many different packages that are all reasonably priced. There is also the option to have the portraits sent over to the yearbook coordinator if you would like your child’s picture in the yearbook. Call or text me at 817 988-7817 to schedule your appointment. – Shana Gentry
URL:https://pcche.org/calendar/school-portraits-5/
END:VEVENT
BEGIN:VEVENT
DTSTART;TZID=UTC:20220929T130000
DTEND;TZID=UTC:20220929T190000
DTSTAMP:20260425T131751
CREATED:20220901T223142Z
LAST-MODIFIED:20220901T223142Z
UID:3923-1664456400-1664478000@pcche.org
SUMMARY:School Portraits
DESCRIPTION:It’s school portrait time! I now have the appointment scheduling sheets\, so call or text to set your child’s appointment 817 988-7817. Let me know if you’d also like to book a group picture slot for your kids along with your individual appointments. I will have the price list/order forms with me at co-op\, and I will also post it here.\nSue Wells Photography will be taking our portraits again this year. She is always so great to work with – so patient with the kids! She offers many different packages that are all reasonably priced. There is also the option to have the portraits sent over to the yearbook coordinator if you would like your child’s picture in the yearbook. Call or text me at 817 988-7817 to schedule your appointment. – Shana Gentry
URL:https://pcche.org/calendar/school-portraits-4/
END:VEVENT
BEGIN:VEVENT
DTSTART;TZID=UTC:20220921T130000
DTEND;TZID=UTC:20220921T160000
DTSTAMP:20260425T131751
CREATED:20220901T222755Z
LAST-MODIFIED:20220901T222755Z
UID:3920-1663765200-1663776000@pcche.org
SUMMARY:September Teen Skate
DESCRIPTION:7325 Calmont Ave. Fort Worth\, TX\nPCCHE Teen Meet Up for the month of September will take place at homeschool skate day at Rollerland West from 1-4 pm on September 21.\nIf your teen needs a ride\, please contact us to let us know. Otherwise\, we’ll see you at the skating rink around 1:00. Price is $5 plus tax per skater. Send money for snack bar if desired! RSVP below.\n***THIS IS A PCCHE APPROVED EVENT***
URL:https://pcche.org/calendar/september-teen-skate/
END:VEVENT
BEGIN:VEVENT
DTSTART;TZID=UTC:20220913T190000
DTEND;TZID=UTC:20220913T203000
DTSTAMP:20260425T131751
CREATED:20220801T185746Z
LAST-MODIFIED:20220801T185746Z
UID:3891-1663095600-1663101000@pcche.org
SUMMARY:Dads' Night - Texas Roadhouse
DESCRIPTION:For Dads only! Food and fellowship. Please RSVP by clicking the “Going” button and commenting your name below\, so the guys will know what size table to request.
URL:https://pcche.org/calendar/dads-night-texas-roadhouse/
END:VEVENT
BEGIN:VEVENT
DTSTART;TZID=UTC:20220912T080000
DTEND;TZID=UTC:20220912T170000
DTSTAMP:20260425T131751
CREATED:20220901T224810Z
LAST-MODIFIED:20220901T224810Z
UID:3931-1662969600-1663002000@pcche.org
SUMMARY:PCCHE Spirit Day
DESCRIPTION:Co-op attendees are encouraged to dress in their PCCHE shirts or their best purple attire!
URL:https://pcche.org/calendar/pcche-spirit-day/
END:VEVENT
BEGIN:VEVENT
DTSTART;TZID=UTC:20220905T080000
DTEND;TZID=UTC:20220905T080000
DTSTAMP:20260425T131751
CREATED:20220901T224137Z
LAST-MODIFIED:20220901T224137Z
UID:3928-1662364800-1662364800@pcche.org
SUMMARY:Labor Day
DESCRIPTION:No Co-op for those attending!
URL:https://pcche.org/calendar/labor-day/
END:VEVENT
BEGIN:VEVENT
DTSTART;TZID=UTC:20220902T130000
DTEND;TZID=UTC:20220902T150000
DTSTAMP:20260425T131751
CREATED:20220802T214232Z
LAST-MODIFIED:20220802T214232Z
UID:3905-1662123600-1662130800@pcche.org
SUMMARY:Tween Meet Up
DESCRIPTION:Film Alley\n825 E Interstate 20\, Wford TX \nCalling all TWEENagers! Kids ages 10-12 are invited to come hang out at Film Alley in the arcade and around the dining area to play cards with their peers.\nThis tween meet up is a private PCCHE event for kids 10-12 to meet and hang out a bit!\nIf your child is comfortable being dropped off we will have chaperones attending. There are coffee shops and shopping nearby. Or\, you can stay and help supervise and play with the kids!\nFilm Alley offers gaming cards and they have food available\, so please send your child with some cash.\nWe’ll be bringing along the playing cards to help break the ice.\nPlease RSVP to let us know you’re coming!
URL:https://pcche.org/calendar/tween-meet-up/
END:VEVENT
END:VCALENDAR