BEGIN:VCALENDAR
VERSION:2.0
PRODID:-// - ECPv6.15.13//NONSGML v1.0//EN
CALSCALE:GREGORIAN
METHOD:PUBLISH
X-ORIGINAL-URL:https://pcche.org
X-WR-CALDESC:Events for 
REFRESH-INTERVAL;VALUE=DURATION:PT1H
X-Robots-Tag:noindex
X-PUBLISHED-TTL:PT1H
BEGIN:VTIMEZONE
TZID:UTC
BEGIN:STANDARD
TZOFFSETFROM:+0000
TZOFFSETTO:+0000
TZNAME:UTC
DTSTART:20170101T000000
END:STANDARD
END:VTIMEZONE
BEGIN:VEVENT
DTSTART;TZID=UTC:20190426T103000
DTEND;TZID=UTC:20190426T120000
DTSTAMP:20260425T164041
CREATED:20180917T211733Z
LAST-MODIFIED:20180917T211733Z
UID:2174-1556274600-1556280000@pcche.org
SUMMARY:Casa Manana - The Wizard of Oz
DESCRIPTION:Please email Karen Sorah at karen@familylearningtogether.com or call/text 817 884-6339 $10/each
URL:https://pcche.org/calendar/casa-manana-the-wizard-of-oz/
END:VEVENT
BEGIN:VEVENT
DTSTART;TZID=UTC:20190424T093000
DTEND;TZID=UTC:20190424T150000
DTSTAMP:20260425T164041
CREATED:20190415T214454Z
LAST-MODIFIED:20190415T214454Z
UID:2358-1556098200-1556118000@pcche.org
SUMMARY:Field day!
DESCRIPTION:Come out and join us for a field day full of fun\, races\, and unexpected surprises! \nStart time 9:30 \nPlease bring a sack lunch\, and a change of clothes. \nField day should be wrapping up around 2 pm.
URL:https://pcche.org/calendar/field-day/
END:VEVENT
BEGIN:VEVENT
DTSTART;TZID=UTC:20190417T100000
DTEND;TZID=UTC:20190417T120000
DTSTAMP:20260425T164041
CREATED:20190117T155514Z
LAST-MODIFIED:20190117T160239Z
UID:2301-1555495200-1555502400@pcche.org
SUMMARY:Easter egg hunt
DESCRIPTION:PCCHE Easter egg hunt! Starts at 10am!
URL:https://pcche.org/calendar/easter-egg-hunt/
END:VEVENT
BEGIN:VEVENT
DTSTART;TZID=UTC:20190415T133000
DTEND;TZID=UTC:20190415T143000
DTSTAMP:20260425T164041
CREATED:20190328T151519Z
LAST-MODIFIED:20190328T151519Z
UID:2333-1555335000-1555338600@pcche.org
SUMMARY:Southwest Dairy Farmers Mobile Classroom
DESCRIPTION:Please join us at 1:45 at Springcreek Baptist Church for an informative lesson on dairy farming!
URL:https://pcche.org/calendar/southwest-dairy-farmers-mobile-classroom/
END:VEVENT
BEGIN:VEVENT
DTSTART;TZID=UTC:20190409T120000
DTEND;TZID=UTC:20190409T170000
DTSTAMP:20260425T164041
CREATED:20190328T151112Z
LAST-MODIFIED:20190328T151112Z
UID:2329-1554811200-1554829200@pcche.org
SUMMARY:Teen get-together!
DESCRIPTION:Please see Renee for information!
URL:https://pcche.org/calendar/teen-get-together-3/
END:VEVENT
BEGIN:VEVENT
DTSTART;TZID=UTC:20190408T080000
DTEND;TZID=UTC:20190408T170000
DTSTAMP:20260425T164041
CREATED:20190117T154632Z
LAST-MODIFIED:20190117T154632Z
UID:2289-1554710400-1554742800@pcche.org
SUMMARY:Stand up for Jesus day
DESCRIPTION:Wear Christian t-shirts/attire/jewelry and be bold for Jesus. \nOrdering from Chic-Fil-A.
URL:https://pcche.org/calendar/stand-up-for-jesus-day/
END:VEVENT
BEGIN:VEVENT
DTSTART;TZID=UTC:20190330T160000
DTEND;TZID=UTC:20190330T180000
DTSTAMP:20260425T164041
CREATED:20190117T155415Z
LAST-MODIFIED:20190327T162556Z
UID:2299-1553961600-1553968800@pcche.org
SUMMARY:Family Night
DESCRIPTION:Let’s get together and fellowship! We will be hosting a potluck and playing games! \nSpring Creek Baptist Church at 4pm.
URL:https://pcche.org/calendar/family-night/
END:VEVENT
BEGIN:VEVENT
DTSTART;TZID=UTC:20190329T110000
DTEND;TZID=UTC:20190329T140000
DTSTAMP:20260425T164041
CREATED:20190131T153358Z
LAST-MODIFIED:20190327T163211Z
UID:2318-1553857200-1553868000@pcche.org
SUMMARY:CR Smith Museum Field Trip
DESCRIPTION:Adults are $4.00 each and students 2 and up are $3.00 \nRSVP to Emily Robinson required at vicepresiden@pcche.org OR on the PCCHE Field Trip FB page. \nCheck out the website for more information! \nHome
URL:https://pcche.org/calendar/cr-smith-museum-field-trip/
LOCATION:CR Smith Museum\, 4601 Hwy 360\, Fort Worth\, TX\, 76155\, United States
CATEGORIES:Field Trip
ORGANIZER;CN="Emily Robinson":MAILTO:vicepresident@pcche.org
END:VEVENT
BEGIN:VEVENT
DTSTART;TZID=UTC:20190329T080000
DTEND;TZID=UTC:20190329T170000
DTSTAMP:20260425T164041
CREATED:20190117T155927Z
LAST-MODIFIED:20190327T163139Z
UID:2307-1553846400-1553878800@pcche.org
SUMMARY:C.R. Smith Museum
DESCRIPTION:Field trip!
URL:https://pcche.org/calendar/c-r-smith-museum/
END:VEVENT
BEGIN:VEVENT
DTSTART;TZID=UTC:20190322T103000
DTEND;TZID=UTC:20190322T120000
DTSTAMP:20260425T164041
CREATED:20180917T211604Z
LAST-MODIFIED:20180917T211604Z
UID:2172-1553250600-1553256000@pcche.org
SUMMARY:Casa Manana - Jason Bishop: The Illusionist
DESCRIPTION:Please email Karen Sorah at karen@familylearningtogether.com or call/text 817 884-6339 $7.50/each
URL:https://pcche.org/calendar/casa-manana-jason-bishop-the-illusionist/
END:VEVENT
BEGIN:VEVENT
DTSTART;TZID=UTC:20190318T080000
DTEND;TZID=UTC:20190318T170000
DTSTAMP:20260425T164041
CREATED:20190117T154417Z
LAST-MODIFIED:20190117T154417Z
UID:2287-1552896000-1552928400@pcche.org
SUMMARY:Take back St. Patrick’s Day
DESCRIPTION:Wear green in honor of this Christian holiday. \nOrdering from Jimmy John’s Gourmet Sandwiches.
URL:https://pcche.org/calendar/take-back-st-patricks-day/
END:VEVENT
BEGIN:VEVENT
DTSTART;TZID=UTC:20190311T080000
DTEND;TZID=UTC:20190311T170000
DTSTAMP:20260425T164041
CREATED:20190109T184855Z
LAST-MODIFIED:20190109T184855Z
UID:2272-1552291200-1552323600@pcche.org
SUMMARY:Spring break
DESCRIPTION:
URL:https://pcche.org/calendar/spring-break/
END:VEVENT
BEGIN:VEVENT
DTSTART;TZID=UTC:20190218T080000
DTEND;TZID=UTC:20190218T170000
DTSTAMP:20260425T164041
CREATED:20190115T001547Z
LAST-MODIFIED:20190117T160051Z
UID:2282-1550476800-1550509200@pcche.org
SUMMARY:Hail to the Chief Day
DESCRIPTION:Wear patriotic colors and/or dress up like one of our U.S. Presidents for President’s day. \nOrdering pizza from Mr. Jim’s Pizza
URL:https://pcche.org/calendar/hail-to-the-chief-day/
END:VEVENT
BEGIN:VEVENT
DTSTART;TZID=UTC:20190214T100000
DTEND;TZID=UTC:20190214T120000
DTSTAMP:20260425T164041
CREATED:20190117T155208Z
LAST-MODIFIED:20190117T155208Z
UID:2297-1550138400-1550145600@pcche.org
SUMMARY:Valentine’s party
DESCRIPTION:PCCHE Valentine’s Day party at 10 am at Spring Creek Baptist Church
URL:https://pcche.org/calendar/valentines-party/
END:VEVENT
BEGIN:VEVENT
DTSTART;TZID=UTC:20190212T110000
DTEND;TZID=UTC:20190212T170000
DTSTAMP:20260425T164041
CREATED:20190117T155826Z
LAST-MODIFIED:20190117T155826Z
UID:2305-1549969200-1549990800@pcche.org
SUMMARY:Teen get together!
DESCRIPTION:
URL:https://pcche.org/calendar/teen-get-together-2/
END:VEVENT
BEGIN:VEVENT
DTSTART;TZID=UTC:20190208T183000
DTEND;TZID=UTC:20190208T220000
DTSTAMP:20260425T164041
CREATED:20190117T155037Z
LAST-MODIFIED:20190117T155037Z
UID:2295-1549650600-1549663200@pcche.org
SUMMARY:Mom’s night out!
DESCRIPTION:Enjoy an evening out at Antonio’s Mexican Restaurant. Meeting there at 6:30 pm.
URL:https://pcche.org/calendar/moms-night-out/
END:VEVENT
BEGIN:VEVENT
DTSTART;TZID=UTC:20190208T103000
DTEND;TZID=UTC:20190208T120000
DTSTAMP:20260425T164041
CREATED:20180917T211438Z
LAST-MODIFIED:20180917T211438Z
UID:2170-1549621800-1549627200@pcche.org
SUMMARY:Casa Manana - The Emperor's Groovy New Clothes
DESCRIPTION:Please email Karen Sorah at karen@familylearningtogether.com or call/text 817 884-6339 $7.50/each
URL:https://pcche.org/calendar/casa-manana-the-emperors-groovy-new-clothes/
END:VEVENT
BEGIN:VEVENT
DTSTART;TZID=UTC:20190204T090000
DTEND;TZID=UTC:20190204T150000
DTSTAMP:20260425T164041
CREATED:20190104T014735Z
LAST-MODIFIED:20190104T014735Z
UID:2258-1549270800-1549292400@pcche.org
SUMMARY:First day of Spring Co-op classes
DESCRIPTION:
URL:https://pcche.org/calendar/first-day-of-spring-co-op-classes/
END:VEVENT
BEGIN:VEVENT
DTSTART;TZID=UTC:20190129T080000
DTEND;TZID=UTC:20190129T170000
DTSTAMP:20260425T164041
CREATED:20190117T154848Z
LAST-MODIFIED:20190117T154848Z
UID:2293-1548748800-1548781200@pcche.org
SUMMARY:General meeting
DESCRIPTION:Meeting at Spring Creek Baptist Church at 7 pm.
URL:https://pcche.org/calendar/general-meeting/
END:VEVENT
BEGIN:VEVENT
DTSTART;TZID=UTC:20190125T110000
DTEND;TZID=UTC:20190125T133000
DTSTAMP:20260425T164041
CREATED:20180918T013159Z
LAST-MODIFIED:20180918T013159Z
UID:2182-1548414000-1548423000@pcche.org
SUMMARY:Medieval Times Trip
DESCRIPTION:
URL:https://pcche.org/calendar/medieval-times-trip/
END:VEVENT
BEGIN:VEVENT
DTSTART;TZID=UTC:20181221T103000
DTEND;TZID=UTC:20181221T120000
DTSTAMP:20260425T164041
CREATED:20180917T211249Z
LAST-MODIFIED:20180917T211249Z
UID:2168-1545388200-1545393600@pcche.org
SUMMARY:Casa Manana - Twas the Night Before Christmas
DESCRIPTION:Please email Karen Sorah at karen@familylearningtogether.com or call/text 817 884-6339 $10/each
URL:https://pcche.org/calendar/casa-manana-twas-the-night-before-christmas/
END:VEVENT
BEGIN:VEVENT
DTSTART;TZID=UTC:20181203T183000
DTEND;TZID=UTC:20181203T203000
DTSTAMP:20260425T164041
CREATED:20180904T200933Z
LAST-MODIFIED:20181201T214556Z
UID:2127-1543861800-1543869000@pcche.org
SUMMARY:Parent’s Night!
DESCRIPTION:
URL:https://pcche.org/calendar/parents-night/
END:VEVENT
BEGIN:VEVENT
DTSTART;TZID=UTC:20181203T090000
DTEND;TZID=UTC:20181203T133000
DTSTAMP:20260425T164041
CREATED:20180906T173104Z
LAST-MODIFIED:20180906T173104Z
UID:2145-1543827600-1543843800@pcche.org
SUMMARY:Last day of Co-op!
DESCRIPTION:Let’s have some Christmas spirit and wear red and green! \nPizza will be offered for lunch.
URL:https://pcche.org/calendar/last-day-of-co-op/
END:VEVENT
BEGIN:VEVENT
DTSTART;TZID=UTC:20181130T120000
DTEND;TZID=UTC:20181130T180000
DTSTAMP:20260425T164041
CREATED:20181114T145854Z
LAST-MODIFIED:20181114T150304Z
UID:2201-1543579200-1543600800@pcche.org
SUMMARY:Teen Get Together
DESCRIPTION:Click the website link below for the event invitation!
URL:https://pcche.org/calendar/teen-get-together/
END:VEVENT
BEGIN:VEVENT
DTSTART;TZID=UTC:20181119T080000
DTEND;TZID=UTC:20181119T170000
DTSTAMP:20260425T164041
CREATED:20180906T174140Z
LAST-MODIFIED:20180906T174140Z
UID:2152-1542614400-1542646800@pcche.org
SUMMARY:Thanksgiving Break!
DESCRIPTION:Co-op will be off for the Thanksgiving holiday. Enjoy your time with family and friends! Happy Thanksgiving!
URL:https://pcche.org/calendar/thanksgiving-break/
END:VEVENT
BEGIN:VEVENT
DTSTART;TZID=UTC:20181112T090000
DTEND;TZID=UTC:20181112T133000
DTSTAMP:20260425T164041
CREATED:20180906T173249Z
LAST-MODIFIED:20180906T173805Z
UID:2147-1542013200-1542029400@pcche.org
SUMMARY:Veteran’s day!
DESCRIPTION:Veteran’s day! Dress in patriotic colors. \nChic-fil-a will be offered for lunch.
URL:https://pcche.org/calendar/veterans-day/
END:VEVENT
BEGIN:VEVENT
DTSTART;TZID=UTC:20181029T090000
DTEND;TZID=UTC:20181029T133000
DTSTAMP:20260425T164041
CREATED:20180906T172948Z
LAST-MODIFIED:20180906T172948Z
UID:2143-1540803600-1540819800@pcche.org
SUMMARY:Costume day!
DESCRIPTION:Costume Day (dress up as historical or storybook characters)! \nJimmy John’s Gourmet Sandwiches will be offered for lunch.
URL:https://pcche.org/calendar/costume-day/
END:VEVENT
BEGIN:VEVENT
DTSTART;TZID=UTC:20181026T110000
DTEND;TZID=UTC:20181026T170000
DTSTAMP:20260425T164041
CREATED:20180911T144551Z
LAST-MODIFIED:20180911T144551Z
UID:2158-1540551600-1540573200@pcche.org
SUMMARY:School Portraits w/ Sue Wells Photography
DESCRIPTION:
URL:https://pcche.org/calendar/school-portraits-w-sue-wells-photography-2/
END:VEVENT
BEGIN:VEVENT
DTSTART;TZID=UTC:20181025T140000
DTEND;TZID=UTC:20181025T180000
DTSTAMP:20260425T164041
CREATED:20180911T144447Z
LAST-MODIFIED:20180911T144447Z
UID:2155-1540476000-1540490400@pcche.org
SUMMARY:School Portraits w/ Sue Wells Photography
DESCRIPTION:
URL:https://pcche.org/calendar/school-portraits-w-sue-wells-photography/
END:VEVENT
BEGIN:VEVENT
DTSTART;TZID=UTC:20181019T103000
DTEND;TZID=UTC:20181019T120000
DTSTAMP:20260425T164041
CREATED:20180917T210928Z
LAST-MODIFIED:20180917T211110Z
UID:2164-1539945000-1539950400@pcche.org
SUMMARY:Casa Manana - The Big Bad Musical
DESCRIPTION:Please email Karen Sorah at karen@familylearningtogether.com or call/text 817 884-6339 $7.50/each
URL:https://pcche.org/calendar/casa-manana-the-big-bad-musical/
END:VEVENT
END:VCALENDAR