BEGIN:VCALENDAR
VERSION:2.0
PRODID:-// - ECPv6.15.13//NONSGML v1.0//EN
CALSCALE:GREGORIAN
METHOD:PUBLISH
X-ORIGINAL-URL:https://pcche.org
X-WR-CALDESC:Events for 
REFRESH-INTERVAL;VALUE=DURATION:PT1H
X-Robots-Tag:noindex
X-PUBLISHED-TTL:PT1H
BEGIN:VTIMEZONE
TZID:UTC
BEGIN:STANDARD
TZOFFSETFROM:+0000
TZOFFSETTO:+0000
TZNAME:UTC
DTSTART:20180101T000000
END:STANDARD
END:VTIMEZONE
BEGIN:VTIMEZONE
TZID:America/Mexico_City
BEGIN:DAYLIGHT
TZOFFSETFROM:-0600
TZOFFSETTO:-0500
TZNAME:CDT
DTSTART:20180401T080000
END:DAYLIGHT
BEGIN:STANDARD
TZOFFSETFROM:-0500
TZOFFSETTO:-0600
TZNAME:CST
DTSTART:20181028T070000
END:STANDARD
BEGIN:DAYLIGHT
TZOFFSETFROM:-0600
TZOFFSETTO:-0500
TZNAME:CDT
DTSTART:20190407T080000
END:DAYLIGHT
BEGIN:STANDARD
TZOFFSETFROM:-0500
TZOFFSETTO:-0600
TZNAME:CST
DTSTART:20191027T070000
END:STANDARD
BEGIN:DAYLIGHT
TZOFFSETFROM:-0600
TZOFFSETTO:-0500
TZNAME:CDT
DTSTART:20200405T080000
END:DAYLIGHT
BEGIN:STANDARD
TZOFFSETFROM:-0500
TZOFFSETTO:-0600
TZNAME:CST
DTSTART:20201025T070000
END:STANDARD
END:VTIMEZONE
BEGIN:VEVENT
DTSTART;TZID=UTC:20190910T190000
DTEND;TZID=UTC:20190910T200000
DTSTAMP:20260425T153632
CREATED:20190816T212210Z
LAST-MODIFIED:20190816T212210Z
UID:2664-1568142000-1568145600@pcche.org
SUMMARY:PCCHE General Meeting
DESCRIPTION:7 pm at Spring Creek Baptist Church
URL:https://pcche.org/calendar/pcche-general-meeting/
END:VEVENT
BEGIN:VEVENT
DTSTART;TZID=UTC:20190909T100000
DTEND;TZID=UTC:20190909T130000
DTSTAMP:20260425T153632
CREATED:20190828T204557Z
LAST-MODIFIED:20190828T204557Z
UID:2682-1568023200-1568034000@pcche.org
SUMMARY:Co-op 'PCCHE and Pizza Day'
DESCRIPTION:Dress in your PCCHE shirt\, colors\, or armor! \nPizza ordered from Papa John’s by August 26.
URL:https://pcche.org/calendar/co-op-pcche-and-pizza-day/
END:VEVENT
BEGIN:VEVENT
DTSTART;TZID=UTC:20190907T103000
DTEND;TZID=UTC:20190907T133000
DTSTAMP:20260425T153632
CREATED:20190816T150340Z
LAST-MODIFIED:20190816T150422Z
UID:2626-1567852200-1567863000@pcche.org
SUMMARY:Granbury City Beach Day
DESCRIPTION:Join us for a Back-to-School family gathering at the Granbury City Beach Park – Swimming\, sand castles\, and sandwiches! Bring your own food\, drinks\, floaties\, life jackets\, towels\, lawn chairs\, sand toys\, sunscreen\, etc. Hopefully our event is early enough to get the pavilion\, but if not\, we will find a great spot on the beach.
URL:https://pcche.org/calendar/granbury-city-beach-day/
END:VEVENT
BEGIN:VEVENT
DTSTART;TZID=UTC:20190903T180000
DTEND;TZID=UTC:20190903T200000
DTSTAMP:20260425T153632
CREATED:20190728T024155Z
LAST-MODIFIED:20190826T205321Z
UID:2607-1567533600-1567540800@pcche.org
SUMMARY:Mom-to-Mom Fellowship
DESCRIPTION:Join us for an evening of fellowship and laughter! We will be meeting at the Swanson’s house for a potluck dinner. Please bring a dish to share!
URL:https://pcche.org/calendar/mom-to-mom-fellowship/
END:VEVENT
BEGIN:VEVENT
DTSTART;VALUE=DATE:20190902
DTEND;VALUE=DATE:20190903
DTSTAMP:20260425T153632
CREATED:20190607T190730Z
LAST-MODIFIED:20190607T191919Z
UID:2518-1567382400-1567468799@pcche.org
SUMMARY:Labor Day - No Co-op
DESCRIPTION:Enjoy time with your family – no co-op!
URL:https://pcche.org/calendar/labor-day-no-co-op/
END:VEVENT
BEGIN:VEVENT
DTSTART;TZID=UTC:20190829T180000
DTEND;TZID=UTC:20190829T193000
DTSTAMP:20260425T153632
CREATED:20190728T025522Z
LAST-MODIFIED:20190728T025547Z
UID:2612-1567101600-1567107000@pcche.org
SUMMARY:Homeschool Resource Fair at WPL
DESCRIPTION:PCCHE will be attending Weatherford Public Library’s annual Homeschool Resource Fair again this fall. Come by and say “hello!” and see the options available to benefit our homeschool community.
URL:https://pcche.org/calendar/homeschool-resource-fair-at-wpl/
END:VEVENT
BEGIN:VEVENT
DTSTART;TZID=UTC:20190819T080000
DTEND;TZID=UTC:20190819T170000
DTSTAMP:20260425T153632
CREATED:20190816T182937Z
LAST-MODIFIED:20190816T182937Z
UID:2659-1566201600-1566234000@pcche.org
SUMMARY:Grace House Ministries baby bottle fundraiser begins!
DESCRIPTION:Please help us support Grace House Ministries Inc. by picking up a baby bottle and filling it with loose change! You can pick up your baby bottle from co-op starting today! Members who do not attend co-op please contact Shana Gentry to recieve your bottle! \nBottles will be due back on Oct 28.
URL:https://pcche.org/calendar/grace-house-ministries-baby-bottle-fundraiser-begins/
END:VEVENT
BEGIN:VEVENT
DTSTART;VALUE=DATE:20190819
DTEND;VALUE=DATE:20190820
DTSTAMP:20260425T153632
CREATED:20190607T190551Z
LAST-MODIFIED:20190607T191654Z
UID:2516-1566172800-1566259199@pcche.org
SUMMARY:First Day of Fall Co-op
DESCRIPTION:We are looking forward to a fantastic semester! Be sure to double check the supply list for classes so that your students are all ready to go.
URL:https://pcche.org/calendar/first-day-of-fall-co-op/
ORGANIZER;CN="Amy Ferguson":MAILTO:coopdirector@pcche.org
END:VEVENT
BEGIN:VEVENT
DTSTART;VALUE=DATE:20190812
DTEND;VALUE=DATE:20190813
DTSTAMP:20260425T153632
CREATED:20190607T190248Z
LAST-MODIFIED:20190607T191742Z
UID:2514-1565568000-1565654399@pcche.org
SUMMARY:New Member and Teacher Orientation
DESCRIPTION:Stay tuned for more details! \nTimes: TBD
URL:https://pcche.org/calendar/new-member-and-teacher-orientation/
LOCATION:Spring Creek Baptist Church\, 100 Spring Creek\, Weatherford\, TX\, 76087\, United States
END:VEVENT
BEGIN:VEVENT
DTSTART;VALUE=DATE:20190729
DTEND;VALUE=DATE:20190730
DTSTAMP:20260425T153632
CREATED:20190607T181453Z
LAST-MODIFIED:20190607T191826Z
UID:2510-1564358400-1564444799@pcche.org
SUMMARY:Fall Co-op Registration
DESCRIPTION:Time TBA \nPCCHE membership MUST BE COMPLETED BY JULY 22 in order to be eligible for fall co-op registration. \nRegistration for the fall semester is in person on July 29th. You’ll come in with a printed and filled out copy of our registration form (found at pcche.org). We’ll input your classes\, you’ll choose your volunteer positions from our list and you’ll pay for everything. Easy peasy!fAs
URL:https://pcche.org/calendar/fall-co-op-registration/
LOCATION:Spring Creek Baptist Church\, 100 Spring Creek\, Weatherford\, TX\, 76087\, United States
ORGANIZER;CN="Amy Ferguson":MAILTO:coopdirector@pcche.org
END:VEVENT
BEGIN:VEVENT
DTSTART;TZID=UTC:20190714T193000
DTEND;TZID=UTC:20190714T220000
DTSTAMP:20260425T153632
CREATED:20190607T172948Z
LAST-MODIFIED:20190607T172948Z
UID:2502-1563132600-1563141600@pcche.org
SUMMARY:PCCHE Family Swim
DESCRIPTION:Join us for a private pool party! \nWeatherford Cherry Park Pool\n302 West Lee Avenue\nSunday evening\nJuly 14\n7:30-10:00 \nFor the entire family!\nPCCHE members only\, bring a snack to share!\nThere is no cost to our members\, but please RSVP quickly as space is limited. If you RSVP and then realize your family won’t be able to come\, please let us know.\n\nThere will be city lifeguards on duty! \nOut of respect for others\, we ask that you dress modestly. Ladies\, please wear a one piece swim suit or cover and gentlemen swimmers will need to have shirt on and please leave your speedos at home. Thank you ❤️❤️❤️ \nPlease click the button to show your family will be there\, then comment the total number of swimmers that will be there from your family! You may just bring the kiddos to swim and the parents can watch and visit if they would like! We are only counting the number of people who will be in the pool.
URL:https://pcche.org/calendar/pcche-family-swim/
LOCATION:Cherry Park Pool\, 302 West Lee Avenue\, Weatherford\, TX\, 76086\, United States
END:VEVENT
BEGIN:VEVENT
DTSTART;TZID=America/Mexico_City:20190614T123000
DTEND;TZID=America/Mexico_City:20190614T200000
DTSTAMP:20260425T153632
CREATED:20190607T175811Z
LAST-MODIFIED:20190607T191956Z
UID:2505-1560515400-1560542400@pcche.org
SUMMARY:Old School Arcade
DESCRIPTION:Please join us for an afternoon of arcade games! Let’s meet at Old School Arcade\, 462 Halsell Road\, Mineral Wells\, at noon on Friday\, June 14. \nOld School Arcade charges fifteen dollars per person. That price covers 120 arcade games and you may play all day until closing at 8:00 pm. Everyone entering the arcade must pay. Your hand will be stamped\, and you may come and go as you would like. There is a snack bar and while no food or drinks may be brought in\, there are picnic tables outside for picnics or take out from a restaurant. I have never been\, but if there are any questions\, let me know and I will try to find out the answer. Hope to see you all there! \nThis is for all ages! Not just the teens!
URL:https://pcche.org/calendar/old-school-arcade/
LOCATION:Old School Arcade\, 462 Halsell Rd.\, Mineral Wells\, TX\, 76067\, United States
END:VEVENT
BEGIN:VEVENT
DTSTART;TZID=UTC:20190607T080000
DTEND;TZID=UTC:20190607T170000
DTSTAMP:20260425T153632
CREATED:20190607T194920Z
LAST-MODIFIED:20190607T194920Z
UID:2529-1559894400-1559926800@pcche.org
SUMMARY:Parents Night/Last Day of Co-op
DESCRIPTION:May the 4th be with you! Fun things are on the horizon for this last day of spring co-op! \nParents night will be held in the evening and we ask that each family bring a dish/dishes to share at our time of fellowship immediately following the students showcase.
URL:https://pcche.org/calendar/parents-night-last-day-of-co-op-2/
END:VEVENT
BEGIN:VEVENT
DTSTART;TZID=UTC:20190514T080000
DTEND;TZID=UTC:20190514T170000
DTSTAMP:20260425T153632
CREATED:20190328T151318Z
LAST-MODIFIED:20190328T151318Z
UID:2331-1557820800-1557853200@pcche.org
SUMMARY:Teen get-together!
DESCRIPTION:Please see Renee for information!
URL:https://pcche.org/calendar/teen-get-together-4/
END:VEVENT
BEGIN:VEVENT
DTSTART;TZID=UTC:20190506T183000
DTEND;TZID=UTC:20190506T203000
DTSTAMP:20260425T153632
CREATED:20190117T155715Z
LAST-MODIFIED:20190117T155715Z
UID:2303-1557167400-1557174600@pcche.org
SUMMARY:Parent’s Night
DESCRIPTION:Come join us as well celebrate all the things our children accomplished and learned this semester! Parent’s night starts at 6:30 in the Sanctuary at Spring Creek Baptist Church.
URL:https://pcche.org/calendar/parents-night-2/
END:VEVENT
BEGIN:VEVENT
DTSTART;TZID=UTC:20190504T180000
DTEND;TZID=UTC:20190504T180000
DTSTAMP:20260425T153632
CREATED:20190328T171025Z
LAST-MODIFIED:20190328T171025Z
UID:2335-1556992800-1556992800@pcche.org
SUMMARY:Prom Alternative!
DESCRIPTION:Teens! Come hang out and enjoy a Murder Mystery Dinner with your friends! More information to come!
URL:https://pcche.org/calendar/prom-alternative/
END:VEVENT
BEGIN:VEVENT
DTSTART;TZID=UTC:20190504T090000
DTEND;TZID=UTC:20190504T110000
DTSTAMP:20260425T153632
CREATED:20190328T222816Z
LAST-MODIFIED:20190328T222816Z
UID:2340-1556960400-1556967600@pcche.org
SUMMARY:Ballet 2 Rehearsal
DESCRIPTION:**2nd Hour Ballet Students** \nRehearsal for Parents Night will be held at Footworks Performing Arts Center in Weatherford from 9:00 until 11:00am on Saturday\, May 4th. Please plan to attend as this rehearsal is an important component of their performance.
URL:https://pcche.org/calendar/ballet-2-rehearsal/
LOCATION:Footworks Performing Arts\, 1717 Bethel Rd.\, Weatherford\, TX\, 76086\, United States
ORGANIZER;CN="Emily Robinson":MAILTO:vicepresident@pcche.org
END:VEVENT
BEGIN:VEVENT
DTSTART;TZID=UTC:20190503T080000
DTEND;TZID=UTC:20190503T170000
DTSTAMP:20260425T153632
CREATED:20190328T173609Z
LAST-MODIFIED:20190328T173609Z
UID:2338-1556870400-1556902800@pcche.org
SUMMARY:Thurber Ghost Town Tour
DESCRIPTION:$2 per person. \nTour begins at 10 am. \nAll additional information is listed in the Field Trippin’ with PCCHE Facebook group.
URL:https://pcche.org/calendar/thurber-ghost-town-tour/
END:VEVENT
BEGIN:VEVENT
DTSTART;TZID=UTC:20190429T133000
DTEND;TZID=UTC:20190429T133000
DTSTAMP:20260425T153632
CREATED:20190415T210408Z
LAST-MODIFIED:20190416T150926Z
UID:2355-1556544600-1556544600@pcche.org
SUMMARY:Board nominations due
DESCRIPTION:Any nomination must be submitted by 1:30 pm.
URL:https://pcche.org/calendar/board-nominations-due/
END:VEVENT
BEGIN:VEVENT
DTSTART;TZID=UTC:20190429T080000
DTEND;TZID=UTC:20190429T170000
DTSTAMP:20260425T153632
CREATED:20190117T154756Z
LAST-MODIFIED:20190415T182309Z
UID:2291-1556524800-1556557200@pcche.org
SUMMARY:Fiesta day!
DESCRIPTION:Be festive with sombreros and ponchos! Happy early Cinco de Mayo. \nOrdering from Rosa’s.
URL:https://pcche.org/calendar/fiesta-day/
END:VEVENT
BEGIN:VEVENT
DTSTART;TZID=UTC:20190426T103000
DTEND;TZID=UTC:20190426T120000
DTSTAMP:20260425T153632
CREATED:20180917T211733Z
LAST-MODIFIED:20180917T211733Z
UID:2174-1556274600-1556280000@pcche.org
SUMMARY:Casa Manana - The Wizard of Oz
DESCRIPTION:Please email Karen Sorah at karen@familylearningtogether.com or call/text 817 884-6339 $10/each
URL:https://pcche.org/calendar/casa-manana-the-wizard-of-oz/
END:VEVENT
BEGIN:VEVENT
DTSTART;TZID=UTC:20190424T093000
DTEND;TZID=UTC:20190424T150000
DTSTAMP:20260425T153632
CREATED:20190415T214454Z
LAST-MODIFIED:20190415T214454Z
UID:2358-1556098200-1556118000@pcche.org
SUMMARY:Field day!
DESCRIPTION:Come out and join us for a field day full of fun\, races\, and unexpected surprises! \nStart time 9:30 \nPlease bring a sack lunch\, and a change of clothes. \nField day should be wrapping up around 2 pm.
URL:https://pcche.org/calendar/field-day/
END:VEVENT
BEGIN:VEVENT
DTSTART;TZID=UTC:20190417T100000
DTEND;TZID=UTC:20190417T120000
DTSTAMP:20260425T153632
CREATED:20190117T155514Z
LAST-MODIFIED:20190117T160239Z
UID:2301-1555495200-1555502400@pcche.org
SUMMARY:Easter egg hunt
DESCRIPTION:PCCHE Easter egg hunt! Starts at 10am!
URL:https://pcche.org/calendar/easter-egg-hunt/
END:VEVENT
BEGIN:VEVENT
DTSTART;TZID=UTC:20190415T133000
DTEND;TZID=UTC:20190415T143000
DTSTAMP:20260425T153632
CREATED:20190328T151519Z
LAST-MODIFIED:20190328T151519Z
UID:2333-1555335000-1555338600@pcche.org
SUMMARY:Southwest Dairy Farmers Mobile Classroom
DESCRIPTION:Please join us at 1:45 at Springcreek Baptist Church for an informative lesson on dairy farming!
URL:https://pcche.org/calendar/southwest-dairy-farmers-mobile-classroom/
END:VEVENT
BEGIN:VEVENT
DTSTART;TZID=UTC:20190409T120000
DTEND;TZID=UTC:20190409T170000
DTSTAMP:20260425T153632
CREATED:20190328T151112Z
LAST-MODIFIED:20190328T151112Z
UID:2329-1554811200-1554829200@pcche.org
SUMMARY:Teen get-together!
DESCRIPTION:Please see Renee for information!
URL:https://pcche.org/calendar/teen-get-together-3/
END:VEVENT
BEGIN:VEVENT
DTSTART;TZID=UTC:20190408T080000
DTEND;TZID=UTC:20190408T170000
DTSTAMP:20260425T153632
CREATED:20190117T154632Z
LAST-MODIFIED:20190117T154632Z
UID:2289-1554710400-1554742800@pcche.org
SUMMARY:Stand up for Jesus day
DESCRIPTION:Wear Christian t-shirts/attire/jewelry and be bold for Jesus. \nOrdering from Chic-Fil-A.
URL:https://pcche.org/calendar/stand-up-for-jesus-day/
END:VEVENT
BEGIN:VEVENT
DTSTART;TZID=UTC:20190330T160000
DTEND;TZID=UTC:20190330T180000
DTSTAMP:20260425T153632
CREATED:20190117T155415Z
LAST-MODIFIED:20190327T162556Z
UID:2299-1553961600-1553968800@pcche.org
SUMMARY:Family Night
DESCRIPTION:Let’s get together and fellowship! We will be hosting a potluck and playing games! \nSpring Creek Baptist Church at 4pm.
URL:https://pcche.org/calendar/family-night/
END:VEVENT
BEGIN:VEVENT
DTSTART;TZID=UTC:20190329T110000
DTEND;TZID=UTC:20190329T140000
DTSTAMP:20260425T153632
CREATED:20190131T153358Z
LAST-MODIFIED:20190327T163211Z
UID:2318-1553857200-1553868000@pcche.org
SUMMARY:CR Smith Museum Field Trip
DESCRIPTION:Adults are $4.00 each and students 2 and up are $3.00 \nRSVP to Emily Robinson required at vicepresiden@pcche.org OR on the PCCHE Field Trip FB page. \nCheck out the website for more information! \nHome
URL:https://pcche.org/calendar/cr-smith-museum-field-trip/
LOCATION:CR Smith Museum\, 4601 Hwy 360\, Fort Worth\, TX\, 76155\, United States
CATEGORIES:Field Trip
ORGANIZER;CN="Emily Robinson":MAILTO:vicepresident@pcche.org
END:VEVENT
BEGIN:VEVENT
DTSTART;TZID=UTC:20190329T080000
DTEND;TZID=UTC:20190329T170000
DTSTAMP:20260425T153632
CREATED:20190117T155927Z
LAST-MODIFIED:20190327T163139Z
UID:2307-1553846400-1553878800@pcche.org
SUMMARY:C.R. Smith Museum
DESCRIPTION:Field trip!
URL:https://pcche.org/calendar/c-r-smith-museum/
END:VEVENT
BEGIN:VEVENT
DTSTART;TZID=UTC:20190322T103000
DTEND;TZID=UTC:20190322T120000
DTSTAMP:20260425T153632
CREATED:20180917T211604Z
LAST-MODIFIED:20180917T211604Z
UID:2172-1553250600-1553256000@pcche.org
SUMMARY:Casa Manana - Jason Bishop: The Illusionist
DESCRIPTION:Please email Karen Sorah at karen@familylearningtogether.com or call/text 817 884-6339 $7.50/each
URL:https://pcche.org/calendar/casa-manana-jason-bishop-the-illusionist/
END:VEVENT
END:VCALENDAR