BEGIN:VCALENDAR
VERSION:2.0
PRODID:-// - ECPv6.15.13//NONSGML v1.0//EN
CALSCALE:GREGORIAN
METHOD:PUBLISH
X-ORIGINAL-URL:https://pcche.org
X-WR-CALDESC:Events for 
REFRESH-INTERVAL;VALUE=DURATION:PT1H
X-Robots-Tag:noindex
X-PUBLISHED-TTL:PT1H
BEGIN:VTIMEZONE
TZID:UTC
BEGIN:STANDARD
TZOFFSETFROM:+0000
TZOFFSETTO:+0000
TZNAME:UTC
DTSTART:20180101T000000
END:STANDARD
END:VTIMEZONE
BEGIN:VTIMEZONE
TZID:America/Mexico_City
BEGIN:DAYLIGHT
TZOFFSETFROM:-0600
TZOFFSETTO:-0500
TZNAME:CDT
DTSTART:20180401T080000
END:DAYLIGHT
BEGIN:STANDARD
TZOFFSETFROM:-0500
TZOFFSETTO:-0600
TZNAME:CST
DTSTART:20181028T070000
END:STANDARD
BEGIN:DAYLIGHT
TZOFFSETFROM:-0600
TZOFFSETTO:-0500
TZNAME:CDT
DTSTART:20190407T080000
END:DAYLIGHT
BEGIN:STANDARD
TZOFFSETFROM:-0500
TZOFFSETTO:-0600
TZNAME:CST
DTSTART:20191027T070000
END:STANDARD
BEGIN:DAYLIGHT
TZOFFSETFROM:-0600
TZOFFSETTO:-0500
TZNAME:CDT
DTSTART:20200405T080000
END:DAYLIGHT
BEGIN:STANDARD
TZOFFSETFROM:-0500
TZOFFSETTO:-0600
TZNAME:CST
DTSTART:20201025T070000
END:STANDARD
END:VTIMEZONE
BEGIN:VEVENT
DTSTART;TZID=UTC:20200221T100000
DTEND;TZID=UTC:20200221T120000
DTSTAMP:20260425T161909
CREATED:20200212T151244Z
LAST-MODIFIED:20200212T151244Z
UID:2822-1582279200-1582286400@pcche.org
SUMMARY:Skate day!
DESCRIPTION:Homeschool skate day at Granbury Skating Rink. Cost is $5 per skater. 10am-12pm.
URL:https://pcche.org/calendar/skate-day/
END:VEVENT
BEGIN:VEVENT
DTSTART;TZID=UTC:20200220T180000
DTEND;TZID=UTC:20200220T200000
DTSTAMP:20260425T161909
CREATED:20200212T150951Z
LAST-MODIFIED:20200212T150951Z
UID:2820-1582221600-1582228800@pcche.org
SUMMARY:Mom-to-Mom
DESCRIPTION:Moms! Come join us at Rosa’s for an evening of fellowship and food! 6 pm.
URL:https://pcche.org/calendar/mom-to-mom/
END:VEVENT
BEGIN:VEVENT
DTSTART;VALUE=DATE:20200215
DTEND;VALUE=DATE:20200216
DTSTAMP:20260425T161909
CREATED:20200212T150751Z
LAST-MODIFIED:20200212T150751Z
UID:2818-1581724800-1581811199@pcche.org
SUMMARY:Destination Imagination Tournament
DESCRIPTION:
URL:https://pcche.org/calendar/destination-imagination-tournament/
END:VEVENT
BEGIN:VEVENT
DTSTART;TZID=UTC:20200214T130000
DTEND;TZID=UTC:20200214T150000
DTSTAMP:20260425T161909
CREATED:20190816T152929Z
LAST-MODIFIED:20190816T152929Z
UID:2647-1581685200-1581692400@pcche.org
SUMMARY:PCCHE Valentine's Day Party
DESCRIPTION:Save the Date for our annual Valentine party!\nThis event is open to all PCCHE members.\nDetails TBA
URL:https://pcche.org/calendar/pcche-valentines-day-party/
END:VEVENT
BEGIN:VEVENT
DTSTART;TZID=UTC:20200207T100000
DTEND;TZID=UTC:20200207T120000
DTSTAMP:20260425T161909
CREATED:20190816T152810Z
LAST-MODIFIED:20190816T152810Z
UID:2645-1581069600-1581076800@pcche.org
SUMMARY:Casa Manana - Frank-N-Friend
DESCRIPTION:Frank-N-Friend\nFriday\, February 7\, 2020 at 10:30 am\nPlease RSVP now and remit payment by December 31\, 2019 for this performance. This show is $7.50/person age 1 and over.\nRSVP to: karen@familylearningtogether.com\nMail your payment to:\nKaren Sorah 491 Green Meadows Cir\, Springtown\, TX 76082. \nFrank-N-Friend\nIt’s been a big first day for super-smart Oliver\, the new kid in school. He made two cool new friends\, Michael and Kendra\, but he also ran into Butch\, the dreaded school bully. Butch may be out to get the new kid\, but Oliver has a plan. With the help of his new friends and an advanced\, top secret computer\, Oliver builds Frank-N-Friend: the fastest\, strongest and coolest protector a kid has ever had! But along the way\, Frank has a few things to share about what it means to be a friend in this new musical for the entire family.
URL:https://pcche.org/calendar/casa-manana-frank-n-friend/
END:VEVENT
BEGIN:VEVENT
DTSTART;VALUE=DATE:20200203
DTEND;VALUE=DATE:20200204
DTSTAMP:20260425T161909
CREATED:20190607T192738Z
LAST-MODIFIED:20190607T192744Z
UID:2525-1580688000-1580774399@pcche.org
SUMMARY:First Day of Spring Co-op
DESCRIPTION:Double check the supply lists for your students’ classes and come kick off a new semester with us!
URL:https://pcche.org/calendar/first-day-of-spring-co-op/
ORGANIZER;CN="Amy Ferguson":MAILTO:coopdirector@pcche.org
END:VEVENT
BEGIN:VEVENT
DTSTART;TZID=UTC:20200117T183000
DTEND;TZID=UTC:20200117T210000
DTSTAMP:20260425T161909
CREATED:20190816T152121Z
LAST-MODIFIED:20190816T152121Z
UID:2643-1579285800-1579294800@pcche.org
SUMMARY:Chili Cook-off and Movie Night
DESCRIPTION:Join us for a family movie night and chili cook-off! Spicy\, mild\, with beans\, without beans\, vegetarian – all recipes are welcomed and will be judged by different categories. We will post a signup sheet for side dishes\, desserts\, fixin’s\, etc. as the date gets closer. We will also have popcorn\, hot cocoa\, and cookies to snack on while the movie plays.
URL:https://pcche.org/calendar/chili-cook-off-and-movie-night/
END:VEVENT
BEGIN:VEVENT
DTSTART;VALUE=DATE:20200113
DTEND;VALUE=DATE:20200114
DTSTAMP:20260425T161909
CREATED:20190607T192511Z
LAST-MODIFIED:20190607T192513Z
UID:2523-1578873600-1578959999@pcche.org
SUMMARY:Spring Co-op Registration
DESCRIPTION:We will post more details as we have them. 🙂
URL:https://pcche.org/calendar/spring-co-op-registration/
ORGANIZER;CN="Amy Ferguson":MAILTO:coopdirector@pcche.org
END:VEVENT
BEGIN:VEVENT
DTSTART;TZID=UTC:20191220T100000
DTEND;TZID=UTC:20191220T120000
DTSTAMP:20260425T161909
CREATED:20190816T151913Z
LAST-MODIFIED:20190816T151913Z
UID:2641-1576836000-1576843200@pcche.org
SUMMARY:Casa Manana - Jack Frost
DESCRIPTION:Jack Frost\nFriday\, December 20\, 2019 at 10:30 am\nPlease RSVP now and remit payment by November 1st for this performance. This show is $10/person age 1 and over.\nRSVP to: karen@familylearningtogether.com\nMail your payment to:\nKaren Sorah 491 Green Meadows Cir\, Springtown\, TX 76082. \nJack Frost\nJack is living the perfect life\, spending his days making spectacular ice sculptures and hanging with his friends in the Frozen Kingdom. One day tragedy strikes\, and Jack\, along with his friends\, is banished from the kingdom by his evil uncle – who wants to destroy the world with a new ice age! Can a band of snowy misfits help Jack find his destiny and restore order to the kingdom? Santa Claus himself narrates this holiday spectacular where adventure awaits at every turn!
URL:https://pcche.org/calendar/casa-manana-jack-frost/
END:VEVENT
BEGIN:VEVENT
DTSTART;TZID=UTC:20191212T180000
DTEND;TZID=UTC:20191212T200000
DTSTAMP:20260425T161909
CREATED:20190816T151743Z
LAST-MODIFIED:20190816T151743Z
UID:2639-1576173600-1576180800@pcche.org
SUMMARY:Mom-to-Mom Christmas Party
DESCRIPTION:Plan join us in December at Laura Welty’s home for dinner and cookie exchange!!!
URL:https://pcche.org/calendar/mom-to-mom-christmas-party/
END:VEVENT
BEGIN:VEVENT
DTSTART;TZID=UTC:20191206T140000
DTEND;TZID=UTC:20191206T160000
DTSTAMP:20260425T161909
CREATED:20190816T151600Z
LAST-MODIFIED:20190816T151600Z
UID:2637-1575640800-1575648000@pcche.org
SUMMARY:PCCHE Christmas Party
DESCRIPTION:Save the Date for our annual Christmas party!\nThis event is open to all PCCHE members.\nDetails TBA
URL:https://pcche.org/calendar/pcche-christmas-party/
END:VEVENT
BEGIN:VEVENT
DTSTART;TZID=America/Mexico_City:20191118T183000
DTEND;TZID=America/Mexico_City:20191118T210000
DTSTAMP:20260425T161909
CREATED:20190607T191330Z
LAST-MODIFIED:20191118T215024Z
UID:2520-1574101800-1574110800@pcche.org
SUMMARY:Parents Night/Last Day of Co-op
DESCRIPTION:Feel free to bring guests and come enjoy seeing what the kids have been working on all semester! We ask that each family bring a dish/dishes to share at a time of fellowship directly following. \nMore details to come.
URL:https://pcche.org/calendar/parents-night-last-day-of-co-op/
END:VEVENT
BEGIN:VEVENT
DTSTART;TZID=UTC:20191111T100000
DTEND;TZID=UTC:20191111T133000
DTSTAMP:20260425T161909
CREATED:20190828T205412Z
LAST-MODIFIED:20190828T205441Z
UID:2688-1573466400-1573479000@pcche.org
SUMMARY:Co-op - 'Red\, White\, Blue\, & BBQ'
DESCRIPTION:In honor of Veteran’s Day\, dress in the patriotic colors of red\, white\, and blue!
URL:https://pcche.org/calendar/co-op-red-white-blue-bbq/
END:VEVENT
BEGIN:VEVENT
DTSTART;TZID=UTC:20191108T140000
DTEND;TZID=UTC:20191110T120000
DTSTAMP:20260425T161909
CREATED:20190728T024750Z
LAST-MODIFIED:20190728T024933Z
UID:2610-1573221600-1573387200@pcche.org
SUMMARY:1st annual PCCHE family camping trip
DESCRIPTION:Join us for our first annual PCCHE family camping trip at Mineral Wells State Park on Friday and Saturday nights\, November 8 & 9! \nFor more information on how to attend this event\, please reach out to board@pcche.org.
URL:https://pcche.org/calendar/1st-annual-pcche-family-camping-trip/
END:VEVENT
BEGIN:VEVENT
DTSTART;TZID=UTC:20191030T093000
DTEND;TZID=UTC:20191030T120000
DTSTAMP:20260425T161909
CREATED:20190925T210503Z
LAST-MODIFIED:20190925T210503Z
UID:2701-1572427800-1572436800@pcche.org
SUMMARY:BRIT homeschool day
DESCRIPTION:Botanical Research Institute of Texas! \nCome and GROW with us as we explore at the Fort Worth Botanical Gardens! Must Register through the BRIT and the cost is only $5! \nSee Facebook or Amy Ferguson for more details!
URL:https://pcche.org/calendar/brit-homeschool-day/
END:VEVENT
BEGIN:VEVENT
DTSTART;TZID=UTC:20191028T100000
DTEND;TZID=UTC:20191028T133000
DTSTAMP:20260425T161909
CREATED:20190828T205233Z
LAST-MODIFIED:20190828T205233Z
UID:2686-1572256800-1572269400@pcche.org
SUMMARY:Co-op - 'Costume and Chic-Fil-A Day'
DESCRIPTION:Dress up as historical or storybook characters. \n 
URL:https://pcche.org/calendar/co-op-costume-and-chic-fil-a-day/
END:VEVENT
BEGIN:VEVENT
DTSTART;TZID=UTC:20191017T180000
DTEND;TZID=UTC:20191017T200000
DTSTAMP:20260425T161909
CREATED:20190816T151336Z
LAST-MODIFIED:20190816T151336Z
UID:2635-1571335200-1571342400@pcche.org
SUMMARY:Mom-to-Mom fellowship
DESCRIPTION:Angela has graciously offered to open her home for an evening of fellowship for any of our PCCHE moms who would like to get together for a sweet time of community! Please plan to join us!
URL:https://pcche.org/calendar/mom-to-mom-fellowship-2/
END:VEVENT
BEGIN:VEVENT
DTSTART;TZID=UTC:20191016T130000
DTEND;TZID=UTC:20191016T170000
DTSTAMP:20260425T161909
CREATED:20190917T183244Z
LAST-MODIFIED:20190917T183244Z
UID:2693-1571230800-1571245200@pcche.org
SUMMARY:Institute for Creation Research
DESCRIPTION:
URL:https://pcche.org/calendar/institute-for-creation-research/
END:VEVENT
BEGIN:VEVENT
DTSTART;TZID=UTC:20191010T100000
DTEND;TZID=UTC:20191010T140000
DTSTAMP:20260425T161909
CREATED:20190925T205942Z
LAST-MODIFIED:20190925T205942Z
UID:2699-1570701600-1570716000@pcche.org
SUMMARY:Dinosaur Valley State Park
DESCRIPTION:Meet at 10am! Let’s hike and explore nature along the Paluxy River! Students 12 and under are free\, adults are $12.
URL:https://pcche.org/calendar/dinosaur-valley-state-park/
END:VEVENT
BEGIN:VEVENT
DTSTART;TZID=UTC:20191004T110000
DTEND;TZID=UTC:20191004T170000
DTSTAMP:20260425T161909
CREATED:20190816T150120Z
LAST-MODIFIED:20190816T150120Z
UID:2624-1570186800-1570208400@pcche.org
SUMMARY:School Portraits!
DESCRIPTION:It’s school portrait time again! Sue Wells Photography will be taking our portraits again this year. She is always so great to work with – so patient with the kids! She offers many different packages that are all reasonably priced. These portraits are sent over to the yearbook coordinator if you would like your child’s picture in the yearbook. Shana Gentry will have appointment sheets for scheduling in the next month or so\, but wanted everyone to go ahead and get the dates on their calendars.
URL:https://pcche.org/calendar/school-portraits-2/
END:VEVENT
BEGIN:VEVENT
DTSTART;TZID=UTC:20191004T100000
DTEND;TZID=UTC:20191004T120000
DTSTAMP:20260425T161909
CREATED:20190816T151027Z
LAST-MODIFIED:20190816T151027Z
UID:2632-1570183200-1570190400@pcche.org
SUMMARY:Casa Manana - Tuck Everlasting
DESCRIPTION:Tuck Everlasting\nFriday\, October 4\, 2019 at 10:30 am\nPlease RSVP now and remit payment by August 30th for this performance. This show is $7.50 /person age 1 and over.\nRSVP to: karen@familylearningtogether.com\nMail your payment to:\nKaren Sorah 491 Green Meadows Cir\, Springtown\, TX 76082. \nTuck Everlasting\nWhat would you do if you had\nall eternity? Based on the best-selling children’s classic by Natalie Babbitt\, Tuck Everlasting tells the story of eleven-year-old Winnie Foster\, who yearns for a life of adventure beyond her white picket fence. When she becomes unexpectedly entwined with\nthe Tuck Family\, she gets more than she could have ever imagined. After learning about the magic behind the Tucks’ unending youth\, Winnie must fight to protect their secret from those who would do anything for a chance at eternal life. As her adventure unfolds\,\nWinnie faces an extraordinary choice: return to her life or continue with the Tucks on their infinite journey.
URL:https://pcche.org/calendar/casa-manana-tuck-everlasting/
END:VEVENT
BEGIN:VEVENT
DTSTART;TZID=UTC:20191003T140000
DTEND;TZID=UTC:20191003T170000
DTSTAMP:20260425T161909
CREATED:20190816T150009Z
LAST-MODIFIED:20190816T150009Z
UID:2622-1570111200-1570122000@pcche.org
SUMMARY:School Portraits!
DESCRIPTION:It’s school portrait time again! Sue Wells Photography will be taking our portraits again this year. She is always so great to work with – so patient with the kids! She offers many different packages that are all reasonably priced. These portraits are sent over to the yearbook coordinator if you would like your child’s picture in the yearbook. Shana Gentry will have appointment sheets for scheduling in the next month or so\, but wanted everyone to go ahead and get the dates on their calendars.
URL:https://pcche.org/calendar/school-portraits/
END:VEVENT
BEGIN:VEVENT
DTSTART;TZID=UTC:20191001T093000
DTEND;TZID=UTC:20191001T123000
DTSTAMP:20260425T161909
CREATED:20190917T183103Z
LAST-MODIFIED:20190917T183103Z
UID:2691-1569922200-1569933000@pcche.org
SUMMARY:Penitentiary Hollow Hike
DESCRIPTION:
URL:https://pcche.org/calendar/penitentiary-hollow-hike/
END:VEVENT
BEGIN:VEVENT
DTSTART;TZID=UTC:20190930T100000
DTEND;TZID=UTC:20190930T133000
DTSTAMP:20260425T161909
CREATED:20190828T204804Z
LAST-MODIFIED:20190828T205114Z
UID:2684-1569837600-1569850200@pcche.org
SUMMARY:Co-op - 'Jersey and Jimmy Johns Day'
DESCRIPTION:Wear your favorite team’s jersey or shirt and sports attire!
URL:https://pcche.org/calendar/co-op-jersey-and-jimmy-johns-day/
END:VEVENT
BEGIN:VEVENT
DTSTART;TZID=UTC:20190926T090000
DTEND;TZID=UTC:20190926T110000
DTSTAMP:20260425T161909
CREATED:20190816T154104Z
LAST-MODIFIED:20190816T154104Z
UID:2657-1569488400-1569495600@pcche.org
SUMMARY:Library Field Trip
DESCRIPTION:This field trip is geared toward ages 5th grade and under. Information covered will include library rules and etiquette\, searching for titles by subject matter and author\, general layout of the library and story time. This will also be a great opportunity to get library cards after the tour. \nWe will need a hard headcount one week prior to the event. Please RSVP and let us know total number attending.
URL:https://pcche.org/calendar/library-field-trip/
END:VEVENT
BEGIN:VEVENT
DTSTART;TZID=UTC:20190925T100000
DTEND;TZID=UTC:20190925T110000
DTSTAMP:20260425T161909
CREATED:20190816T211901Z
LAST-MODIFIED:20190816T211901Z
UID:2661-1569405600-1569409200@pcche.org
SUMMARY:See You At The Pole
DESCRIPTION:All of PCCHE is invited to join us at 10:00 am at the Courthouse flag pole to participate in PCCHE’s See You At The Pole prayer time.
URL:https://pcche.org/calendar/see-you-at-the-pole/
END:VEVENT
BEGIN:VEVENT
DTSTART;TZID=UTC:20190924T110000
DTEND;TZID=UTC:20190924T130000
DTSTAMP:20260425T161909
CREATED:20190816T212702Z
LAST-MODIFIED:20190816T212702Z
UID:2668-1569322800-1569330000@pcche.org
SUMMARY:TEEN Pizza Lunch and Scavenger Hunt
DESCRIPTION:Pizza at Cici’s! More details to come! \nPlease contact Renee Hubbard for any questions.
URL:https://pcche.org/calendar/teen-pizza-lunch-and-scavenger-hunt/
END:VEVENT
BEGIN:VEVENT
DTSTART;TZID=UTC:20190919T180000
DTEND;TZID=UTC:20190919T200000
DTSTAMP:20260425T161909
CREATED:20190816T150805Z
LAST-MODIFIED:20190816T150805Z
UID:2630-1568916000-1568923200@pcche.org
SUMMARY:El Fenix - Mom-to-Mom Fellowship
DESCRIPTION:Come grab some yummy Mexican food and enjoy an evening of fellowship!
URL:https://pcche.org/calendar/el-fenix-mom-to-mom-fellowship/
END:VEVENT
BEGIN:VEVENT
DTSTART;TZID=UTC:20190919T150000
DTEND;TZID=UTC:20190919T160000
DTSTAMP:20260425T161909
CREATED:20190816T212406Z
LAST-MODIFIED:20190816T212406Z
UID:2666-1568905200-1568908800@pcche.org
SUMMARY:Tennis Lessons
DESCRIPTION:For registered participants\, this is the first day of tennis lessons. Starting at 3pm at Soldier Springs Park tennis courts.
URL:https://pcche.org/calendar/tennis-lessons/
END:VEVENT
BEGIN:VEVENT
DTSTART;TZID=UTC:20190913T100000
DTEND;TZID=UTC:20190913T130000
DTSTAMP:20260425T161909
CREATED:20190816T150555Z
LAST-MODIFIED:20190816T150555Z
UID:2628-1568368800-1568379600@pcche.org
SUMMARY:Frisbee Golf and Lunch
DESCRIPTION:Come meet us for a fun game of frisbee golf! Afterwards\, we will be having a picnic lunch at Lake Weatherford. #getoutside \nThis event is intended for ALL PCCHE members\, big and small 😊 \n**if you have a frisbee please bring it! \nLocated on 115 E Lake Drive on the corner of Mikus Road and East Lake Drive at Lake Weatherford.
URL:https://pcche.org/calendar/frisbee-golf-and-lunch/
END:VEVENT
END:VCALENDAR