BEGIN:VCALENDAR
VERSION:2.0
PRODID:-// - ECPv6.15.13//NONSGML v1.0//EN
CALSCALE:GREGORIAN
METHOD:PUBLISH
X-ORIGINAL-URL:https://pcche.org
X-WR-CALDESC:Events for 
REFRESH-INTERVAL;VALUE=DURATION:PT1H
X-Robots-Tag:noindex
X-PUBLISHED-TTL:PT1H
BEGIN:VTIMEZONE
TZID:UTC
BEGIN:STANDARD
TZOFFSETFROM:+0000
TZOFFSETTO:+0000
TZNAME:UTC
DTSTART:20180101T000000
END:STANDARD
END:VTIMEZONE
BEGIN:VEVENT
DTSTART;TZID=UTC:20200909T100000
DTEND;TZID=UTC:20200909T120000
DTSTAMP:20260425T163817
CREATED:20200818T142653Z
LAST-MODIFIED:20200818T143031Z
UID:3092-1599645600-1599652800@pcche.org
SUMMARY:Monthly Park Day
DESCRIPTION:Though open to children of all ages\, this event has been created intentionally for those with younger children who desire a monthly meet up with other PCCHE moms. As this will be an informal gathering\, please keep your RSVP’s up to date so that other moms will know who will be attending and who to look for at the park. Please feel free to communicate on this event post with other attendees to establish an actual meeting place at the park.
URL:https://pcche.org/calendar/monthly-park-day/
END:VEVENT
BEGIN:VEVENT
DTSTART;TZID=UTC:20200831T180000
DTEND;TZID=UTC:20200831T200000
DTSTAMP:20260425T163817
CREATED:20200818T030340Z
LAST-MODIFIED:20200818T030340Z
UID:3086-1598896800-1598904000@pcche.org
SUMMARY:Moms' Night Out at On the Border
DESCRIPTION:Meeting at 6pm! Come grab some yummy Mexican food and enjoy an evening of fellowship! \n 
URL:https://pcche.org/calendar/moms-night-out-at-on-the-border/
END:VEVENT
BEGIN:VEVENT
DTSTART;TZID=UTC:20200829T163000
DTEND;TZID=UTC:20200829T203000
DTSTAMP:20260425T163817
CREATED:20200818T203003Z
LAST-MODIFIED:20200818T203003Z
UID:3095-1598718600-1598733000@pcche.org
SUMMARY:Teen Progressive Dinner
DESCRIPTION:Just for Teens! Join us for an exciting and delicious progressive dinner! We will be enjoying appetizers at the Goff’s home in Aledo\, salad/bread at the Thomas’s home in Willow Park\, the main course at the Gentry’s home in Weatherford\, and dessert at the Lero’s home\, also in Weatherford. Ashlea Ranca and I will both be chauffeuring the teens for the evening. You may either meet us at the Lowe’s in Weatherford at 4:15 to drop your teen off to us\, or you may drop off your teen at the Goff’s house for the first course at 4:30. Their address is 104 Langley Court\, Aledo\, TX 76008. Likewise\, at the end of the evening\, you may either pick up your teen from the Lero’s house\, or we can meet you back at Lowe’s sometime around 8:15-8:30. This event is free\, but a firm RSVP is necessary so that each host family will know how much food to prepare\, and we will know how many need rides. Please comment below how many in your family will be attending the dinner\, as well as your intentions of either dropping off/picking up at the host home or meeting at Lowe’s. Contact me with any questions\, or if you’d like to volunteer ingredients/donations to help one of the host families…we are excited to fellowship house to house with PCCHE’s awesome teens! \nSee Less
URL:https://pcche.org/calendar/teen-progressive-dinner/
END:VEVENT
BEGIN:VEVENT
DTSTART;TZID=UTC:20200828T100000
DTEND;TZID=UTC:20200828T120000
DTSTAMP:20260425T163817
CREATED:20200818T025505Z
LAST-MODIFIED:20200818T025505Z
UID:3080-1598608800-1598616000@pcche.org
SUMMARY:Slip-n-Slide Kickball
DESCRIPTION:Games will begin at 10 am at Greenwood Baptist Church. All ages are welcome! Bring a lawn chair or blanket and some cool beverages and let’s have some fun in the sun! This is an outdoor physical activity so masks will not be required.
URL:https://pcche.org/calendar/slip-n-slide-kickball/
END:VEVENT
BEGIN:VEVENT
DTSTART;TZID=UTC:20200821T100000
DTEND;TZID=UTC:20200821T120000
DTSTAMP:20260425T163817
CREATED:20200818T030204Z
LAST-MODIFIED:20200818T030204Z
UID:3084-1598004000-1598011200@pcche.org
SUMMARY:Homeschool Skate Day
DESCRIPTION:Homeschool Skate Day is back!\nWhen: Every third Friday from August to May\nCost: $6 per skater\nPer the establishment: Masks will be optional. The skating rink has moved and removed tables to help with social distancing. Visitors must stay seated while eating and eat all food in one sitting as any food left on the table will be thrown away immediately.
URL:https://pcche.org/calendar/homeschool-skate-day/
END:VEVENT
BEGIN:VEVENT
DTSTART;TZID=UTC:20200501T100000
DTEND;TZID=UTC:20200501T120000
DTSTAMP:20260425T163817
CREATED:20190816T153528Z
LAST-MODIFIED:20190816T153529Z
UID:2655-1588327200-1588334400@pcche.org
SUMMARY:Casa Manana - Shrek
DESCRIPTION:Shrek the Musical\nFriday\, May 1\, 2020 at 10:30 am\nPlease RSVP now and remit payment by March 30\, 2020 for this performance. This show is $10/person age 1 and over.\nRSVP to: karen@familylearningtogether.com\nMail your payment to:\nKaren Sorah 491 Green Meadows Cir\, Springtown\, TX 76082. \nShrek\n“Once upon a time\, there was\na little ogre named Shrek….” And thus begins the tale of an unlikely hero who finds himself on a life-changing journey alongside a wisecracking Donkey and a feisty princess who resists her own rescue. Throw in a short-tempered bad guy\, a cookie with an attitude and over a dozen other fairy tale misfits\, and you’ve got the kind of mess that calls for a real hero. Luckily\, there’s one on hand… and his name is Shrek. Based on the Oscar-winning\, smash-hit DreamWorks Animation film\, the Tony Award-winning fairytale\nadventure Shrek the Musical brings all the beloved characters you know from the film to life on stage and proves there’s more to the story than meets the ears.
URL:https://pcche.org/calendar/casa-manana-shrek/
END:VEVENT
BEGIN:VEVENT
DTSTART;TZID=UTC:20200425T160000
DTEND;TZID=UTC:20200425T200000
DTSTAMP:20260425T163817
CREATED:20190816T153423Z
LAST-MODIFIED:20190816T153423Z
UID:2653-1587830400-1587844800@pcche.org
SUMMARY:Family BBQ and Yard Games
DESCRIPTION:We are having an old-fashioned Potluck style family BBQ dinner with outdoor/yard games – horseshoes\, washers\, yard Yahtzee\, Jenga\, croquet\, etc. We will post a sign up sheet for food/drink as the date gets closer. We also need people to post what fun outdoor games they already have at home\, so we don’t have to purchase anything. Location and more details to be posted later…
URL:https://pcche.org/calendar/family-bbq-and-yard-games/
END:VEVENT
BEGIN:VEVENT
DTSTART;TZID=UTC:20200408T140000
DTEND;TZID=UTC:20200408T160000
DTSTAMP:20260425T163817
CREATED:20190816T153259Z
LAST-MODIFIED:20190816T153259Z
UID:2651-1586354400-1586361600@pcche.org
SUMMARY:PCCHE Easter Party and Egg Hunt
DESCRIPTION:Save the Date for our annual Easter Party & Egg Hunt!\nThis event is open to all PCCHE members.\nDetails TBA
URL:https://pcche.org/calendar/pcche-easter-party-and-egg-hunt/
END:VEVENT
BEGIN:VEVENT
DTSTART;TZID=UTC:20200406T133000
DTEND;TZID=UTC:20200406T160000
DTSTAMP:20260425T163817
CREATED:20200406T013035Z
LAST-MODIFIED:20200317T190934Z
UID:2832-1586179800-1586188800@pcche.org
SUMMARY:Swap event
DESCRIPTION:Mom’s Swap Event at Spring Creek Baptist Church from 1:30 – 4 pm.
URL:https://pcche.org/calendar/swap-event/
END:VEVENT
BEGIN:VEVENT
DTSTART;TZID=UTC:20200403T100000
DTEND;TZID=UTC:20200403T120000
DTSTAMP:20260425T163817
CREATED:20190816T153100Z
LAST-MODIFIED:20200317T190211Z
UID:2649-1585908000-1585915200@pcche.org
SUMMARY:CANCELLED : Casa Manana - Matilda
DESCRIPTION:Matilda\nFriday\, April 3\, 2020 at 10:30 am\nPlease RSVP now and remit payment by February 28\, 2020 for this performance. This show is $10/person age 1 and over.\nRSVP to: karen@familylearningtogether.com\nMail your payment to:\nKaren Sorah 491 Green Meadows Cir\, Springtown\, TX 76082. \nMatilda\nMatilda is a little girl with\nastonishing wit\, intelligence and psychokinetic powers. She’s unloved by her cruel parents but impresses her schoolteacher\, the highly loveable Miss Honey. Matilda’s school life isn’t completely smooth sailing\, however – the school’s mean headmistress\, Miss\nTrunchbull\, hates children and just loves thinking up new punishments for those who don’t abide by her rules. But Matilda has courage and cleverness in equal amounts and could be the school pupils’ saving grace! Inspired by the twisted genius of Roald Dahl\nand winner of 4 Tony® Awards\, Matilda the Musical revels in the anarchy of childhood and the power of imagination.
URL:https://pcche.org/calendar/casa-manana-matilda/
END:VEVENT
BEGIN:VEVENT
DTSTART;VALUE=DATE:20200327
DTEND;VALUE=DATE:20200328
DTSTAMP:20260425T163817
CREATED:20200212T152400Z
LAST-MODIFIED:20200317T190116Z
UID:2836-1585267200-1585353599@pcche.org
SUMMARY:CANCELLED : National Video Game Museum
DESCRIPTION:Video Game Museum field trip: 8004 North Dallas Parkway Frisco\, TX 75034. All costs and times are tentative still and will be announced when finalized.
URL:https://pcche.org/calendar/national-video-game-museum/
END:VEVENT
BEGIN:VEVENT
DTSTART;TZID=UTC:20200326T150000
DTEND;TZID=UTC:20200326T160000
DTSTAMP:20260425T163817
CREATED:20200212T152520Z
LAST-MODIFIED:20200317T190240Z
UID:2838-1585234800-1585238400@pcche.org
SUMMARY:CANCELLED : Tennis begins!
DESCRIPTION:Tennis lessons for those who registered begin-  3 pm at Solider Springs Park.
URL:https://pcche.org/calendar/tennis-begins/
END:VEVENT
BEGIN:VEVENT
DTSTART;TZID=UTC:20200325T100000
DTEND;TZID=UTC:20200325T120000
DTSTAMP:20260425T163817
CREATED:20200212T152245Z
LAST-MODIFIED:20200317T190720Z
UID:2834-1585130400-1585137600@pcche.org
SUMMARY:CANCELLED : Casa Manana: Matilda
DESCRIPTION:
URL:https://pcche.org/calendar/casa-manana-matilda-2/
END:VEVENT
BEGIN:VEVENT
DTSTART;TZID=UTC:20200318T130000
DTEND;TZID=UTC:20200318T150000
DTSTAMP:20260425T163817
CREATED:20200307T233709Z
LAST-MODIFIED:20200317T190505Z
UID:2846-1584536400-1584543600@pcche.org
SUMMARY:CANCELLED : Fort Grard Archery - Defend the Fort
DESCRIPTION:Come out and get some PE time during spring break! We will be playing Defend the Fort.\nCost is $15 per participant.
URL:https://pcche.org/calendar/fort-grard-archery-defend-the-fort/
END:VEVENT
BEGIN:VEVENT
DTSTART;VALUE=DATE:20200316
DTEND;VALUE=DATE:20200317
DTSTAMP:20260425T163817
CREATED:20200212T151757Z
LAST-MODIFIED:20200212T151757Z
UID:2828-1584316800-1584403199@pcche.org
SUMMARY:Spring Break
DESCRIPTION:
URL:https://pcche.org/calendar/spring-break-2/
END:VEVENT
BEGIN:VEVENT
DTSTART;VALUE=DATE:20200316
DTEND;VALUE=DATE:20200317
DTSTAMP:20260425T163817
CREATED:20190607T192923Z
LAST-MODIFIED:20190607T192929Z
UID:2527-1584316800-1584403199@pcche.org
SUMMARY:Spring Break - No Co-op
DESCRIPTION:Enjoy a week off with your family!
URL:https://pcche.org/calendar/spring-break-no-co-op/
ORGANIZER;CN="Amy Ferguson":MAILTO:coopdirector@pcche.org
END:VEVENT
BEGIN:VEVENT
DTSTART;TZID=UTC:20200310T183000
DTEND;TZID=UTC:20200310T190000
DTSTAMP:20260425T163817
CREATED:20200307T233820Z
LAST-MODIFIED:20200307T233820Z
UID:2848-1583865000-1583866800@pcche.org
SUMMARY:General Meeting
DESCRIPTION:At Spring Creek Baptist Church
URL:https://pcche.org/calendar/general-meeting-2/
END:VEVENT
BEGIN:VEVENT
DTSTART;TZID=UTC:20200304T100000
DTEND;TZID=UTC:20200304T120000
DTSTAMP:20260425T163817
CREATED:20200212T151700Z
LAST-MODIFIED:20200212T151700Z
UID:2826-1583316000-1583323200@pcche.org
SUMMARY:Nature Center and hiking
DESCRIPTION:Field trip to Fort Worth Nature Center.\n9601 Fossil Ridge Rd Fort Worth\, Texas 76135. Class begins at 10 am.
URL:https://pcche.org/calendar/nature-center-and-hiking/
END:VEVENT
BEGIN:VEVENT
DTSTART;TZID=UTC:20200228T180000
DTEND;TZID=UTC:20200228T210000
DTSTAMP:20260425T163817
CREATED:20200212T151418Z
LAST-MODIFIED:20200212T151418Z
UID:2824-1582912800-1582923600@pcche.org
SUMMARY:Teen Game Night
DESCRIPTION:Calling all teens! Come hang out at the Gentry’s and play some games with your friends! 6 pm.
URL:https://pcche.org/calendar/teen-game-night/
END:VEVENT
BEGIN:VEVENT
DTSTART;TZID=UTC:20200221T100000
DTEND;TZID=UTC:20200221T120000
DTSTAMP:20260425T163817
CREATED:20200212T151244Z
LAST-MODIFIED:20200212T151244Z
UID:2822-1582279200-1582286400@pcche.org
SUMMARY:Skate day!
DESCRIPTION:Homeschool skate day at Granbury Skating Rink. Cost is $5 per skater. 10am-12pm.
URL:https://pcche.org/calendar/skate-day/
END:VEVENT
BEGIN:VEVENT
DTSTART;TZID=UTC:20200220T180000
DTEND;TZID=UTC:20200220T200000
DTSTAMP:20260425T163817
CREATED:20200212T150951Z
LAST-MODIFIED:20200212T150951Z
UID:2820-1582221600-1582228800@pcche.org
SUMMARY:Mom-to-Mom
DESCRIPTION:Moms! Come join us at Rosa’s for an evening of fellowship and food! 6 pm.
URL:https://pcche.org/calendar/mom-to-mom/
END:VEVENT
BEGIN:VEVENT
DTSTART;VALUE=DATE:20200215
DTEND;VALUE=DATE:20200216
DTSTAMP:20260425T163817
CREATED:20200212T150751Z
LAST-MODIFIED:20200212T150751Z
UID:2818-1581724800-1581811199@pcche.org
SUMMARY:Destination Imagination Tournament
DESCRIPTION:
URL:https://pcche.org/calendar/destination-imagination-tournament/
END:VEVENT
BEGIN:VEVENT
DTSTART;TZID=UTC:20200214T130000
DTEND;TZID=UTC:20200214T150000
DTSTAMP:20260425T163817
CREATED:20190816T152929Z
LAST-MODIFIED:20190816T152929Z
UID:2647-1581685200-1581692400@pcche.org
SUMMARY:PCCHE Valentine's Day Party
DESCRIPTION:Save the Date for our annual Valentine party!\nThis event is open to all PCCHE members.\nDetails TBA
URL:https://pcche.org/calendar/pcche-valentines-day-party/
END:VEVENT
BEGIN:VEVENT
DTSTART;TZID=UTC:20200207T100000
DTEND;TZID=UTC:20200207T120000
DTSTAMP:20260425T163817
CREATED:20190816T152810Z
LAST-MODIFIED:20190816T152810Z
UID:2645-1581069600-1581076800@pcche.org
SUMMARY:Casa Manana - Frank-N-Friend
DESCRIPTION:Frank-N-Friend\nFriday\, February 7\, 2020 at 10:30 am\nPlease RSVP now and remit payment by December 31\, 2019 for this performance. This show is $7.50/person age 1 and over.\nRSVP to: karen@familylearningtogether.com\nMail your payment to:\nKaren Sorah 491 Green Meadows Cir\, Springtown\, TX 76082. \nFrank-N-Friend\nIt’s been a big first day for super-smart Oliver\, the new kid in school. He made two cool new friends\, Michael and Kendra\, but he also ran into Butch\, the dreaded school bully. Butch may be out to get the new kid\, but Oliver has a plan. With the help of his new friends and an advanced\, top secret computer\, Oliver builds Frank-N-Friend: the fastest\, strongest and coolest protector a kid has ever had! But along the way\, Frank has a few things to share about what it means to be a friend in this new musical for the entire family.
URL:https://pcche.org/calendar/casa-manana-frank-n-friend/
END:VEVENT
BEGIN:VEVENT
DTSTART;VALUE=DATE:20200203
DTEND;VALUE=DATE:20200204
DTSTAMP:20260425T163817
CREATED:20190607T192738Z
LAST-MODIFIED:20190607T192744Z
UID:2525-1580688000-1580774399@pcche.org
SUMMARY:First Day of Spring Co-op
DESCRIPTION:Double check the supply lists for your students’ classes and come kick off a new semester with us!
URL:https://pcche.org/calendar/first-day-of-spring-co-op/
ORGANIZER;CN="Amy Ferguson":MAILTO:coopdirector@pcche.org
END:VEVENT
BEGIN:VEVENT
DTSTART;TZID=UTC:20200117T183000
DTEND;TZID=UTC:20200117T210000
DTSTAMP:20260425T163817
CREATED:20190816T152121Z
LAST-MODIFIED:20190816T152121Z
UID:2643-1579285800-1579294800@pcche.org
SUMMARY:Chili Cook-off and Movie Night
DESCRIPTION:Join us for a family movie night and chili cook-off! Spicy\, mild\, with beans\, without beans\, vegetarian – all recipes are welcomed and will be judged by different categories. We will post a signup sheet for side dishes\, desserts\, fixin’s\, etc. as the date gets closer. We will also have popcorn\, hot cocoa\, and cookies to snack on while the movie plays.
URL:https://pcche.org/calendar/chili-cook-off-and-movie-night/
END:VEVENT
BEGIN:VEVENT
DTSTART;VALUE=DATE:20200113
DTEND;VALUE=DATE:20200114
DTSTAMP:20260425T163817
CREATED:20190607T192511Z
LAST-MODIFIED:20190607T192513Z
UID:2523-1578873600-1578959999@pcche.org
SUMMARY:Spring Co-op Registration
DESCRIPTION:We will post more details as we have them. 🙂
URL:https://pcche.org/calendar/spring-co-op-registration/
ORGANIZER;CN="Amy Ferguson":MAILTO:coopdirector@pcche.org
END:VEVENT
BEGIN:VEVENT
DTSTART;TZID=UTC:20191220T100000
DTEND;TZID=UTC:20191220T120000
DTSTAMP:20260425T163817
CREATED:20190816T151913Z
LAST-MODIFIED:20190816T151913Z
UID:2641-1576836000-1576843200@pcche.org
SUMMARY:Casa Manana - Jack Frost
DESCRIPTION:Jack Frost\nFriday\, December 20\, 2019 at 10:30 am\nPlease RSVP now and remit payment by November 1st for this performance. This show is $10/person age 1 and over.\nRSVP to: karen@familylearningtogether.com\nMail your payment to:\nKaren Sorah 491 Green Meadows Cir\, Springtown\, TX 76082. \nJack Frost\nJack is living the perfect life\, spending his days making spectacular ice sculptures and hanging with his friends in the Frozen Kingdom. One day tragedy strikes\, and Jack\, along with his friends\, is banished from the kingdom by his evil uncle – who wants to destroy the world with a new ice age! Can a band of snowy misfits help Jack find his destiny and restore order to the kingdom? Santa Claus himself narrates this holiday spectacular where adventure awaits at every turn!
URL:https://pcche.org/calendar/casa-manana-jack-frost/
END:VEVENT
BEGIN:VEVENT
DTSTART;TZID=UTC:20191212T180000
DTEND;TZID=UTC:20191212T200000
DTSTAMP:20260425T163817
CREATED:20190816T151743Z
LAST-MODIFIED:20190816T151743Z
UID:2639-1576173600-1576180800@pcche.org
SUMMARY:Mom-to-Mom Christmas Party
DESCRIPTION:Plan join us in December at Laura Welty’s home for dinner and cookie exchange!!!
URL:https://pcche.org/calendar/mom-to-mom-christmas-party/
END:VEVENT
BEGIN:VEVENT
DTSTART;TZID=UTC:20191206T140000
DTEND;TZID=UTC:20191206T160000
DTSTAMP:20260425T163817
CREATED:20190816T151600Z
LAST-MODIFIED:20190816T151600Z
UID:2637-1575640800-1575648000@pcche.org
SUMMARY:PCCHE Christmas Party
DESCRIPTION:Save the Date for our annual Christmas party!\nThis event is open to all PCCHE members.\nDetails TBA
URL:https://pcche.org/calendar/pcche-christmas-party/
END:VEVENT
END:VCALENDAR