BEGIN:VCALENDAR
VERSION:2.0
PRODID:-// - ECPv6.15.13//NONSGML v1.0//EN
CALSCALE:GREGORIAN
METHOD:PUBLISH
X-ORIGINAL-URL:https://pcche.org
X-WR-CALDESC:Events for 
REFRESH-INTERVAL;VALUE=DURATION:PT1H
X-Robots-Tag:noindex
X-PUBLISHED-TTL:PT1H
BEGIN:VTIMEZONE
TZID:UTC
BEGIN:STANDARD
TZOFFSETFROM:+0000
TZOFFSETTO:+0000
TZNAME:UTC
DTSTART:20190101T000000
END:STANDARD
END:VTIMEZONE
BEGIN:VEVENT
DTSTART;TZID=UTC:20210505T140000
DTEND;TZID=UTC:20210505T160000
DTSTAMP:20260425T164040
CREATED:20210224T200429Z
LAST-MODIFIED:20210224T200429Z
UID:3174-1620223200-1620230400@pcche.org
SUMMARY:PCCHE Bowling at Film Alley
DESCRIPTION:Film Alley offers Homeschool Day EVERY weekday from 11:30 am – 4 pm. But we are planning MONTHLY meetups to try to coordinate our schedules for some fun friend time! PCCHE meetups at Film Alley will be the 1st Wednesday of every month from 2-4 pm.\nSome additional details are:\nThe cost is $15 per family (one lane) for 2 hours of bowling. Each family will pay for themselves upon arrival.\nBowling shoes are included in the price.\nYou must wear a mask to get in\, but may take it off when you get to your lane.\nThe lanes on either side of yours will be closed to encourage social distancing.\nFood/drink is available to order for an additional cost.
URL:https://pcche.org/calendar/pcche-bowling-at-film-alley-3/
END:VEVENT
BEGIN:VEVENT
DTSTART;TZID=UTC:20210504T183000
DTEND;TZID=UTC:20210504T203000
DTSTAMP:20260425T164040
CREATED:20210411T211059Z
LAST-MODIFIED:20210411T211059Z
UID:3213-1620153000-1620160200@pcche.org
SUMMARY:Painting With a Twist - Baby Yoda
DESCRIPTION:Join us for a Star Wars Party at\nPainting With a Twist!\nWe will be painting Baby Yoda.\nThis is a Family Event\, so both parents and kids are encouraged to paint. The cost is $20 per painter. The studio recommends this event to be ages 5 and up\, but if you have a super mature 4 year old that can sit during the lesson and paint\, feel free to sign them up as well. Deadline to pay is Monday\, April 26th at Co-op. Please comment your RSVP below with the names and ages of each painter\, so the studio can be prepared and set up before our arrival. The sample art selection is in the comments on this event page.
URL:https://pcche.org/calendar/painting-with-a-twist-baby-yoda/
END:VEVENT
BEGIN:VEVENT
DTSTART;TZID=UTC:20210430T130000
DTEND;TZID=UTC:20210430T150000
DTSTAMP:20260425T164040
CREATED:20210411T210856Z
LAST-MODIFIED:20210411T210856Z
UID:3211-1619787600-1619794800@pcche.org
SUMMARY:Chuck E. Cheese
DESCRIPTION:Join us for an afternoon of pizza\, games\, and hanging out! Everyone will order and pay for their own families that day. I would encourage you to check out their website for prices and coupons\, as there have been several changes to the way kids can play games…and it can get pricey fast!
URL:https://pcche.org/calendar/chuck-e-cheese/
END:VEVENT
BEGIN:VEVENT
DTSTART;TZID=UTC:20210427T130000
DTEND;TZID=UTC:20210427T170000
DTSTAMP:20260425T164040
CREATED:20210411T210545Z
LAST-MODIFIED:20210411T210653Z
UID:3209-1619528400-1619542800@pcche.org
SUMMARY:Fort Worth Zoo
DESCRIPTION:Join us for a fun and educational day appreciating God’s creativity within the animal kingdom! We can meet up as a group of friends\, or come and go at our own pace as we please. Tickets MUST be purchased in advance online\, and are available for purchase within 3 days of the day of admission. To ensure you get the desired day/time for this event\, try to purchase tickets online Sunday\, April 25. Comment your kids’ names and ages below\, so we can have an idea of our other friends who are attending!
URL:https://pcche.org/calendar/fort-worth-zoo/
END:VEVENT
BEGIN:VEVENT
DTSTART;TZID=UTC:20210423T080000
DTEND;TZID=UTC:20210425T170000
DTSTAMP:20260425T164040
CREATED:20210208T232618Z
LAST-MODIFIED:20210208T232618Z
UID:3160-1619164800-1619370000@pcche.org
SUMMARY:PCCHE Spring Family Camping Trip
DESCRIPTION:Join us for our PCCHE spring family camping trip on Friday and Saturday nights\, April 23 & 24!\nWhat you need to do:\n1. RSVP to this event.\n2. Go to the following website\, book and PAY for your campsite. Campsites fill up VERY quickly from other campers. https://texasstateparks.reserveamerica.com/unifSearchResu…\nIn order to be as close as possible to the PCCHE group\, reserve campsites in sites 5-23. Sites in this area are $22 per night.
URL:https://pcche.org/calendar/pcche-spring-family-camping-trip/
END:VEVENT
BEGIN:VEVENT
DTSTART;TZID=UTC:20210416T100000
DTEND;TZID=UTC:20210416T120000
DTSTAMP:20260425T164040
CREATED:20210224T200053Z
LAST-MODIFIED:20210224T200053Z
UID:3170-1618567200-1618574400@pcche.org
SUMMARY:Homeschool Skate Day
DESCRIPTION:Cost: $6 per skater\, cash or check required\nPer the establishment: Masks will be optional. The skating rink has moved and removed tables to help with social distancing. Visitors must stay seated while eating and eat all food in one sitting as any food left on the table will be thrown away immediately.
URL:https://pcche.org/calendar/homeschool-skate-day-3/
END:VEVENT
BEGIN:VEVENT
DTSTART;TZID=UTC:20210414T140000
DTEND;TZID=UTC:20210414T160000
DTSTAMP:20260425T164040
CREATED:20210225T185021Z
LAST-MODIFIED:20210225T185021Z
UID:3186-1618408800-1618416000@pcche.org
SUMMARY:PCCHE Bowling at Film Alley
DESCRIPTION:Film Alley offers Homeschool Day EVERY weekday from 11:30 am – 4 pm. But we are planning MONTHLY meetups to try to coordinate our schedules for some fun friend time! PCCHE meetups at Film Alley will be the 1st Wednesday of every month from 2-4 pm.\nSome additional details are:\nThe cost is $15 per family (one lane) for 2 hours of bowling. Each family will pay for themselves upon arrival.\nBowling shoes are included in the price.\nYou must wear a mask to get in\, but may take it off when you get to your lane.\nThe lanes on either side of yours will be closed to encourage social distancing.\nFood/drink is available to order for an additional cost.
URL:https://pcche.org/calendar/pcche-bowling-at-film-alley-4/
END:VEVENT
BEGIN:VEVENT
DTSTART;TZID=UTC:20210413T100000
DTEND;TZID=UTC:20210413T120000
DTSTAMP:20260425T164040
CREATED:20210411T210322Z
LAST-MODIFIED:20210411T210322Z
UID:3206-1618308000-1618315200@pcche.org
SUMMARY:Topiary Terrain at the Fort Worth Botanic Garden
DESCRIPTION:The BRIT is hosting a PRIVATE homeschool class for PCCHE! Topiary Terrain plays with the imagination as learners and their families rethink how art embodies ideas and celebrates nature. Through creative expression within the environmental STEM format experience students will re-imagine the possibilities of forging shapes with plants. Training plants in our garden is just the beginning since students take home their team created art living masterpiece. This homeschool day is about teamwork and how the environmental STEM process helps in the design. \n  \n 
URL:https://pcche.org/calendar/topiary-terrain-at-the-fort-worth-botanic-garden/
END:VEVENT
BEGIN:VEVENT
DTSTART;TZID=UTC:20210413T100000
DTEND;TZID=UTC:20210413T120000
DTSTAMP:20260425T164040
CREATED:20210208T232511Z
LAST-MODIFIED:20210208T232511Z
UID:3158-1618308000-1618315200@pcche.org
SUMMARY:Spring Days at the Fort Worth Botanic Garden
DESCRIPTION:THIS IS THE RESCHEDULED FALL EVENT. THERE ARE STILL A LIMITED NUMBER OF SPACES AVAILABLE!\nThe BRIT is hosting a PRIVATE homeschool class for PCCHE! Elementary students will experience the uniqueness of the season through spring planting\, harvesting\, and exploring in the Backyard Vegetable Garden. Older students (grades 6-10) will be fascinated with the Japanese Garden exploration stations. The hands-on experiential format fosters individual learning as students examine and participate in cultural programming.\nThe cost is $10 per attendee (including adults). Children ages 0-4 are free. The kids will be divided into age groups (PreK-2\, 3-5\, 6-10)\, so please RSVP below with your last name\, number of adults\, and names and grades of children attending. Please make checks payable to PCCHE\, 475 Kennon Circle\, Palo Pinto\, TX 76484. Class size is limited!
URL:https://pcche.org/calendar/spring-days-at-the-fort-worth-botanic-garden/
END:VEVENT
BEGIN:VEVENT
DTSTART;TZID=UTC:20210409T080000
DTEND;TZID=UTC:20210409T170000
DTSTAMP:20260425T164040
CREATED:20210224T200900Z
LAST-MODIFIED:20210224T201259Z
UID:3179-1617955200-1617987600@pcche.org
SUMMARY:Painting With PCCHE at Painting with a Twist
DESCRIPTION:Save the date! Information TBD
URL:https://pcche.org/calendar/painting-with-pcche-at-painting-with-a-twist/
END:VEVENT
BEGIN:VEVENT
DTSTART;TZID=UTC:20210331T110000
DTEND;TZID=UTC:20210331T130000
DTSTAMP:20260425T164040
CREATED:20210213T185017Z
LAST-MODIFIED:20210213T185017Z
UID:3163-1617188400-1617195600@pcche.org
SUMMARY:Easter Party
DESCRIPTION:Easter party and egg hunt! Open to all PCCHE members
URL:https://pcche.org/calendar/easter-party/
END:VEVENT
BEGIN:VEVENT
DTSTART;TZID=UTC:20210325T130000
DTEND;TZID=UTC:20210325T140000
DTSTAMP:20260425T164040
CREATED:20210225T194931Z
LAST-MODIFIED:20210225T194931Z
UID:3194-1616677200-1616680800@pcche.org
SUMMARY:Tennis begins
DESCRIPTION:For students who are registered for tennis\, please arrive at 1pm for instruction.
URL:https://pcche.org/calendar/tennis-begins-3/
END:VEVENT
BEGIN:VEVENT
DTSTART;TZID=UTC:20210319T100000
DTEND;TZID=UTC:20210319T120000
DTSTAMP:20260425T164040
CREATED:20210224T195949Z
LAST-MODIFIED:20210224T195949Z
UID:3168-1616148000-1616155200@pcche.org
SUMMARY:Homeschool Skate Day
DESCRIPTION:Cost: $6 per skater\, cash or check required\nPer the establishment: Masks will be optional. The skating rink has moved and removed tables to help with social distancing. Visitors must stay seated while eating and eat all food in one sitting as any food left on the table will be thrown away immediately.
URL:https://pcche.org/calendar/homeschool-skate-day-2/
END:VEVENT
BEGIN:VEVENT
DTSTART;TZID=UTC:20210316T190000
DTEND;TZID=UTC:20210316T200000
DTSTAMP:20260425T164040
CREATED:20210224T205415Z
LAST-MODIFIED:20210224T205415Z
UID:3184-1615921200-1615924800@pcche.org
SUMMARY:General Meeting
DESCRIPTION:
URL:https://pcche.org/calendar/general-meeting-3/
END:VEVENT
BEGIN:VEVENT
DTSTART;TZID=UTC:20210315T080000
DTEND;TZID=UTC:20210315T170000
DTSTAMP:20260425T164040
CREATED:20210208T231952Z
LAST-MODIFIED:20210214T163406Z
UID:3152-1615795200-1615827600@pcche.org
SUMMARY:SPRING BREAK
DESCRIPTION:
URL:https://pcche.org/calendar/spring-break-3/
END:VEVENT
BEGIN:VEVENT
DTSTART;TZID=UTC:20210308T134500
DTEND;TZID=UTC:20210308T144500
DTSTAMP:20260425T164040
CREATED:20210224T203332Z
LAST-MODIFIED:20210224T203332Z
UID:3182-1615211100-1615214700@pcche.org
SUMMARY:Teen Yearbook Club Meeting
DESCRIPTION:TEENS! Join us for our next Yearbook Club meeting! Be a part of the fun in creating the PCCHE yearbook. \n 
URL:https://pcche.org/calendar/teen-yearbook-club-meeting/
END:VEVENT
BEGIN:VEVENT
DTSTART;TZID=UTC:20210303T140000
DTEND;TZID=UTC:20210303T160000
DTSTAMP:20260425T164040
CREATED:20210208T232307Z
LAST-MODIFIED:20210208T232307Z
UID:3156-1614780000-1614787200@pcche.org
SUMMARY:PCCHE Bowling at Film Alley
DESCRIPTION:Film Alley offers Homeschool Day EVERY weekday from 11:30 am – 4 pm. But we are planning MONTHLY meetups to try to coordinate our schedules for some fun friend time! PCCHE meetups at Film Alley will be the 1st Wednesday of every month from 2-4 pm.\nSome additional details are:\nThe cost is $15 per family (one lane) for 2 hours of bowling. Each family will pay for themselves upon arrival.\nBowling shoes are included in the price.\nYou must wear a mask to get in\, but may take it off when you get to your lane.\nThe lanes on either side of yours will be closed to encourage social distancing.\nFood/drink is available to order for an additional cost.
URL:https://pcche.org/calendar/pcche-bowling-at-film-alley/
END:VEVENT
BEGIN:VEVENT
DTSTART;TZID=UTC:20210302T190000
DTEND;TZID=UTC:20210302T220000
DTSTAMP:20260425T164040
CREATED:20210208T232137Z
LAST-MODIFIED:20210208T232137Z
UID:3154-1614711600-1614722400@pcche.org
SUMMARY:Dad's Night Out - Olive Garden
DESCRIPTION:Attention Dads: Come enjoy some great Italian food and even better conversation!
URL:https://pcche.org/calendar/dads-night-out-olive-garden/
END:VEVENT
BEGIN:VEVENT
DTSTART;TZID=UTC:20210301T090000
DTEND;TZID=UTC:20210301T140000
DTSTAMP:20260425T164040
CREATED:20210208T231748Z
LAST-MODIFIED:20210208T231748Z
UID:3150-1614589200-1614607200@pcche.org
SUMMARY:First day of Spring Co-op
DESCRIPTION:
URL:https://pcche.org/calendar/first-day-of-spring-co-op-2/
END:VEVENT
BEGIN:VEVENT
DTSTART;TZID=UTC:20210226T150000
DTEND;TZID=UTC:20210226T170000
DTSTAMP:20260425T164040
CREATED:20210214T163043Z
LAST-MODIFIED:20210214T163043Z
UID:3166-1614351600-1614358800@pcche.org
SUMMARY:Teen Hike at Lake Mineral Wells State Park
DESCRIPTION:What: Teen Hike at Lake MW State Park and dinner at Braum’s afterwards\nCost: Park entrance fee will likely be waived if drivers have park pass. If not\, the entrance fee is $7 per person. Please also send money for Braum’s.\nPlease RSVP below and let us know if your teen needs a ride from Weatherford. (Also\, let us know if you might be willing to drive!)
URL:https://pcche.org/calendar/teen-hike-at-lake-mineral-wells-state-park/
END:VEVENT
BEGIN:VEVENT
DTSTART;TZID=UTC:20210225T080000
DTEND;TZID=UTC:20210225T170000
DTSTAMP:20260425T164040
CREATED:20210325T010031Z
LAST-MODIFIED:20210225T194409Z
UID:3189-1614240000-1614272400@pcche.org
SUMMARY:Tennis begins
DESCRIPTION:For students who have registered for tennis\, please arrive at 1 pm for instruction.
URL:https://pcche.org/calendar/tennis-begins-2/
END:VEVENT
BEGIN:VEVENT
DTSTART;TZID=UTC:20210222T160000
DTEND;TZID=UTC:20210222T163000
DTSTAMP:20260425T164040
CREATED:20210208T230843Z
LAST-MODIFIED:20210208T230843Z
UID:3144-1614009600-1614011400@pcche.org
SUMMARY:Teen Book Club
DESCRIPTION:What: A virtual student-led book club for PCCHE teens ages 13 and up where students will socialize while reading and discussing one to two books per month.\nWhen: Beginning January 11\, the book club will meet every Monday from 4:00pm-4:30pm on Zoom (link will be posted in GroupMe).\nHow to join: Please comment below with the name and age of the student interested in joining the club.\nHow the club will communicate: Links\, conversations\, polls\, and questions will all be available on the GroupMe app. This app is compatible with most devices. Events and Zoom meetings may be accessed from there.
URL:https://pcche.org/calendar/teen-book-club-3/
END:VEVENT
BEGIN:VEVENT
DTSTART;TZID=UTC:20210222T080000
DTEND;TZID=UTC:20210222T080000
DTSTAMP:20260425T164040
CREATED:20210208T231326Z
LAST-MODIFIED:20210208T231326Z
UID:3148-1613980800-1613980800@pcche.org
SUMMARY:Co-op Orientation
DESCRIPTION:
URL:https://pcche.org/calendar/co-op-orientation/
END:VEVENT
BEGIN:VEVENT
DTSTART;TZID=UTC:20210215T160000
DTEND;TZID=UTC:20210215T163000
DTSTAMP:20260425T164040
CREATED:20210208T230743Z
LAST-MODIFIED:20210208T230743Z
UID:3142-1613404800-1613406600@pcche.org
SUMMARY:Teen Book Club
DESCRIPTION:What: A virtual student-led book club for PCCHE teens ages 13 and up where students will socialize while reading and discussing one to two books per month.\nWhen: Beginning January 11\, the book club will meet every Monday from 4:00pm-4:30pm on Zoom (link will be posted in GroupMe).\nHow to join: Please comment below with the name and age of the student interested in joining the club.\nHow the club will communicate: Links\, conversations\, polls\, and questions will all be available on the GroupMe app. This app is compatible with most devices. Events and Zoom meetings may be accessed from there.
URL:https://pcche.org/calendar/teen-book-club-2/
END:VEVENT
BEGIN:VEVENT
DTSTART;TZID=UTC:20210212T110000
DTEND;TZID=UTC:20210212T130000
DTSTAMP:20260425T164040
CREATED:20210208T230454Z
LAST-MODIFIED:20210208T230454Z
UID:3138-1613127600-1613134800@pcche.org
SUMMARY:PCCHE Valentine's Party
DESCRIPTION:We are happy to be able to continue our annual Valentine’s party this year\, as it is full of fun traditions for all ages! We will have a Valentine box contest\, Valentine exchange\, photo booth\, Cake Walk and games!\nAll students from preschool to high school are invited to make their own Valentine box at home and bring their finished creation to the Valentine party for our annual Valentine box contest. The creations will be judged according to age group and theme.\nEach child should bring approximately 3 dozen pre-signed Valentines to share with their PCCHE friends for the Valentine exchange. (example- To: My friend From: Jennifer)\nIndividually wrapped cupcakes or cookies are requested to serve as prizes for the “Cake Walk.” Homemade items are most popular\, for those blessed with that ability! When wrapping\, keep in mind that students may choose to take these home.\nWe ask that families bring a finger food or dessert to share. PCCHE will supply the drinks and the paper goods.\nPlease let us know the # of students planning to attend the party.\nThis event is open to all PCCHE members.
URL:https://pcche.org/calendar/pcche-valentines-party/
END:VEVENT
BEGIN:VEVENT
DTSTART;TZID=UTC:20210209T070000
DTEND;TZID=UTC:20210209T070000
DTSTAMP:20260425T164040
CREATED:20210208T230300Z
LAST-MODIFIED:20210208T230300Z
UID:3136-1612854000-1612854000@pcche.org
SUMMARY:Moms' Night Out - Cracker Barrel
DESCRIPTION:Join us for some home-cooking (that we don’t have to cook!)\, some fellowship\, and maybe some shopping too!
URL:https://pcche.org/calendar/moms-night-out-cracker-barrel/
END:VEVENT
BEGIN:VEVENT
DTSTART;TZID=UTC:20210208T160000
DTEND;TZID=UTC:20210208T163000
DTSTAMP:20260425T164040
CREATED:20210208T230043Z
LAST-MODIFIED:20210208T230043Z
UID:3134-1612800000-1612801800@pcche.org
SUMMARY:Teen Book Club
DESCRIPTION:What: A virtual student-led book club for PCCHE teens ages 13 and up where students will socialize while reading and discussing one to two books per month.\nWhen: Beginning January 11\, the book club will meet every Monday from 4:00pm-4:30pm on Zoom (link will be posted in GroupMe).\nHow to join: Please comment below with the name and age of the student interested in joining the club.\nHow the club will communicate: Links\, conversations\, polls\, and questions will all be available on the GroupMe app. This app is compatible with most devices. Events and Zoom meetings may be accessed from there.
URL:https://pcche.org/calendar/teen-book-club/
END:VEVENT
BEGIN:VEVENT
DTSTART;TZID=UTC:20210208T080000
DTEND;TZID=UTC:20210212T170000
DTSTAMP:20260425T164040
CREATED:20210208T231210Z
LAST-MODIFIED:20210208T231210Z
UID:3146-1612771200-1613149200@pcche.org
SUMMARY:Co-op Registration
DESCRIPTION:
URL:https://pcche.org/calendar/co-op-registration/
END:VEVENT
BEGIN:VEVENT
DTSTART;VALUE=DATE:20201113
DTEND;VALUE=DATE:20201116
DTSTAMP:20260425T164040
CREATED:20200804T211704Z
LAST-MODIFIED:20200804T211704Z
UID:3054-1605225600-1605484799@pcche.org
SUMMARY:2nd Annual Fall Camping Trip
DESCRIPTION:Join us for our PCCHE fall camping trip on Friday and Saturday nights\, November 13 & 14!\nWhat you need to do:\n1. RSVP to this event.\n2. Go to the following website\, book and PAY for your campsite. Currently\, Texas State Parks is only allowing sites to be booked 3 months in advance. This means that if you plan to arrive on November 13\, you will not be able to reserve your site until August 13. https://texasstateparks.reserveamerica.com/camping/cleburne-state-park/r/campgroundDetails.do?contractCode=TX&parkId=1200093\nIn order to be as close as possible to the PCCHE group\, reserve campsites in the Poplar Point loop (sites 44-57.) Sites in this area are $30 per night. Depending upon response\, we might have to start another “PCCHE loop\,” so please let Ashlea know if you are unable to find a site in Poplar Point.\n3. Comment on this event with:\nfamily name\nwhich nights you have booked your site\nnumber of the site you have reserved\nMore details will follow as date becomes closer. All families are welcome to stay only one night or both nights (Friday and Saturday).
URL:https://pcche.org/calendar/2nd-annual-fall-camping-trip/
LOCATION:cleburne state park\, Cleburne State Park
ORGANIZER;CN="Ashlea Ranca":MAILTO:Vicepresident@pcche.org
END:VEVENT
BEGIN:VEVENT
DTSTART;TZID=UTC:20200929T190000
DTEND;TZID=UTC:20200929T210000
DTSTAMP:20260425T164040
CREATED:20200818T030812Z
LAST-MODIFIED:20200818T030812Z
UID:3090-1601406000-1601413200@pcche.org
SUMMARY:Target Take Over!! Moms' Night Out
DESCRIPTION:Who doesn’t love strolling through Target without any kids in tow?? Do your shopping before or after but let’s all meet in the Starbucks at 7 to chat. This is a low key and private meet up for PCCHE members only\, so come ready to relax. \n 
URL:https://pcche.org/calendar/target-take-over-moms-night-out/
END:VEVENT
END:VCALENDAR