BEGIN:VCALENDAR
VERSION:2.0
PRODID:-// - ECPv6.15.13//NONSGML v1.0//EN
CALSCALE:GREGORIAN
METHOD:PUBLISH
X-ORIGINAL-URL:https://pcche.org
X-WR-CALDESC:Events for 
REFRESH-INTERVAL;VALUE=DURATION:PT1H
X-Robots-Tag:noindex
X-PUBLISHED-TTL:PT1H
BEGIN:VTIMEZONE
TZID:UTC
BEGIN:STANDARD
TZOFFSETFROM:+0000
TZOFFSETTO:+0000
TZNAME:UTC
DTSTART:20230101T000000
END:STANDARD
END:VTIMEZONE
BEGIN:VEVENT
DTSTART;TZID=UTC:20240327T130000
DTEND;TZID=UTC:20240327T160000
DTSTAMP:20260425T113713
CREATED:20240315T221516Z
LAST-MODIFIED:20240315T221516Z
UID:4422-1711544400-1711555200@pcche.org
SUMMARY:Easter Party
DESCRIPTION:Details to come soon on Facebook!
URL:https://pcche.org/calendar/easter-party-3/
END:VEVENT
BEGIN:VEVENT
DTSTART;TZID=UTC:20240403T100000
DTEND;TZID=UTC:20240403T120000
DTSTAMP:20260425T113713
CREATED:20240126T172708Z
LAST-MODIFIED:20240126T172708Z
UID:4398-1712138400-1712145600@pcche.org
SUMMARY:Park Day
DESCRIPTION:A park day gathering for some fun and fellowship at Cherry Park. Open to all ages.\nAs this will be an informal gathering\, please keep your RSVP’s up to date so that other moms will know who will be attending and who to look for at the park.
URL:https://pcche.org/calendar/park-day-2/
END:VEVENT
BEGIN:VEVENT
DTSTART;TZID=UTC:20240403T140000
DTEND;TZID=UTC:20240403T160000
DTSTAMP:20260425T113713
CREATED:20240315T221655Z
LAST-MODIFIED:20240315T221655Z
UID:4424-1712152800-1712160000@pcche.org
SUMMARY:Park Day
DESCRIPTION:A park day gathering for some fun and fellowship. Open to all ages.\nAs this will be an informal gathering\, please keep your RSVP’s up to date on Facebook so that other moms will know who will be attending and who to look for at the park.
URL:https://pcche.org/calendar/park-day-3/
END:VEVENT
BEGIN:VEVENT
DTSTART;TZID=UTC:20240419T160000
DTEND;TZID=UTC:20240419T180000
DTSTAMP:20260425T113713
CREATED:20240126T172858Z
LAST-MODIFIED:20240126T172858Z
UID:4400-1713542400-1713549600@pcche.org
SUMMARY:Fourth Annual Living History Fair
DESCRIPTION:We hope you will join us for this super fun PCCHE event!\nHow To Participate:\nMembers register to participate by commenting in the event with the name/names of presenters and their chosen historical figure/s. Participants may enter this fair either as individuals or as a family unit. The historical figure MUST be listed to avoid multiples. If a historical figure has already been chosen\, please choose another. All ages may participate!\nWhat To Do:\nParticipants will 1) Study their chosen person from history over the next few moths 2) Come dressed as their historical figure and ready to personify their character while at the fair 3) Be prepared to answer questions from passersby about their character as well as present facts about her/her life from the perspective of the character and 4) Prepare a tri fold poster board that will highlight their characters life and the time in which he/she lived. 5) Finally\, participants need to submit ONE interesting fact about their character to coopdirector@pcche.org which will be included in the scavenger hunt. I need this interesting fact at least one week prior to the event.\nWhat To Expect:\nParticipants will be assigned table space to set up their poster board and any other display materials they would like to use. While at the fair\, participants will stand by their display and engage spectators. This is an OPEN PCCHE event meaning friends and grandparents are welcome to attend to act as an audience. When the event is over\, each family is responsible for cleaning up their display.\nWe hope you can come but if participating isn’t your thing please consider attending to learn and show support to our PCCHE families. Children are invited to take part in the scavenger hunt and turn it in for a prize! Check out our past living history fairs under the events tab for pictures and video of our kids in action!
URL:https://pcche.org/calendar/fourth-annual-living-history-fair/
END:VEVENT
BEGIN:VEVENT
DTSTART;TZID=UTC:20240425T173000
DTEND;TZID=UTC:20240425T183000
DTSTAMP:20260425T113713
CREATED:20240315T221857Z
LAST-MODIFIED:20240315T221857Z
UID:4426-1714066200-1714069800@pcche.org
SUMMARY:Mom's Book Club
DESCRIPTION:We are choosing a book to read and meet up every other month! Please comment on Facebook if you want to be added to the book club messenger chat!!!!
URL:https://pcche.org/calendar/moms-book-club/
END:VEVENT
BEGIN:VEVENT
DTSTART;TZID=UTC:20240425T183000
DTEND;TZID=UTC:20240425T203000
DTSTAMP:20260425T113713
CREATED:20240315T222031Z
LAST-MODIFIED:20240315T222031Z
UID:4428-1714069800-1714077000@pcche.org
SUMMARY:Mom's Night Out
DESCRIPTION:Join us for a night of fun and food at McAlisters! RSVP on Facebook.
URL:https://pcche.org/calendar/moms-night-out-8/
END:VEVENT
BEGIN:VEVENT
DTSTART;TZID=UTC:20240503T103000
DTEND;TZID=UTC:20240503T123000
DTSTAMP:20260425T113713
CREATED:20240126T173058Z
LAST-MODIFIED:20240126T173058Z
UID:4402-1714732200-1714739400@pcche.org
SUMMARY:Casa Manana - Mary Poppins Jr.
DESCRIPTION:Final Dates have been confirmed with Casa Manana.\nMary Poppins Jr.\nPayment is due by 2/23/2024 for this performance. Casa Manana has strict payment deadlines for us\, and therefore\, we must also.\nAll shows are $10 /person age 1 and over. Please RSVP by commenting your family name and the number of seats you need below. Please also include any special needs such as wheelchairs\, hearing impaired\, visually impaired\, people with walkers\, or people that cannot handle stairs.\nPayments may be made by cash or checks payable to PCCHE. You may also send via Paypal at treasurer@pcche.org\nlf you choose to use PayPal\, please add 4% to your total ticket cost.\nShow Description:\nYour favorite practically perfect nanny takes center stage in this Supercalifragilisticexpialidocious adventure based on the award-winning Broadway musical and classic Disney film. Mary Poppins takes Jane and Michael on many magical and memorable adventures\, but even grown-ups can learn a lesson or two from the nanny who advises that “Anything can happen if you let it.” This show is suitable for all audiences.\nThere are not individual tickets for these shows\, but rather predetermined group seating. You will be seated by an usher with the group “PCCHE.”\nPer Casa Manana policy\, sorry no refunds.\nAll shows begin at 10:30\, please arrive by 10:00 and wait in lobby at sign “PCCHE” for an usher to seat. Please do not go to the check in desk. See all policies below.\nDirections:\nCasa Manana Theatre is located in the heart of the Cultural District at\n3101 West Lancaster Avenue\,\nFort Worth\, TX 76107\nBox Office: 817 -332-2272\nParking: If the Casa Manana lot is full\, additional parking is available at the Will Rogers Memorial Center Equestrian Center Garage. To access the garage\, exit around Casa Manana’s lot and turn right (south) onto University. Turn right\nonto Trail Drive and then right onto Watt Drive. The garage is immediately on your right. Parking is on the second level with stair access to Casa Manana’s south lobby entrance. For additional information\, please visit\nwww.culturaldistrictparking.com\nArrival & Seating:\nThe lobby opens at 9.30 am.\nPlease arrive no later than 10:00 am.\nWait at “PCCHE” sign. Seating begins 30 minutes prior to show time. An Usher will be assigned to escort our group into the theatre to our predetermined seating.\nLate arrivals will be admitted at an appropriate point in the show and seated in the first available seats. Please note that all recordings of the stage production are prohibited. lf recording equipment is found in use\, it will be confiscated by the theatre management. This includes cameras and cell phones. lt is requested that all cell phones be turned off in the theatre.\nAt the end of the Show:\n1) Please wait for the actors to leave the stage\, and the house lights to come on.\n2) Please do not go onto the stage.\n3) Please wait for dismissal instructions from the theater personnel.\nThis is a PCCHE event in which we will be intermingling with the general public\, and therefore guests are welcome to attend with you\, so long as you RSVP and pay for them according to the requirements noted above.
URL:https://pcche.org/calendar/casa-manana-mary-poppins-jr-2/
END:VEVENT
BEGIN:VEVENT
DTSTART;TZID=UTC:20240503T133000
DTEND;TZID=UTC:20240503T143000
DTSTAMP:20260425T113713
CREATED:20240126T173233Z
LAST-MODIFIED:20240126T173233Z
UID:4404-1714743000-1714746600@pcche.org
SUMMARY:Kimbell Art Museum
DESCRIPTION:Enjoy a free\, docent-guided tour of the Kimbell Art Museum’s permanent collection on May 3\, 2024 at 1:30 pm. If you are already attending the Mary Poppins performance at CASA that morning\, you should be able to get a quick lunch and join us at the museum afterward!\nSpace is quite limited for this tour\, so the spots will be assigned upon who RSVP’s first below with how many adults will participate and the ages of each child. Though younger siblings may attend\, the tour will be geared toward children from 3-12th grades. We will start a waitlist once the reservation has reached its maximum!\nBefore the visit\, you may access the online educator resource packet which includes information about selected artworks in the permanent collection as well as suggested activities that connect with those artworks: https://kimbellart.org/…/2023%20Educator%20Resource…\n*This is a PCCHE APPROVED event. Due to very limited space\, all spots will be reserved only for PCCHE parents and children.*
URL:https://pcche.org/calendar/kimbell-art-museum/
END:VEVENT
BEGIN:VEVENT
DTSTART;TZID=UTC:20240517T180000
DTEND;TZID=UTC:20240517T193000
DTSTAMP:20260425T113713
CREATED:20240315T222202Z
LAST-MODIFIED:20240315T222202Z
UID:4430-1715968800-1715974200@pcche.org
SUMMARY:The Baker Street Irregulars Performance Night
DESCRIPTION:Come join us as the PCCHE Drama Club performs their Spring Performance of the Baker Street Irregulars by Flip Kobler and Cindy Marcus. Upon investigating a mysterious murder at the Wainwright Circus\, Sherlock Holmes mysteriously falls gravely ill and is unable to perform his usual duties. Luckily\, the Irregulars show up and get the low-down from the acrobats\, clowns\, and animal trainers\, as well as the circus owner and his daughter. With their snooping and clever detective work\, the Baker Street Irregulars solve the crime and discover the mystery behind Sherlock’s sudden illness.
URL:https://pcche.org/calendar/the-baker-street-irregulars-performance-night/
END:VEVENT
BEGIN:VEVENT
DTSTART;TZID=UTC:20250725T100000
DTEND;TZID=UTC:20250725T120000
DTSTAMP:20260425T113713
CREATED:20250708T010801Z
LAST-MODIFIED:20250708T010801Z
UID:4755-1753437600-1753444800@pcche.org
SUMMARY:Dinosaur Land Children's Museum
DESCRIPTION:Have a dinosaur or princess lover at home? Beat the heat and join us at Dinosaur Land Children’s Museum and Princess Land! 3 indoor buildings with animatronic realistic figures. All connected by gravel trails through the Dinosaur Forest of Animals. They also have live animals: alpacas\, goats\, chickens\, rabbits\, pigs\, a peacock. \nFriday\, July 25th from 10-12 p.m. \nTickets: Adults 13+ $18;  Kids 2-12 $14;  1 and under FREE \n12175 Jacksboro Highway\, Fort Worth\, Texas 76135\, United States \nWhile this is a private PCCHE event\, it is a public museum so others will be there. Check back to this site for any additional details or meeting changes. For now\, we will meet inside at the entrance. 
URL:https://pcche.org/calendar/dinosaur-land-childrens-museum/
END:VEVENT
END:VCALENDAR