BEGIN:VCALENDAR
VERSION:2.0
PRODID:-// - ECPv6.15.13//NONSGML v1.0//EN
CALSCALE:GREGORIAN
METHOD:PUBLISH
X-ORIGINAL-URL:https://pcche.org
X-WR-CALDESC:Events for 
REFRESH-INTERVAL;VALUE=DURATION:PT1H
X-Robots-Tag:noindex
X-PUBLISHED-TTL:PT1H
BEGIN:VTIMEZONE
TZID:UTC
BEGIN:STANDARD
TZOFFSETFROM:+0000
TZOFFSETTO:+0000
TZNAME:UTC
DTSTART:20200101T000000
END:STANDARD
END:VTIMEZONE
BEGIN:VEVENT
DTSTART;TZID=UTC:20210910T110000
DTEND;TZID=UTC:20210910T130000
DTSTAMP:20260425T161914
CREATED:20210816T204737Z
LAST-MODIFIED:20210816T205104Z
UID:3380-1631271600-1631278800@pcche.org
SUMMARY:Institute for Creation Research Discovery Center Field Trip
DESCRIPTION:***Date Change! NEW DATE: SEP. 10\nWhat You Can Expect:\n* A ticket to one of three planetarium shows\n*Engaging exhibits that teach the origin of the universe and how science affirms the Bible\n*Animatronic creatures\, special effects\, and a chilly Ice Age theater\n*Fascinating facts about DNA and human ancestry\, fossils and rocks\, dinosaurs\, and astronomy\n*Development and application of critical thinking skills while discovering the latest scientific research\n*A Bible-based journey through Earth’s history\, highlighting scientific discoveries along the way\n*A resource store full of creation-based science resources and educational kits\nGroup pricing for entrance to the Discovery Center exhibit hall and a planetarium show is $17 for adults and $13 for students (ages 5-17)\, 4 and under are $6 each.\nA final headcount and payment is required two weeks prior to the event so a HARD rsvp and payment is needed by August 23\, 2021.\nTo RSVP please comment in the event with your name and number of those attending and ages.\n**Reminder- field trips through PCCHE are reserved for PCCHE members only.**\nhttps://discoverycenter.icr.org/field-trips/
URL:https://pcche.org/calendar/moms-night-out-2/
END:VEVENT
BEGIN:VEVENT
DTSTART;TZID=UTC:20210823T133000
DTEND;TZID=UTC:20210823T143000
DTSTAMP:20260425T161914
CREATED:20210816T204347Z
LAST-MODIFIED:20210816T204347Z
UID:3378-1629725400-1629729000@pcche.org
SUMMARY:Teen Student Government Meeting
DESCRIPTION:Student Government meeting will begin after co-op ends in Room E-12.
URL:https://pcche.org/calendar/teen-student-government-meeting-2/
END:VEVENT
BEGIN:VEVENT
DTSTART;TZID=UTC:20210820T100000
DTEND;TZID=UTC:20210820T120000
DTSTAMP:20260425T161914
CREATED:20210816T204015Z
LAST-MODIFIED:20210816T204015Z
UID:3376-1629453600-1629460800@pcche.org
SUMMARY:Homeschool Skate Day
DESCRIPTION:Homeschool Skate Day is back!\nWhen: Every third Friday from August to May\nCost: $6 per skater\, cash or check required
URL:https://pcche.org/calendar/homeschool-skate-day-4/
END:VEVENT
BEGIN:VEVENT
DTSTART;TZID=UTC:20210811T110000
DTEND;TZID=UTC:20210811T130000
DTSTAMP:20260425T161914
CREATED:20210718T121648Z
LAST-MODIFIED:20210718T121648Z
UID:3338-1628679600-1628686800@pcche.org
SUMMARY:Norma’s Playhouse Fun Day
DESCRIPTION:Join us for a morning of fun at Norma’s Playhouse in Mineral Wells! There are slides and bounce houses and games and so much more! The Playhouse is designed and geared mostly towards kiddos up to 12 years old\, but the teens also have a blast with the Wii system\, air hockey table\, Nerf guns\, and the adult-sized bounce house! You may bring your own snacks and drinks\, and a food truck will be out in the back selling lunch. Our event is on a Wednesday\, which is their private rental day\, so PCCHE will have the place to ourselves for our 2 hour slot. They clean and Lysol all of the equipment daily\, and also clean and Lysol between each private party on Tuesdays. No masks are required for this event. Cost is $15/child and $10/each additional sibling. Each family will be responsible for paying Norma’s Playhouse on the day of the event. Don’t forget your socks! Please comment your RSVP below with your child’s name and age. Can’t wait to see you there!!
URL:https://pcche.org/calendar/normas-playhouse-fun-day-3/
END:VEVENT
BEGIN:VEVENT
DTSTART;TZID=UTC:20210723T200000
DTEND;TZID=UTC:20210723T220000
DTSTAMP:20260425T161914
CREATED:20210526T023357Z
LAST-MODIFIED:20210526T023357Z
UID:3271-1627070400-1627077600@pcche.org
SUMMARY:PCCHE Pool Party
DESCRIPTION:Join us for a private pool party!\nWeatherford Cherry Park Pool\n302 West Lee Avenue\nFriday evening\nJuly 23\, 2021\n8:00-10:00pm\nFor the entire family!\nPCCHE members only.\nBring snacks and drinks for your own family. We are not going to “potluck” for this event. No glass containers.\nThere is no cost to our members\, but please RSVP quickly as space is limited. If you RSVP and then realize your family won’t be able to come\, please let us know.\nThere will be city lifeguards on duty.\nOut of respect for others\, we ask that you dress modestly. Ladies\, please wear a one piece swim suit or cover\, and gentlemen swimmers will need to have a shirt on\, and please leave your speedos at home! Thank you! \nPlease click the button to show your family will be there\, then comment the total number of swimmers that will be there from your family! You may just bring the kiddos to swim and the parents can watch and visit if they would like! We are only counting the number of people who will be in the pool.
URL:https://pcche.org/calendar/pcche-pool-party/
END:VEVENT
BEGIN:VEVENT
DTSTART;TZID=UTC:20210720T110000
DTEND;TZID=UTC:20210720T143000
DTSTAMP:20260425T161914
CREATED:20210526T023211Z
LAST-MODIFIED:20210526T023211Z
UID:3269-1626778800-1626791400@pcche.org
SUMMARY:Institute for Creation Research Discovery Center Field Trip
DESCRIPTION:What You Can Expect:\n* A ticket to one of three planetarium shows\n*Engaging exhibits that teach the origin of the universe and how science affirms the Bible\n*Animatronic creatures\, special effects\, and a chilly Ice Age theater\n*Fascinating facts about DNA and human ancestry\, fossils and rocks\, dinosaurs\, and astronomy\n*Development and application of critical thinking skills while discovering the latest scientific research\n*A Bible-based journey through Earth’s history\, highlighting scientific discoveries along the way\n*A resource store full of creation-based science resources and educational kits\nGroup pricing for entrance to the Discovery Center exhibit hall and a planetarium show is $17 for adults and $13 for students (ages 5-17)\, 4 and under are $6 each.\nA final headcount and payment is required two weeks prior to the event so a HARD rsvp and payment is needed by July 2\, 2021.\nTo RSVP please comment in the event with your name and number of those attending and ages.\n**Reminder- field trips through PCCHE are reserved for PCCHE members only.**\nhttps://discoverycenter.icr.org/field-trips/
URL:https://pcche.org/calendar/institute-for-creation-research-discovery-center-field-trip/
END:VEVENT
BEGIN:VEVENT
DTSTART;TZID=UTC:20210719T180000
DTEND;TZID=UTC:20210719T200000
DTSTAMP:20260425T161914
CREATED:20210718T121435Z
LAST-MODIFIED:20210718T121435Z
UID:3336-1626717600-1626724800@pcche.org
SUMMARY:Homeschooling 101 Class
DESCRIPTION:Please join us as PCCHE offers a Homeschooling 101 Class\, not just for our own membership\, but for the rest of the community as well. We will be having several different speakers discuss their own homeschooling journeys\, as well as the methods that do and do not work for their families. We will also have a Q & A time and discussions on various topics that may interest prospective and current home educating families. This will be a laid-back\, informal meeting for new homeschooling parents\, as well as for seasoned ones with many years experience. Let’s come together to encourage one another along in our homeschooling journeys\, no matter how far down the path we may be. Please invite your friends and family who may be considering homeschooling\, and even those who already are…this is sure to be a blessing for all who attend! Childcare will not be provided\, so if you bring your children\, they will need to sit with you during the duration of the class. Please RSVP below with your name and the number of people attending with you to help us know how many to be set up for. Please text or call Shana Gentry with any questions or ideas you may like to share 817 988-7817
URL:https://pcche.org/calendar/homeschooling-101-class/
END:VEVENT
BEGIN:VEVENT
DTSTART;TZID=UTC:20210719T170000
DTEND;TZID=UTC:20210719T180000
DTSTAMP:20260425T161914
CREATED:20210718T121325Z
LAST-MODIFIED:20210718T121325Z
UID:3334-1626714000-1626717600@pcche.org
SUMMARY:Teen Student Government Meeting
DESCRIPTION:All teens (ages 13-18) interested in participating in PCCHE’s 2021/2022 student government are requested to attend. RSVP below and contact Jordan Boren if you have any questions! \n  \nMeeting at WPBC at 5pm
URL:https://pcche.org/calendar/teen-student-government-meeting/
END:VEVENT
BEGIN:VEVENT
DTSTART;TZID=UTC:20210707T110000
DTEND;TZID=UTC:20210707T130000
DTSTAMP:20260425T161914
CREATED:20210526T023018Z
LAST-MODIFIED:20210526T023018Z
UID:3267-1625655600-1625662800@pcche.org
SUMMARY:Norma's Playhouse Fun Day!
DESCRIPTION:Join us for a morning of fun at Norma’s Playhouse in Mineral Wells! There are slides and bounce houses and games and so much more! The Playhouse is designed and geared mostly towards kiddos up to 12 years old\, but the teens also have a blast with the Wii system\, air hockey table\, Nerf guns\, and the adult-sized bounce house! You may bring your own snacks and drinks\, and a food truck will be out in the back selling lunch. Our event is on a Wednesday\, which is their private rental day\, so PCCHE will have the place to ourselves for our 2 hour slot. They clean and Lysol all of the equipment daily\, and also clean and Lysol between each private party on Tuesdays. No masks are required for this event. Cost is $15/child and $10/each additional sibling. Each family will be responsible for paying Norma’s Playhouse on the day of the event. Don’t forget your socks! Please comment your RSVP below with your child’s name and age. Can’t wait to see you there!! \nSee Less
URL:https://pcche.org/calendar/normas-playhouse-fun-day-2/
END:VEVENT
BEGIN:VEVENT
DTSTART;TZID=UTC:20210628T110000
DTEND;TZID=UTC:20210628T180000
DTSTAMP:20260425T161914
CREATED:20210526T022737Z
LAST-MODIFIED:20210526T022737Z
UID:3265-1624878000-1624903200@pcche.org
SUMMARY:Splash Kingdom Hudson Oaks
DESCRIPTION:Let’s get together this summer at Splash Kingdom! Advance tickets are currently $9.95 and can be purchased at https://www.splashkingdomwaterpark.com/weatherford/. (Prices are subject to change.) Entire families or teens are welcome! Please comment below if attending.
URL:https://pcche.org/calendar/splash-kingdom-hudson-oaks/
END:VEVENT
BEGIN:VEVENT
DTSTART;TZID=UTC:20210618T183000
DTEND;TZID=UTC:20210618T210000
DTSTAMP:20260425T161914
CREATED:20210526T022429Z
LAST-MODIFIED:20210526T022429Z
UID:3263-1624041000-1624050000@pcche.org
SUMMARY:1st Annual Father Daughter Dance
DESCRIPTION:This is PCCHE’s first annual father daughter dance. The dance will be located in the foyer area of Greenwood Baptist Church. This will an evening filled with fun and fellowship as dads get to enjoy time with their daughters! Light refreshments will be served.
URL:https://pcche.org/calendar/1st-annual-father-daughter-dance/
END:VEVENT
BEGIN:VEVENT
DTSTART;TZID=UTC:20210611T110000
DTEND;TZID=UTC:20210611T130000
DTSTAMP:20260425T161914
CREATED:20210526T022238Z
LAST-MODIFIED:20210526T022238Z
UID:3261-1623409200-1623416400@pcche.org
SUMMARY:National Video Game Museum Summer Field Trip
DESCRIPTION:What a perfect summer meet up! The National Video Game Museum is a museum about video games and the video game industry. This is an indoor\, hands on experience gamers and non-gamers alike are sure to love.\nNormal ticket price is $12 per person but if we can get a group of 16 or more we will qualify for a group rate of $8 per person. Therefore\, please be prepared to meet out front at 11am. We need a solid headcount a week in advance therefore we are setting an RSVP deadline of June 4th. To RAVP please comment in the event with your last name and the number in your party. Example: Ferguson-6\nYou will pay when you get there. Please note\, at this time the museum requires masks to be worn by everyone 3 and up.\nThere are no accommodations inside the building for groups to eat; however\, there are a couple of picnic tables out front that are run by the Sci-Tech museum. These tables are available for use on a first-come first-serve basis weather permitting.\nFor an educational element I will be posting the S.T.E.M. worksheets the museum provided in the event page.
URL:https://pcche.org/calendar/national-video-game-museum-summer-field-trip/
END:VEVENT
BEGIN:VEVENT
DTSTART;TZID=UTC:20210605T100000
DTEND;TZID=UTC:20210605T180000
DTSTAMP:20260425T161914
CREATED:20210225T195441Z
LAST-MODIFIED:20210225T195441Z
UID:3198-1622887200-1622916000@pcche.org
SUMMARY:Business Expo
DESCRIPTION:Entrepreneur’s will be prepared to showcase their new or establish business at this fun expo! Open to the public.
URL:https://pcche.org/calendar/business-expo/
END:VEVENT
BEGIN:VEVENT
DTSTART;TZID=UTC:20210605T100000
DTEND;TZID=UTC:20210605T140000
DTSTAMP:20260425T161914
CREATED:20210526T022011Z
LAST-MODIFIED:20210526T022011Z
UID:3259-1622887200-1622901600@pcche.org
SUMMARY:Teen Business Expo
DESCRIPTION:Location: Greenwood Baptist Church \n  \n 
URL:https://pcche.org/calendar/teen-business-expo/
END:VEVENT
BEGIN:VEVENT
DTSTART;TZID=UTC:20210602T110000
DTEND;TZID=UTC:20210602T130000
DTSTAMP:20260425T161914
CREATED:20210526T021707Z
LAST-MODIFIED:20210526T021707Z
UID:3256-1622631600-1622638800@pcche.org
SUMMARY:Norma's Playhouse Fun Day!
DESCRIPTION:Join us for a morning of fun at Norma’s Playhouse in Mineral Wells! There are slides and bounce houses and games and so much more! The Playhouse is designed and geared mostly towards kiddos up to 12 years old\, but the teens also have a blast with the Wii system\, air hockey table\, Nerf guns\, and the adult-sized bounce house! You may bring your own snacks and drinks\, and a food truck will be out in the back selling lunch. Our event is on a Wednesday\, which is their private rental day\, so PCCHE will have the place to ourselves for our 2 hour slot. They clean and Lysol all of the equipment daily\, and also clean and Lysol between each private party on Tuesdays. No masks are required for this event. Cost is $15/child and $10/each additional sibling. Each family will be responsible for paying Norma’s Playhouse on the day of the event. Don’t forget your socks!. Can’t wait to see you there!
URL:https://pcche.org/calendar/normas-playhouse-fun-day/
END:VEVENT
BEGIN:VEVENT
DTSTART;TZID=UTC:20210531T190000
DTEND;TZID=UTC:20210531T210000
DTSTAMP:20260425T161914
CREATED:20210526T021503Z
LAST-MODIFIED:20210526T021503Z
UID:3254-1622487600-1622494800@pcche.org
SUMMARY:Class of 2021 Graduation
DESCRIPTION:Join us in celebrating our class of 2021 graduates. Refreshments in the gym \, immediately following.
URL:https://pcche.org/calendar/class-of-2021-graduation/
END:VEVENT
BEGIN:VEVENT
DTSTART;TZID=UTC:20210529T180000
DTEND;TZID=UTC:20210529T210000
DTSTAMP:20260425T161914
CREATED:20210526T021327Z
LAST-MODIFIED:20210526T021327Z
UID:3251-1622311200-1622322000@pcche.org
SUMMARY:Teen Cookout and Games
DESCRIPTION:We are having a cookout and game night! The Holaways (Rylin) have graciously offered to open up their home to us for this event. There will be outdoors games\, as well as board games indoors…just an easy-going\, fun Friday night of hanging out with friends! Feel free to drop your teen off\, or stay if you’d like. Please RSVP with your teen’s name and age below.
URL:https://pcche.org/calendar/teen-cookout-and-games/
END:VEVENT
BEGIN:VEVENT
DTSTART;TZID=UTC:20210524T190000
DTEND;TZID=UTC:20210524T203000
DTSTAMP:20260425T161914
CREATED:20210225T195052Z
LAST-MODIFIED:20210225T195052Z
UID:3196-1621882800-1621888200@pcche.org
SUMMARY:Parent's Night
DESCRIPTION:Join us as we wrap up our spring semester of co-op and showcase everything our students have been working on!
URL:https://pcche.org/calendar/parents-night-3/
END:VEVENT
BEGIN:VEVENT
DTSTART;TZID=UTC:20210507T100000
DTEND;TZID=UTC:20210507T140000
DTSTAMP:20260425T161914
CREATED:20210224T200735Z
LAST-MODIFIED:20210224T200735Z
UID:3177-1620381600-1620396000@pcche.org
SUMMARY:Field Day
DESCRIPTION:
URL:https://pcche.org/calendar/field-day-2/
END:VEVENT
BEGIN:VEVENT
DTSTART;TZID=UTC:20210505T140000
DTEND;TZID=UTC:20210505T160000
DTSTAMP:20260425T161914
CREATED:20210224T200429Z
LAST-MODIFIED:20210224T200429Z
UID:3174-1620223200-1620230400@pcche.org
SUMMARY:PCCHE Bowling at Film Alley
DESCRIPTION:Film Alley offers Homeschool Day EVERY weekday from 11:30 am – 4 pm. But we are planning MONTHLY meetups to try to coordinate our schedules for some fun friend time! PCCHE meetups at Film Alley will be the 1st Wednesday of every month from 2-4 pm.\nSome additional details are:\nThe cost is $15 per family (one lane) for 2 hours of bowling. Each family will pay for themselves upon arrival.\nBowling shoes are included in the price.\nYou must wear a mask to get in\, but may take it off when you get to your lane.\nThe lanes on either side of yours will be closed to encourage social distancing.\nFood/drink is available to order for an additional cost.
URL:https://pcche.org/calendar/pcche-bowling-at-film-alley-3/
END:VEVENT
BEGIN:VEVENT
DTSTART;TZID=UTC:20210504T183000
DTEND;TZID=UTC:20210504T203000
DTSTAMP:20260425T161914
CREATED:20210411T211059Z
LAST-MODIFIED:20210411T211059Z
UID:3213-1620153000-1620160200@pcche.org
SUMMARY:Painting With a Twist - Baby Yoda
DESCRIPTION:Join us for a Star Wars Party at\nPainting With a Twist!\nWe will be painting Baby Yoda.\nThis is a Family Event\, so both parents and kids are encouraged to paint. The cost is $20 per painter. The studio recommends this event to be ages 5 and up\, but if you have a super mature 4 year old that can sit during the lesson and paint\, feel free to sign them up as well. Deadline to pay is Monday\, April 26th at Co-op. Please comment your RSVP below with the names and ages of each painter\, so the studio can be prepared and set up before our arrival. The sample art selection is in the comments on this event page.
URL:https://pcche.org/calendar/painting-with-a-twist-baby-yoda/
END:VEVENT
BEGIN:VEVENT
DTSTART;TZID=UTC:20210430T130000
DTEND;TZID=UTC:20210430T150000
DTSTAMP:20260425T161914
CREATED:20210411T210856Z
LAST-MODIFIED:20210411T210856Z
UID:3211-1619787600-1619794800@pcche.org
SUMMARY:Chuck E. Cheese
DESCRIPTION:Join us for an afternoon of pizza\, games\, and hanging out! Everyone will order and pay for their own families that day. I would encourage you to check out their website for prices and coupons\, as there have been several changes to the way kids can play games…and it can get pricey fast!
URL:https://pcche.org/calendar/chuck-e-cheese/
END:VEVENT
BEGIN:VEVENT
DTSTART;TZID=UTC:20210427T130000
DTEND;TZID=UTC:20210427T170000
DTSTAMP:20260425T161914
CREATED:20210411T210545Z
LAST-MODIFIED:20210411T210653Z
UID:3209-1619528400-1619542800@pcche.org
SUMMARY:Fort Worth Zoo
DESCRIPTION:Join us for a fun and educational day appreciating God’s creativity within the animal kingdom! We can meet up as a group of friends\, or come and go at our own pace as we please. Tickets MUST be purchased in advance online\, and are available for purchase within 3 days of the day of admission. To ensure you get the desired day/time for this event\, try to purchase tickets online Sunday\, April 25. Comment your kids’ names and ages below\, so we can have an idea of our other friends who are attending!
URL:https://pcche.org/calendar/fort-worth-zoo/
END:VEVENT
BEGIN:VEVENT
DTSTART;TZID=UTC:20210423T080000
DTEND;TZID=UTC:20210425T170000
DTSTAMP:20260425T161914
CREATED:20210208T232618Z
LAST-MODIFIED:20210208T232618Z
UID:3160-1619164800-1619370000@pcche.org
SUMMARY:PCCHE Spring Family Camping Trip
DESCRIPTION:Join us for our PCCHE spring family camping trip on Friday and Saturday nights\, April 23 & 24!\nWhat you need to do:\n1. RSVP to this event.\n2. Go to the following website\, book and PAY for your campsite. Campsites fill up VERY quickly from other campers. https://texasstateparks.reserveamerica.com/unifSearchResu…\nIn order to be as close as possible to the PCCHE group\, reserve campsites in sites 5-23. Sites in this area are $22 per night.
URL:https://pcche.org/calendar/pcche-spring-family-camping-trip/
END:VEVENT
BEGIN:VEVENT
DTSTART;TZID=UTC:20210416T100000
DTEND;TZID=UTC:20210416T120000
DTSTAMP:20260425T161914
CREATED:20210224T200053Z
LAST-MODIFIED:20210224T200053Z
UID:3170-1618567200-1618574400@pcche.org
SUMMARY:Homeschool Skate Day
DESCRIPTION:Cost: $6 per skater\, cash or check required\nPer the establishment: Masks will be optional. The skating rink has moved and removed tables to help with social distancing. Visitors must stay seated while eating and eat all food in one sitting as any food left on the table will be thrown away immediately.
URL:https://pcche.org/calendar/homeschool-skate-day-3/
END:VEVENT
BEGIN:VEVENT
DTSTART;TZID=UTC:20210414T140000
DTEND;TZID=UTC:20210414T160000
DTSTAMP:20260425T161914
CREATED:20210225T185021Z
LAST-MODIFIED:20210225T185021Z
UID:3186-1618408800-1618416000@pcche.org
SUMMARY:PCCHE Bowling at Film Alley
DESCRIPTION:Film Alley offers Homeschool Day EVERY weekday from 11:30 am – 4 pm. But we are planning MONTHLY meetups to try to coordinate our schedules for some fun friend time! PCCHE meetups at Film Alley will be the 1st Wednesday of every month from 2-4 pm.\nSome additional details are:\nThe cost is $15 per family (one lane) for 2 hours of bowling. Each family will pay for themselves upon arrival.\nBowling shoes are included in the price.\nYou must wear a mask to get in\, but may take it off when you get to your lane.\nThe lanes on either side of yours will be closed to encourage social distancing.\nFood/drink is available to order for an additional cost.
URL:https://pcche.org/calendar/pcche-bowling-at-film-alley-4/
END:VEVENT
BEGIN:VEVENT
DTSTART;TZID=UTC:20210413T100000
DTEND;TZID=UTC:20210413T120000
DTSTAMP:20260425T161914
CREATED:20210411T210322Z
LAST-MODIFIED:20210411T210322Z
UID:3206-1618308000-1618315200@pcche.org
SUMMARY:Topiary Terrain at the Fort Worth Botanic Garden
DESCRIPTION:The BRIT is hosting a PRIVATE homeschool class for PCCHE! Topiary Terrain plays with the imagination as learners and their families rethink how art embodies ideas and celebrates nature. Through creative expression within the environmental STEM format experience students will re-imagine the possibilities of forging shapes with plants. Training plants in our garden is just the beginning since students take home their team created art living masterpiece. This homeschool day is about teamwork and how the environmental STEM process helps in the design. \n  \n 
URL:https://pcche.org/calendar/topiary-terrain-at-the-fort-worth-botanic-garden/
END:VEVENT
BEGIN:VEVENT
DTSTART;TZID=UTC:20210413T100000
DTEND;TZID=UTC:20210413T120000
DTSTAMP:20260425T161914
CREATED:20210208T232511Z
LAST-MODIFIED:20210208T232511Z
UID:3158-1618308000-1618315200@pcche.org
SUMMARY:Spring Days at the Fort Worth Botanic Garden
DESCRIPTION:THIS IS THE RESCHEDULED FALL EVENT. THERE ARE STILL A LIMITED NUMBER OF SPACES AVAILABLE!\nThe BRIT is hosting a PRIVATE homeschool class for PCCHE! Elementary students will experience the uniqueness of the season through spring planting\, harvesting\, and exploring in the Backyard Vegetable Garden. Older students (grades 6-10) will be fascinated with the Japanese Garden exploration stations. The hands-on experiential format fosters individual learning as students examine and participate in cultural programming.\nThe cost is $10 per attendee (including adults). Children ages 0-4 are free. The kids will be divided into age groups (PreK-2\, 3-5\, 6-10)\, so please RSVP below with your last name\, number of adults\, and names and grades of children attending. Please make checks payable to PCCHE\, 475 Kennon Circle\, Palo Pinto\, TX 76484. Class size is limited!
URL:https://pcche.org/calendar/spring-days-at-the-fort-worth-botanic-garden/
END:VEVENT
BEGIN:VEVENT
DTSTART;TZID=UTC:20210409T080000
DTEND;TZID=UTC:20210409T170000
DTSTAMP:20260425T161914
CREATED:20210224T200900Z
LAST-MODIFIED:20210224T201259Z
UID:3179-1617955200-1617987600@pcche.org
SUMMARY:Painting With PCCHE at Painting with a Twist
DESCRIPTION:Save the date! Information TBD
URL:https://pcche.org/calendar/painting-with-pcche-at-painting-with-a-twist/
END:VEVENT
BEGIN:VEVENT
DTSTART;TZID=UTC:20210331T110000
DTEND;TZID=UTC:20210331T130000
DTSTAMP:20260425T161914
CREATED:20210213T185017Z
LAST-MODIFIED:20210213T185017Z
UID:3163-1617188400-1617195600@pcche.org
SUMMARY:Easter Party
DESCRIPTION:Easter party and egg hunt! Open to all PCCHE members
URL:https://pcche.org/calendar/easter-party/
END:VEVENT
END:VCALENDAR