BEGIN:VCALENDAR
VERSION:2.0
PRODID:-// - ECPv6.15.13//NONSGML v1.0//EN
CALSCALE:GREGORIAN
METHOD:PUBLISH
X-ORIGINAL-URL:https://pcche.org
X-WR-CALDESC:Events for 
REFRESH-INTERVAL;VALUE=DURATION:PT1H
X-Robots-Tag:noindex
X-PUBLISHED-TTL:PT1H
BEGIN:VTIMEZONE
TZID:UTC
BEGIN:STANDARD
TZOFFSETFROM:+0000
TZOFFSETTO:+0000
TZNAME:UTC
DTSTART:20200101T000000
END:STANDARD
END:VTIMEZONE
BEGIN:VEVENT
DTSTART;TZID=UTC:20220309T130000
DTEND;TZID=UTC:20220309T160000
DTSTAMP:20260425T144655
CREATED:20220302T033432Z
LAST-MODIFIED:20220302T033432Z
UID:3663-1646830800-1646841600@pcche.org
SUMMARY:Fort Worth Homeschool Skate Day
DESCRIPTION:***This is not a PCCHE event. All area homeschoolers are invited to attend.\nRoller Land West\n7325 Calmont Ave\nFort Worth TX  \nHomeschool rate is $5+tax admission which includes free traditional roller skate rental if needed. If skaters wish to rent in-line skates or skatemate trainers\, there is an additional $4.00 fee. Skaters are welcome to bring their own skates as long as they’re suitable to use on the wooden skate floor.\nPay at the door letting them know you are a homeschooler for the special rate.
URL:https://pcche.org/calendar/fort-worth-homeschool-skate-day-6/
END:VEVENT
BEGIN:VEVENT
DTSTART;TZID=UTC:20220308T183000
DTEND;TZID=UTC:20220308T203000
DTSTAMP:20260425T144655
CREATED:20220302T032624Z
LAST-MODIFIED:20220302T032624Z
UID:3661-1646764200-1646771400@pcche.org
SUMMARY:Dads'/Son Night Out
DESCRIPTION:Come hang out for an exciting Dad/Son Night Out! We will meet in the gym at Willow Park Baptist Church for various games: basketball\, dodgeball\, pool\, and more. Teams will be made up for a fun dodgeball tournament for those who want to participate. Either eat dinner before you come\, or feel free to bring snacks and/or your dinner to eat with friends. Tables will be set up in the gym. RSVP your name below\, along with the name of your son(s) and their ages. If you are a PCCHE dad without a son\, please come anyway…it will be a great time\, and you’ll still get an opportunity to chunk a dodgeball!
URL:https://pcche.org/calendar/dads-son-night-out/
END:VEVENT
BEGIN:VEVENT
DTSTART;TZID=UTC:20220307T133000
DTEND;TZID=UTC:20220307T143000
DTSTAMP:20260425T144655
CREATED:20220302T032121Z
LAST-MODIFIED:20220302T032121Z
UID:3659-1646659800-1646663400@pcche.org
SUMMARY:Mobile Dairy Classroom
DESCRIPTION:This is a free program!\nA trained instructor\, Todd griffin\, will be returning to demonstrate how to milk a cow\, describe how milk goes from the farm to the consumer\, and then answer questions from our student audience. This is an innovative program that brings the dairy experience directly to children. At schools\, students and teachers share an experience that includes math\, science\, health (nutrition)\, and agriculture\, all presented in an outdoor classroom format. The presentation lasts about 45 minutes and will take place directly after co-op ends in the front parking lot.
URL:https://pcche.org/calendar/mobile-dairy-classroom/
END:VEVENT
BEGIN:VEVENT
DTSTART;TZID=UTC:20220303T183000
DTEND;TZID=UTC:20220303T203000
DTSTAMP:20260425T144655
CREATED:20220302T031532Z
LAST-MODIFIED:20220302T031532Z
UID:3657-1646332200-1646339400@pcche.org
SUMMARY:Moms' Night Out
DESCRIPTION:Join us for a fun night of fellowship at Chili’s!
URL:https://pcche.org/calendar/moms-night-out-6/
END:VEVENT
BEGIN:VEVENT
DTSTART;TZID=UTC:20220225T130000
DTEND;TZID=UTC:20220225T160000
DTSTAMP:20260425T144655
CREATED:20220203T185600Z
LAST-MODIFIED:20220203T185600Z
UID:3638-1645794000-1645804800@pcche.org
SUMMARY:Chuck E. Cheese
DESCRIPTION:Come join your PCCHE friends for some fun at Chuck E. Cheese!\nEach child will receive these things listed below for $13.\n– 2 hour game card\n-2 slices of a one-topping pizza\n-Free refills for soft drinks\n-Goody bag with prizes\n-2 hours of reserved table space\n-E-tickets to be used on a future visit\nRSVP and pay by Monday Feb 14th!
URL:https://pcche.org/calendar/chuck-e-cheese-2/
END:VEVENT
BEGIN:VEVENT
DTSTART;TZID=UTC:20220223T140000
DTEND;TZID=UTC:20220223T160000
DTSTAMP:20260425T144655
CREATED:20220202T205826Z
LAST-MODIFIED:20220202T205826Z
UID:3634-1645624800-1645632000@pcche.org
SUMMARY:PCCHE Bowling at Film Alley
DESCRIPTION:Film Alley offers Homeschool Day EVERY Wednesday from 11:00 am – 4 pm. But we are planning MONTHLY meetups to try to coordinate our schedules for some fun friend time! PCCHE meetups at Film Alley will be the last Wednesday of every month from 2-4 pm.\nSome additional details are:\nThe cost is $15 per family (one lane) for 2 hours of bowling. Each family will pay for themselves upon arrival.\nBowling shoes are included in the price.\nFood/drink is available to order for an additional cost.
URL:https://pcche.org/calendar/pcche-bowling-at-film-alley-5/
END:VEVENT
BEGIN:VEVENT
DTSTART;TZID=UTC:20220218T100000
DTEND;TZID=UTC:20220218T120000
DTSTAMP:20260425T144655
CREATED:20220202T205431Z
LAST-MODIFIED:20220202T205431Z
UID:3632-1645178400-1645185600@pcche.org
SUMMARY:Granbury Homeschool Skate Day
DESCRIPTION:***Not a PCCHE event. All area homeschoolers are invited to participate.\nWhen: Every third Friday from August to May\nCost: $6 per skater\, cash or check required
URL:https://pcche.org/calendar/granbury-homeschool-skate-day-3/
END:VEVENT
BEGIN:VEVENT
DTSTART;TZID=UTC:20220216T130000
DTEND;TZID=UTC:20220216T160000
DTSTAMP:20260425T144655
CREATED:20220202T204551Z
LAST-MODIFIED:20220202T204803Z
UID:3630-1645016400-1645027200@pcche.org
SUMMARY:Fort Worth Homeschool Skate Day
DESCRIPTION:***This is not a PCCHE event. All area homeschoolers are invited to attend.\nHomeschool rate is $5+tax admission which includes free traditional roller skate rental if needed. If skaters wish to rent in-line skates or skatemate trainers\, there is an additional $4.00 fee. Skaters are welcome to bring their own skates as long as they’re suitable to use on the wooden skate floor.\nPay at the door letting them know you are a homeschooler for the special rate.
URL:https://pcche.org/calendar/fort-worth-homeschool-skate-day-5/
END:VEVENT
BEGIN:VEVENT
DTSTART;TZID=UTC:20220215T183000
DTEND;TZID=UTC:20220215T190000
DTSTAMP:20260425T144656
CREATED:20220204T194456Z
LAST-MODIFIED:20220204T194456Z
UID:3643-1644949800-1644951600@pcche.org
SUMMARY:General Meeting
DESCRIPTION:Tuesday\, February 15\, 2022\nSpring Creek Baptist Church\n6:30 pm \nIn the spirit of community growth and development\, all PCCHE members are encouraged to attend.
URL:https://pcche.org/calendar/general-meeting-5/
END:VEVENT
BEGIN:VEVENT
DTSTART;TZID=UTC:20220214T080000
DTEND;TZID=UTC:20220214T170000
DTSTAMP:20260425T144656
CREATED:20220211T020451Z
LAST-MODIFIED:20220211T020451Z
UID:3652-1644825600-1644858000@pcche.org
SUMMARY:Casa Mañana PAYMENT DUE
DESCRIPTION:Payment is due to on this day for tickets to Casa Mañana Presents: Shrek the Musical.\nIf payment is not received\, reserved tickets will be cancelled.\nPlease send a check payment to:\nKaren Sorah\n491 Green Meadows Circle\nSpringtown\, TX 76082
URL:https://pcche.org/calendar/casa-manana-payment-due/
END:VEVENT
BEGIN:VEVENT
DTSTART;TZID=UTC:20220211T180000
DTEND;TZID=UTC:20220211T210000
DTSTAMP:20260425T144656
CREATED:20220202T195753Z
LAST-MODIFIED:20220211T014242Z
UID:3624-1644602400-1644613200@pcche.org
SUMMARY:POSTPONED!!   Fundraiser Spaghetti Dinner
DESCRIPTION:This event will be rescheduled at a later date.
URL:https://pcche.org/calendar/fundraiser-spaghetti-dinner/
END:VEVENT
BEGIN:VEVENT
DTSTART;TZID=UTC:20220211T180000
DTEND;TZID=UTC:20220211T203000
DTSTAMP:20260425T144656
CREATED:20220202T200438Z
LAST-MODIFIED:20220211T015544Z
UID:3627-1644602400-1644611400@pcche.org
SUMMARY:February Teen Event
DESCRIPTION:At Spring Creek Baptist Church on Friday from 6:00-8:30 pm: GAME NIGHT!\nBring your favorite game and $7 a person to cover the cost of pizza for your teen.\nPlease RSVP below as soon as possible so that we know how much food to have on hand!
URL:https://pcche.org/calendar/february-teen-event/
END:VEVENT
BEGIN:VEVENT
DTSTART;TZID=UTC:20211218T110000
DTEND;TZID=UTC:20211218T130000
DTSTAMP:20260425T144656
CREATED:20211201T011652Z
LAST-MODIFIED:20211201T011652Z
UID:3485-1639825200-1639832400@pcche.org
SUMMARY:Star of Bethlehem Experience
DESCRIPTION:These dates\, times\, and prices are tentative as Capernaum Village has not officially made their announcement.\nPlease note: There are multiple days/times available for this event. Please RSVP on the date/time of your choice so that other PCCHE friends may join you as well. This event is not exclusively for PCCHE\, and you are welcome to invite family members/friends outside of PCCHE.\nThe Star of Bethlehem Experience at Capernaum Village Studios is a wonderful event to honor the birth of our Savior. There is a self-guided\, walk-through\, Bible-themed statue garden decorated with Christmas lights; a tour through the first century Bethlehem village and a search for the newborn King; and a walk down Candy Cane Lane\, where singers and dancers give the Gospel of Christ through the story of the candy cane. Ticket prices are $29.95 for Adults; $24.95 for Children 3-11 and seniors 62 and up; 2 and under are free. There is food available for purchase\, or you may pack a picnic and sit at the picnic tables outdoors.
URL:https://pcche.org/calendar/star-of-bethlehem-experience-2/
END:VEVENT
BEGIN:VEVENT
DTSTART;TZID=UTC:20211217T110000
DTEND;TZID=UTC:20211217T130000
DTSTAMP:20260425T144656
CREATED:20211201T011513Z
LAST-MODIFIED:20211201T011513Z
UID:3483-1639738800-1639746000@pcche.org
SUMMARY:Star of Bethlehem Experience
DESCRIPTION:These dates\, times\, and prices are tentative as Capernaum Village has not officially made their announcement.\nPlease note: There are multiple days/times available for this event. Please RSVP on the date/time of your choice so that other PCCHE friends may join you as well. This event is not exclusively for PCCHE\, and you are welcome to invite family members/friends outside of PCCHE.
URL:https://pcche.org/calendar/star-of-bethlehem-experience/
END:VEVENT
BEGIN:VEVENT
DTSTART;TZID=UTC:20211217T100000
DTEND;TZID=UTC:20211217T120000
DTSTAMP:20260425T144656
CREATED:20211201T011313Z
LAST-MODIFIED:20211201T011313Z
UID:3481-1639735200-1639742400@pcche.org
SUMMARY:Granbury Homeschool Skate Day
DESCRIPTION:***Not a PCCHE event. All area homeschoolers are invited to participate.\nWhen: Every third Friday from August to May\nCost: $6 per skater\, cash or check required
URL:https://pcche.org/calendar/granbury-homeschool-skate-day/
END:VEVENT
BEGIN:VEVENT
DTSTART;TZID=UTC:20211217T090000
DTEND;TZID=UTC:20211217T190000
DTSTAMP:20260425T144656
CREATED:20211201T011149Z
LAST-MODIFIED:20211201T011149Z
UID:3479-1639731600-1639767600@pcche.org
SUMMARY:PCCHE Salvation Army Bell Ringing
DESCRIPTION:PCCHE is supporting the Parker County Salvation Army by volunteering to ring the bell at the Hudson Oaks Walmart on Friday\, December 17 from 9 am to 7pm! If you are able\, please choose a time slot for your family and fill in your name on the spreadsheet (link is located in the comments). Limit one family per one-hour time slot as we have been requested to only allow 2-3 “ringers” at a time\, unless all the children belong to one family. \nPlease RSVP for a spot.
URL:https://pcche.org/calendar/pcche-salvation-army-bell-ringing/
END:VEVENT
BEGIN:VEVENT
DTSTART;TZID=UTC:20211216T183000
DTEND;TZID=UTC:20211216T203000
DTSTAMP:20260425T144656
CREATED:20211201T010919Z
LAST-MODIFIED:20211201T010919Z
UID:3477-1639679400-1639686600@pcche.org
SUMMARY:PCCHE Family Christmas Caroling
DESCRIPTION:Let’s get together for a night of Christmas Caroling and fun!  We will meet at Sweet Emilia’s on the square where you can purchase hot cocoa\, many flavors of popcorn\, gelato\, fudge\, candy & Dublin sodas at 6:30pm or before. We will set out on foot around 7 pm to carol around the Weatherford historic homes district\, so make sure to bundle up and have your strollers ready! We will have lyric pages for families to sing by. Be sure and remind your PCCHE friends to join in on this special night! Please confirm your RSVP below with the number in your family that will be attending.
URL:https://pcche.org/calendar/pcche-family-christmas-caroling/
END:VEVENT
BEGIN:VEVENT
DTSTART;TZID=UTC:20211215T130000
DTEND;TZID=UTC:20211215T160000
DTSTAMP:20260425T144656
CREATED:20211201T010655Z
LAST-MODIFIED:20211201T010655Z
UID:3475-1639573200-1639584000@pcche.org
SUMMARY:Fort Worth Homeschool Skate Day
DESCRIPTION:***This is not a PCCHE event. All area homeschoolers are invited to attend.\nHomeschool rate is $5+tax admission which includes free traditional roller skate rental if needed. If skaters wish to rent in-line skates or skatemate trainers\, there is an additional $4.00 fee. Skaters are welcome to bring their own skates as long as they’re suitable to use on the wooden skate floor.\nPay at the door letting them know you are a homeschooler for the special rate.
URL:https://pcche.org/calendar/fort-worth-homeschool-skate-day-3/
END:VEVENT
BEGIN:VEVENT
DTSTART;TZID=UTC:20211215T100000
DTEND;TZID=UTC:20211215T120000
DTSTAMP:20260425T144656
CREATED:20211201T010550Z
LAST-MODIFIED:20211201T010550Z
UID:3473-1639562400-1639569600@pcche.org
SUMMARY:Casa Mañana: Rudolph the Red-Nosed Reindeer
DESCRIPTION:This event is closed for ticket purchases.
URL:https://pcche.org/calendar/casa-manana-rudolph-the-red-nosed-reindeer/
END:VEVENT
BEGIN:VEVENT
DTSTART;TZID=UTC:20211214T130000
DTEND;TZID=UTC:20211214T180000
DTSTAMP:20260425T144656
CREATED:20210816T214539Z
LAST-MODIFIED:20211101T214942Z
UID:3403-1639486800-1639504800@pcche.org
SUMMARY:Operation Christmas Child Processing Center
DESCRIPTION:Before the millions of shoebox gifts collected each year can bring hope and joy to children around the world\, each one has to be carefully inspected and made ready for international shipment by volunteers like you. Tens of thousands of volunteers serve annually at eight shoebox processing centers across the United States.\nWe will need to arrive 30 minutes before check-in to watch a training video. Meeting location to drop off your teen/teens will be in the Weatherford Lowe’s parking lot.\nVolunteers MUST be at least 13 years old. This is a strict requirement and parents must fill out a permission slip. Please RSVP with the names of everyone in your family who would like to participate (please include ages of participating children and your email address so that the minor consent can be sent to you). Also\, if you would like to volunteer to drive others to the processing center\, please comment also.
URL:https://pcche.org/calendar/operation-christmas-child-processing-center/
END:VEVENT
BEGIN:VEVENT
DTSTART;TZID=UTC:20211206T190000
DTEND;TZID=UTC:20211206T210000
DTSTAMP:20260425T144656
CREATED:20211201T010116Z
LAST-MODIFIED:20211201T011849Z
UID:3469-1638817200-1638824400@pcche.org
SUMMARY:Mom's Christmas Party
DESCRIPTION:Mom’s Christmas Party hosted by Laura Welty\n\n\nLet’s kick of the Christmas season with Mexican food\, a cookie exchange and a fun night of fellowship!\nPotluck Mexican Dinner: Please comment below on the dish/items you would like to bring.\nUPDATED!\nCookie Exchange: Please bring two dozen of your favorite Christmas cookies for moms to share and take home.
URL:https://pcche.org/calendar/moms-christmas-party/
END:VEVENT
BEGIN:VEVENT
DTSTART;TZID=UTC:20211203T120000
DTEND;TZID=UTC:20211203T150000
DTSTAMP:20260425T144656
CREATED:20211201T005734Z
LAST-MODIFIED:20211201T005734Z
UID:3467-1638532800-1638543600@pcche.org
SUMMARY:Teen Christmas Party
DESCRIPTION:PCCHE Teen Christmas Party Hosted by Serena Lero\nPancakes and Pajamas\n12:00pm-3:00pm\nBrunch will be served\nBring a funny or serious gift for gift exchange please ($20 limit)\nThere will be games and prizes!!
URL:https://pcche.org/calendar/teen-christmas-party/
END:VEVENT
BEGIN:VEVENT
DTSTART;TZID=UTC:20211130T140000
DTEND;TZID=UTC:20211130T160000
DTSTAMP:20260425T144656
CREATED:20211101T213316Z
LAST-MODIFIED:20211101T214745Z
UID:3452-1638280800-1638288000@pcche.org
SUMMARY:Civil War - Fort Richardson
DESCRIPTION:Join us for a guided tour by the park’s interpreter of the buildings of Fort Richardson. This fort was established and used after the Civil War had ended\, but is still significant to the era. The tour will last about 1 hour. Feel free to pack a picnic lunch to share before or after the tour. There is a nice picnic pavilion and playground. Please  RSVP who will be attending\, so we know how many to expect. \n  \nAddress: \nTexas Parks and Wildlife – Fort Richardson State Park \n228 Park Road 61\, Jacksboro
URL:https://pcche.org/calendar/civil-war-fort-richardson/
END:VEVENT
BEGIN:VEVENT
DTSTART;TZID=UTC:20211119T100000
DTEND;TZID=UTC:20211119T120000
DTSTAMP:20260425T144656
CREATED:20210816T214331Z
LAST-MODIFIED:20210816T214331Z
UID:3401-1637316000-1637323200@pcche.org
SUMMARY:Homeschool Skate Day
DESCRIPTION:Homeschool Skate Day is back!\nWhen: Every third Friday from August to May\nCost: $6 per skater\, cash or check required
URL:https://pcche.org/calendar/homeschool-skate-day-7/
END:VEVENT
BEGIN:VEVENT
DTSTART;TZID=UTC:20211118T140000
DTEND;TZID=UTC:20211118T160000
DTSTAMP:20260425T144656
CREATED:20211101T213132Z
LAST-MODIFIED:20211101T214638Z
UID:3450-1637244000-1637251200@pcche.org
SUMMARY:Civil War Museum
DESCRIPTION:Join us for an afternoon at the Texas Civil War Museum. Admission includes entrance into the 30 minute movie “Our Home-Our Rights\, Texas in the Civil War.” The museum will be a self-guided tour each family may go through at their own pace. The museum closes at 5 pm\, but the website said to allow 2 hours to go through it\, so I put an end time of 4 pm.\nRSVP’s and Payments must be made by November 8.\nPrices are:\nAdults $7 each\nStudents $4 each\n5 and under Free\nPlease RSVP names and ages for who will be attending. \n  \nAddress: \nTexas Civil War Museum \n760 North Jim Wright Freeway\, Fort Worth
URL:https://pcche.org/calendar/civil-war-museum/
END:VEVENT
BEGIN:VEVENT
DTSTART;TZID=UTC:20211117T130000
DTEND;TZID=UTC:20211117T160000
DTSTAMP:20260425T144656
CREATED:20211101T213007Z
LAST-MODIFIED:20211101T213007Z
UID:3448-1637154000-1637164800@pcche.org
SUMMARY:Fort Worth Homeschool Skate Day
DESCRIPTION:***This is not a PCCHE event. All area homeschoolers are invited to attend.\nHomeschool rate is $5+tax admission which includes free traditional roller skate rental if needed. If skaters wish to rent in-line skates or skatemate trainers\, there is an additional $4.00 fee. Skaters are welcome to bring their own skates as long as they’re suitable to use on the wooden skate floor.\nPay at the door letting them know you are a homeschooler for the special rate
URL:https://pcche.org/calendar/fort-worth-homeschool-skate-day-2/
END:VEVENT
BEGIN:VEVENT
DTSTART;TZID=UTC:20211116T190000
DTEND;TZID=UTC:20211116T210000
DTSTAMP:20260425T144656
CREATED:20211101T212859Z
LAST-MODIFIED:20211101T212859Z
UID:3446-1637089200-1637096400@pcche.org
SUMMARY:Dads' Night - Cracker Barrel
DESCRIPTION:Join the dads for dinner (or breakfast!) and enjoy a great night out!
URL:https://pcche.org/calendar/dads-night-cracker-barrel/
END:VEVENT
BEGIN:VEVENT
DTSTART;TZID=UTC:20211115T183000
DTEND;TZID=UTC:20211115T200000
DTSTAMP:20260425T144656
CREATED:20211101T213925Z
LAST-MODIFIED:20211101T213925Z
UID:3454-1637001000-1637006400@pcche.org
SUMMARY:Parent's Night
DESCRIPTION:This is the night we get to show off what all our PCCHE co-op students have been working on all semester! All PCCHE members and their families are invited to attend. \n  \n 
URL:https://pcche.org/calendar/parents-night-4/
END:VEVENT
BEGIN:VEVENT
DTSTART;TZID=UTC:20211112T150000
DTEND;TZID=UTC:20211112T170000
DTSTAMP:20260425T144656
CREATED:20210917T190351Z
LAST-MODIFIED:20210917T190351Z
UID:3420-1636729200-1636736400@pcche.org
SUMMARY:PCCHE's 2nd Annual Living History Fair
DESCRIPTION:How To JOIN:\nMembers register to participate by commenting in the event with the name/names of presenters and their chosen historical figure/s. Participants may enter this fair either as individuals or as family units. The historical figure MUST be listed to avoid multiples! All ages may participate!\nWhat To Do:\nParticipants will 1) Study their chosen person from history over the next few months 2) Come dressed as their character and ready to personify their character while at the fair 3) Be prepared to answer questions from passersby about their character as well as present facts about his/her life from the perspective of the character and\n4) Prepare a trifold poster board that will highlight their character’s life and the time in which he/she lived.\nWhat To Expect:\nParticipants will be assigned table space to set up their poster board and any other display materials they would like to use. While at the fair\, participants will stand by their display and engage spectators. This event will be made public so that individuals\, such as friends and Grandparents\, may attend and act as an audience. When the event is over each family is responsible for cleaning up their display.\nWe hope you can come but if participating isn’t your thing\, please consider coming to learn and show support to our PCCHE families!\nCheck out our past Living History Fair under the events tab for pictures and video of our kids in action!
URL:https://pcche.org/calendar/pcches-2nd-annual-living-history-fair/
END:VEVENT
BEGIN:VEVENT
DTSTART;TZID=UTC:20211108T133000
DTEND;TZID=UTC:20211108T143000
DTSTAMP:20260425T144656
CREATED:20211103T001330Z
LAST-MODIFIED:20211103T001330Z
UID:3460-1636378200-1636381800@pcche.org
SUMMARY:Yearbook Club Meeting
DESCRIPTION:It’s once again time for PCCHE yearbook club to start meeting. We are looking for creative teens to take pictures at events\, sort\, label\, and transfer pictures\, and create pages for the 2021/2022 yearbook. If you think you may be interested in participating\, come join us. The meeting will be held after coop in E3 at Spring Creek Baptist Church. 
URL:https://pcche.org/calendar/yearbook-club-meeting/
END:VEVENT
END:VCALENDAR