BEGIN:VCALENDAR
VERSION:2.0
PRODID:-// - ECPv6.15.13//NONSGML v1.0//EN
CALSCALE:GREGORIAN
METHOD:PUBLISH
X-ORIGINAL-URL:https://pcche.org
X-WR-CALDESC:Events for 
REFRESH-INTERVAL;VALUE=DURATION:PT1H
X-Robots-Tag:noindex
X-PUBLISHED-TTL:PT1H
BEGIN:VTIMEZONE
TZID:UTC
BEGIN:STANDARD
TZOFFSETFROM:+0000
TZOFFSETTO:+0000
TZNAME:UTC
DTSTART:20240101T000000
END:STANDARD
END:VTIMEZONE
BEGIN:VEVENT
DTSTART;TZID=UTC:20250725T100000
DTEND;TZID=UTC:20250725T120000
DTSTAMP:20260425T125318
CREATED:20250708T010801Z
LAST-MODIFIED:20250708T010801Z
UID:4755-1753437600-1753444800@pcche.org
SUMMARY:Dinosaur Land Children's Museum
DESCRIPTION:Have a dinosaur or princess lover at home? Beat the heat and join us at Dinosaur Land Children’s Museum and Princess Land! 3 indoor buildings with animatronic realistic figures. All connected by gravel trails through the Dinosaur Forest of Animals. They also have live animals: alpacas\, goats\, chickens\, rabbits\, pigs\, a peacock. \nFriday\, July 25th from 10-12 p.m. \nTickets: Adults 13+ $18;  Kids 2-12 $14;  1 and under FREE \n12175 Jacksboro Highway\, Fort Worth\, Texas 76135\, United States \nWhile this is a private PCCHE event\, it is a public museum so others will be there. Check back to this site for any additional details or meeting changes. For now\, we will meet inside at the entrance. 
URL:https://pcche.org/calendar/dinosaur-land-childrens-museum/
END:VEVENT
END:VCALENDAR