BEGIN:VCALENDAR
VERSION:2.0
PRODID:-// - ECPv6.15.13//NONSGML v1.0//EN
CALSCALE:GREGORIAN
METHOD:PUBLISH
X-ORIGINAL-URL:https://pcche.org
X-WR-CALDESC:Events for 
REFRESH-INTERVAL;VALUE=DURATION:PT1H
X-Robots-Tag:noindex
X-PUBLISHED-TTL:PT1H
BEGIN:VTIMEZONE
TZID:UTC
BEGIN:STANDARD
TZOFFSETFROM:+0000
TZOFFSETTO:+0000
TZNAME:UTC
DTSTART:20230101T000000
END:STANDARD
END:VTIMEZONE
BEGIN:VEVENT
DTSTART;TZID=UTC:20240517T180000
DTEND;TZID=UTC:20240517T193000
DTSTAMP:20260425T013517
CREATED:20240315T222202Z
LAST-MODIFIED:20240315T222202Z
UID:4430-1715968800-1715974200@pcche.org
SUMMARY:The Baker Street Irregulars Performance Night
DESCRIPTION:Come join us as the PCCHE Drama Club performs their Spring Performance of the Baker Street Irregulars by Flip Kobler and Cindy Marcus. Upon investigating a mysterious murder at the Wainwright Circus\, Sherlock Holmes mysteriously falls gravely ill and is unable to perform his usual duties. Luckily\, the Irregulars show up and get the low-down from the acrobats\, clowns\, and animal trainers\, as well as the circus owner and his daughter. With their snooping and clever detective work\, the Baker Street Irregulars solve the crime and discover the mystery behind Sherlock’s sudden illness.
URL:https://pcche.org/calendar/the-baker-street-irregulars-performance-night/
END:VEVENT
END:VCALENDAR