BEGIN:VCALENDAR
VERSION:2.0
PRODID:-// - ECPv6.15.13//NONSGML v1.0//EN
CALSCALE:GREGORIAN
METHOD:PUBLISH
X-ORIGINAL-URL:https://pcche.org
X-WR-CALDESC:Events for 
REFRESH-INTERVAL;VALUE=DURATION:PT1H
X-Robots-Tag:noindex
X-PUBLISHED-TTL:PT1H
BEGIN:VTIMEZONE
TZID:UTC
BEGIN:STANDARD
TZOFFSETFROM:+0000
TZOFFSETTO:+0000
TZNAME:UTC
DTSTART:20230101T000000
END:STANDARD
END:VTIMEZONE
BEGIN:VEVENT
DTSTART;TZID=UTC:20240503T103000
DTEND;TZID=UTC:20240503T123000
DTSTAMP:20260425T013516
CREATED:20240126T173058Z
LAST-MODIFIED:20240126T173058Z
UID:4402-1714732200-1714739400@pcche.org
SUMMARY:Casa Manana - Mary Poppins Jr.
DESCRIPTION:Final Dates have been confirmed with Casa Manana.\nMary Poppins Jr.\nPayment is due by 2/23/2024 for this performance. Casa Manana has strict payment deadlines for us\, and therefore\, we must also.\nAll shows are $10 /person age 1 and over. Please RSVP by commenting your family name and the number of seats you need below. Please also include any special needs such as wheelchairs\, hearing impaired\, visually impaired\, people with walkers\, or people that cannot handle stairs.\nPayments may be made by cash or checks payable to PCCHE. You may also send via Paypal at treasurer@pcche.org\nlf you choose to use PayPal\, please add 4% to your total ticket cost.\nShow Description:\nYour favorite practically perfect nanny takes center stage in this Supercalifragilisticexpialidocious adventure based on the award-winning Broadway musical and classic Disney film. Mary Poppins takes Jane and Michael on many magical and memorable adventures\, but even grown-ups can learn a lesson or two from the nanny who advises that “Anything can happen if you let it.” This show is suitable for all audiences.\nThere are not individual tickets for these shows\, but rather predetermined group seating. You will be seated by an usher with the group “PCCHE.”\nPer Casa Manana policy\, sorry no refunds.\nAll shows begin at 10:30\, please arrive by 10:00 and wait in lobby at sign “PCCHE” for an usher to seat. Please do not go to the check in desk. See all policies below.\nDirections:\nCasa Manana Theatre is located in the heart of the Cultural District at\n3101 West Lancaster Avenue\,\nFort Worth\, TX 76107\nBox Office: 817 -332-2272\nParking: If the Casa Manana lot is full\, additional parking is available at the Will Rogers Memorial Center Equestrian Center Garage. To access the garage\, exit around Casa Manana’s lot and turn right (south) onto University. Turn right\nonto Trail Drive and then right onto Watt Drive. The garage is immediately on your right. Parking is on the second level with stair access to Casa Manana’s south lobby entrance. For additional information\, please visit\nwww.culturaldistrictparking.com\nArrival & Seating:\nThe lobby opens at 9.30 am.\nPlease arrive no later than 10:00 am.\nWait at “PCCHE” sign. Seating begins 30 minutes prior to show time. An Usher will be assigned to escort our group into the theatre to our predetermined seating.\nLate arrivals will be admitted at an appropriate point in the show and seated in the first available seats. Please note that all recordings of the stage production are prohibited. lf recording equipment is found in use\, it will be confiscated by the theatre management. This includes cameras and cell phones. lt is requested that all cell phones be turned off in the theatre.\nAt the end of the Show:\n1) Please wait for the actors to leave the stage\, and the house lights to come on.\n2) Please do not go onto the stage.\n3) Please wait for dismissal instructions from the theater personnel.\nThis is a PCCHE event in which we will be intermingling with the general public\, and therefore guests are welcome to attend with you\, so long as you RSVP and pay for them according to the requirements noted above.
URL:https://pcche.org/calendar/casa-manana-mary-poppins-jr-2/
END:VEVENT
BEGIN:VEVENT
DTSTART;TZID=UTC:20240503T133000
DTEND;TZID=UTC:20240503T143000
DTSTAMP:20260425T013516
CREATED:20240126T173233Z
LAST-MODIFIED:20240126T173233Z
UID:4404-1714743000-1714746600@pcche.org
SUMMARY:Kimbell Art Museum
DESCRIPTION:Enjoy a free\, docent-guided tour of the Kimbell Art Museum’s permanent collection on May 3\, 2024 at 1:30 pm. If you are already attending the Mary Poppins performance at CASA that morning\, you should be able to get a quick lunch and join us at the museum afterward!\nSpace is quite limited for this tour\, so the spots will be assigned upon who RSVP’s first below with how many adults will participate and the ages of each child. Though younger siblings may attend\, the tour will be geared toward children from 3-12th grades. We will start a waitlist once the reservation has reached its maximum!\nBefore the visit\, you may access the online educator resource packet which includes information about selected artworks in the permanent collection as well as suggested activities that connect with those artworks: https://kimbellart.org/…/2023%20Educator%20Resource…\n*This is a PCCHE APPROVED event. Due to very limited space\, all spots will be reserved only for PCCHE parents and children.*
URL:https://pcche.org/calendar/kimbell-art-museum/
END:VEVENT
END:VCALENDAR