BEGIN:VCALENDAR
VERSION:2.0
PRODID:-// - ECPv6.15.13//NONSGML v1.0//EN
CALSCALE:GREGORIAN
METHOD:PUBLISH
X-ORIGINAL-URL:https://pcche.org
X-WR-CALDESC:Events for 
REFRESH-INTERVAL;VALUE=DURATION:PT1H
X-Robots-Tag:noindex
X-PUBLISHED-TTL:PT1H
BEGIN:VTIMEZONE
TZID:UTC
BEGIN:STANDARD
TZOFFSETFROM:+0000
TZOFFSETTO:+0000
TZNAME:UTC
DTSTART:20220101T000000
END:STANDARD
END:VTIMEZONE
BEGIN:VEVENT
DTSTART;TZID=UTC:20230726T100000
DTEND;TZID=UTC:20230726T140000
DTSTAMP:20260425T125211
CREATED:20230706T221616Z
LAST-MODIFIED:20230706T221616Z
UID:4230-1690365600-1690380000@pcche.org
SUMMARY:Lake day at Ray Roberts Lake State Park
DESCRIPTION:Join us for a fun beach day! Pack your lunch\, plenty of drinks\, and toys for both the water and the sand. It would be best to book day passes in advance to guarantee your entrance into the State Park. Day passes may be booked up to a month in advance. We’ve never personally been to this particular park\, but the beach at the swimming area is supposed to be really great…I hope we aren’t disappointed! It’s a bit of a drive from the Weatherford area\, but we wanted to try someplace new. RSVP if you plan to attend!  \nhttps://texasstateparks.reserveamerica.com/camping/ray-roberts-lake-state-park-isle-du-bois/r/deDetails.do?contractCode=TX&parkId=1200123&siteId=70154
URL:https://pcche.org/calendar/lake-day-at-ray-roberts-lake-state-park/
END:VEVENT
END:VCALENDAR