BEGIN:VCALENDAR
VERSION:2.0
PRODID:-// - ECPv6.15.13//NONSGML v1.0//EN
CALSCALE:GREGORIAN
METHOD:PUBLISH
X-ORIGINAL-URL:https://pcche.org
X-WR-CALDESC:Events for 
REFRESH-INTERVAL;VALUE=DURATION:PT1H
X-Robots-Tag:noindex
X-PUBLISHED-TTL:PT1H
BEGIN:VTIMEZONE
TZID:UTC
BEGIN:STANDARD
TZOFFSETFROM:+0000
TZOFFSETTO:+0000
TZNAME:UTC
DTSTART:20220101T000000
END:STANDARD
END:VTIMEZONE
BEGIN:VEVENT
DTSTART;TZID=UTC:20230721T180000
DTEND;TZID=UTC:20230721T210000
DTSTAMP:20260425T125210
CREATED:20230706T221412Z
LAST-MODIFIED:20230706T221412Z
UID:4228-1689962400-1689973200@pcche.org
SUMMARY:Mom’s Night - Splash Kingdom
DESCRIPTION:We are thinking outside the box on this one! Come and go all day as you please\, with or without your kiddos (and/or husband!). But there’s just something relaxing and serene about going round and round the endless loop of the Lazy River on a tube as the sun begins to set! The night will end right at 9 pm with a fireworks show over the Wave Pool! Snacks are available for purchase at the concession stand. Hope to see you there…
URL:https://pcche.org/calendar/moms-night-splash-kingdom/
END:VEVENT
END:VCALENDAR