BEGIN:VCALENDAR
VERSION:2.0
PRODID:-// - ECPv6.15.13//NONSGML v1.0//EN
CALSCALE:GREGORIAN
METHOD:PUBLISH
X-ORIGINAL-URL:https://pcche.org
X-WR-CALDESC:Events for 
REFRESH-INTERVAL;VALUE=DURATION:PT1H
X-Robots-Tag:noindex
X-PUBLISHED-TTL:PT1H
BEGIN:VTIMEZONE
TZID:UTC
BEGIN:STANDARD
TZOFFSETFROM:+0000
TZOFFSETTO:+0000
TZNAME:UTC
DTSTART:20220101T000000
END:STANDARD
END:VTIMEZONE
BEGIN:VEVENT
DTSTART;TZID=UTC:20230630T110000
DTEND;TZID=UTC:20230630T130000
DTSTAMP:20260425T125204
CREATED:20230613T192210Z
LAST-MODIFIED:20230613T192221Z
UID:4225-1688122800-1688130000@pcche.org
SUMMARY:Mom’s night! (Day!)
DESCRIPTION:At McAlister’s Deli  \nJoin us for a delicious lunch and fellowship! Bring your favorite homeschooling curriculum\, book\, manipulative\, etc to share\, and inspire other moms over our summer break! Because this is a daytime event\, we will get a nearby table for the kids\, so they can enjoy a nice fellowship with their friends as well. Please RSVP if you plan to attend and if you plan to bring any children with you\, so we will know what size tables to reserve.
URL:https://pcche.org/calendar/moms-night-day/
END:VEVENT
END:VCALENDAR