BEGIN:VCALENDAR
VERSION:2.0
PRODID:-// - ECPv6.15.13//NONSGML v1.0//EN
CALSCALE:GREGORIAN
METHOD:PUBLISH
X-ORIGINAL-URL:https://pcche.org
X-WR-CALDESC:Events for 
REFRESH-INTERVAL;VALUE=DURATION:PT1H
X-Robots-Tag:noindex
X-PUBLISHED-TTL:PT1H
BEGIN:VTIMEZONE
TZID:UTC
BEGIN:STANDARD
TZOFFSETFROM:+0000
TZOFFSETTO:+0000
TZNAME:UTC
DTSTART:20220101T000000
END:STANDARD
END:VTIMEZONE
BEGIN:VEVENT
DTSTART;TZID=UTC:20230413T080000
DTEND;TZID=UTC:20230413T170000
DTSTAMP:20260425T170922
CREATED:20230412T163634Z
LAST-MODIFIED:20230412T163634Z
UID:4077-1681372800-1681405200@pcche.org
SUMMARY:Teen Meetup: Games & Pizza
DESCRIPTION:Location: Spring Creek Baptist Church\nApril’s teen event will be held at the Spring Creek Baptist Church gym on Thursday\, April 13 from 4:30-7:00.\nBring your favorite game and $7 a person to cover the cost of pizza for your teen.\nPlease RSVP so that we know how much food to have on hand!
URL:https://pcche.org/calendar/teen-meetup-games-pizza/
END:VEVENT
END:VCALENDAR