BEGIN:VCALENDAR
VERSION:2.0
PRODID:-// - ECPv6.15.13//NONSGML v1.0//EN
CALSCALE:GREGORIAN
METHOD:PUBLISH
X-ORIGINAL-URL:https://pcche.org
X-WR-CALDESC:Events for 
REFRESH-INTERVAL;VALUE=DURATION:PT1H
X-Robots-Tag:noindex
X-PUBLISHED-TTL:PT1H
BEGIN:VTIMEZONE
TZID:UTC
BEGIN:STANDARD
TZOFFSETFROM:+0000
TZOFFSETTO:+0000
TZNAME:UTC
DTSTART:20220101T000000
END:STANDARD
END:VTIMEZONE
BEGIN:VEVENT
DTSTART;TZID=UTC:20230403T183000
DTEND;TZID=UTC:20230403T203000
DTSTAMP:20260425T170659
CREATED:20230306T183036Z
LAST-MODIFIED:20230306T183036Z
UID:4060-1680546600-1680553800@pcche.org
SUMMARY:Mom’s Night
DESCRIPTION:Location: Oaxaca\nLet’s enjoy a fun Moms’ Night Out with great food and fellowship! This is a PCCHE Sponsored event\, and therefore only PCCHE members may attend. RSVP by clicking the “Going” button and commenting your name below\, so we will know what size table to request.
URL:https://pcche.org/calendar/moms-night/
END:VEVENT
END:VCALENDAR