BEGIN:VCALENDAR
VERSION:2.0
PRODID:-// - ECPv6.15.13//NONSGML v1.0//EN
CALSCALE:GREGORIAN
METHOD:PUBLISH
X-ORIGINAL-URL:https://pcche.org
X-WR-CALDESC:Events for 
REFRESH-INTERVAL;VALUE=DURATION:PT1H
X-Robots-Tag:noindex
X-PUBLISHED-TTL:PT1H
BEGIN:VTIMEZONE
TZID:UTC
BEGIN:STANDARD
TZOFFSETFROM:+0000
TZOFFSETTO:+0000
TZNAME:UTC
DTSTART:20220101T000000
END:STANDARD
END:VTIMEZONE
BEGIN:VEVENT
DTSTART;TZID=UTC:20230324T183000
DTEND;TZID=UTC:20230324T210000
DTSTAMP:20260425T181817
CREATED:20230306T175634Z
LAST-MODIFIED:20230306T175634Z
UID:4055-1679682600-1679691600@pcche.org
SUMMARY:PCCHE BBQ Jamboree - Family Event
DESCRIPTION:Location: Spring Creek Baptist Church  \nWe will have dinner and a talent show!\nContact Jordan Boren for your child to sign up with a talent act!  \nPlease RSVP your family name and how many will be attending. \nThis is a PCCHE Sponsored event\, and therefore only PCCHE members may attend.
URL:https://pcche.org/calendar/pcche-bbq-jamboree-family-event/
END:VEVENT
END:VCALENDAR