BEGIN:VCALENDAR
VERSION:2.0
PRODID:-// - ECPv6.15.13//NONSGML v1.0//EN
CALSCALE:GREGORIAN
METHOD:PUBLISH
X-ORIGINAL-URL:https://pcche.org
X-WR-CALDESC:Events for 
REFRESH-INTERVAL;VALUE=DURATION:PT1H
X-Robots-Tag:noindex
X-PUBLISHED-TTL:PT1H
BEGIN:VTIMEZONE
TZID:UTC
BEGIN:STANDARD
TZOFFSETFROM:+0000
TZOFFSETTO:+0000
TZNAME:UTC
DTSTART:20220101T000000
END:STANDARD
END:VTIMEZONE
BEGIN:VEVENT
DTSTART;TZID=UTC:20230308T130000
DTEND;TZID=UTC:20230308T160000
DTSTAMP:20260425T181912
CREATED:20230306T175140Z
LAST-MODIFIED:20230306T175140Z
UID:4051-1678280400-1678291200@pcche.org
SUMMARY:Homeschool Skate Day
DESCRIPTION:Location: RollerLand West\, Ft Worth  \nHomeschool rate is $5+ tax admission which includes free traditional roller skate rental if needed. If skaters wish to rent in-line skates or skatemate trainers\, there is an additional $4.00 fee. Skaters are welcome to bring their own skates as long as they’re suitable to use on the wooden skate floor.  \nPay at the door letting them know you are a homeschooler for the special rate. Please mark if you are going so I can get them an estimate of attendees.
URL:https://pcche.org/calendar/homeschool-skate-day-8/
END:VEVENT
END:VCALENDAR