BEGIN:VCALENDAR
VERSION:2.0
PRODID:-// - ECPv6.15.13//NONSGML v1.0//EN
CALSCALE:GREGORIAN
METHOD:PUBLISH
X-ORIGINAL-URL:https://pcche.org
X-WR-CALDESC:Events for 
REFRESH-INTERVAL;VALUE=DURATION:PT1H
X-Robots-Tag:noindex
X-PUBLISHED-TTL:PT1H
BEGIN:VTIMEZONE
TZID:UTC
BEGIN:STANDARD
TZOFFSETFROM:+0000
TZOFFSETTO:+0000
TZNAME:UTC
DTSTART:20220101T000000
END:STANDARD
END:VTIMEZONE
BEGIN:VEVENT
DTSTART;TZID=UTC:20230303T093000
DTEND;TZID=UTC:20230303T130000
DTSTAMP:20260425T183123
CREATED:20230201T182842Z
LAST-MODIFIED:20230201T182842Z
UID:4035-1677835800-1677848400@pcche.org
SUMMARY:ICR Discovery Center
DESCRIPTION:What You Can Expect:\n* A ticket to one of three planetarium shows\n*Engaging exhibits that teach the origin of the universe and how science affirms the Bible\n*Animatronic creatures\, special effects\, and a chilly Ice Age theater\n*Fascinating facts about DNA and human ancestry\, fossils and rocks\, dinosaurs\, and astronomy\n*Development and application of critical thinking skills while discovering the latest scientific research\n*A Bible-based journey through Earth’s history\, highlighting scientific discoveries along the way\n*A resource store full of creation-based science resources and educational kits\nGroup pricing for entrance to the Discovery Center exhibit hall and a planetarium show is $17 for adults and $13 for students (ages 5-17)\, 4 and under are $6 each.\nA final headcount and payment is required two weeks prior to the event so a HARD rsvp and payment is needed by February 13th.\nRSVP your name and number of those attending and ages.\nCrystal Paige is the contact for this field trip.\n**This is a PCCHE sponsored event and is open to PCCHE members only.**
URL:https://pcche.org/calendar/icr-discovery-center/
END:VEVENT
END:VCALENDAR