BEGIN:VCALENDAR
VERSION:2.0
PRODID:-// - ECPv6.15.13//NONSGML v1.0//EN
CALSCALE:GREGORIAN
METHOD:PUBLISH
X-ORIGINAL-URL:https://pcche.org
X-WR-CALDESC:Events for 
REFRESH-INTERVAL;VALUE=DURATION:PT1H
X-Robots-Tag:noindex
X-PUBLISHED-TTL:PT1H
BEGIN:VTIMEZONE
TZID:UTC
BEGIN:STANDARD
TZOFFSETFROM:+0000
TZOFFSETTO:+0000
TZNAME:UTC
DTSTART:20220101T000000
END:STANDARD
END:VTIMEZONE
BEGIN:VEVENT
DTSTART;TZID=UTC:20230227T100000
DTEND;TZID=UTC:20230227T133000
DTSTAMP:20260425T181817
CREATED:20230201T183256Z
LAST-MODIFIED:20230201T183256Z
UID:4037-1677492000-1677504600@pcche.org
SUMMARY:Co-op Crazy Hair Day
DESCRIPTION:Crazy hair day for Co-op attendees!\n*When your child participates in special days at co-op\, they are part of a group photo which is featured in our PCCHE yearbook!
URL:https://pcche.org/calendar/co-op-crazy-hair-day/
END:VEVENT
END:VCALENDAR