BEGIN:VCALENDAR
VERSION:2.0
PRODID:-// - ECPv6.15.13//NONSGML v1.0//EN
CALSCALE:GREGORIAN
METHOD:PUBLISH
X-ORIGINAL-URL:https://pcche.org
X-WR-CALDESC:Events for 
REFRESH-INTERVAL;VALUE=DURATION:PT1H
X-Robots-Tag:noindex
X-PUBLISHED-TTL:PT1H
BEGIN:VTIMEZONE
TZID:UTC
BEGIN:STANDARD
TZOFFSETFROM:+0000
TZOFFSETTO:+0000
TZNAME:UTC
DTSTART:20220101T000000
END:STANDARD
END:VTIMEZONE
BEGIN:VEVENT
DTSTART;TZID=UTC:20230215T100000
DTEND;TZID=UTC:20230215T120000
DTSTAMP:20260425T193820
CREATED:20230201T182025Z
LAST-MODIFIED:20230201T182025Z
UID:4030-1676455200-1676462400@pcche.org
SUMMARY:Casa Manana - Charlotte's Web
DESCRIPTION:3101 West Lancaster Avenue\, Fort Worth\, TX 76107 \nAll shows begin at 10:30\, please arrive by 10:00 and wait in lobby at sign “PCCHE” for an usher to seat our group.\nPayment was due on 1/1/23 for this performance. If you missed this show\, there are still plenty more to come in 2023!
URL:https://pcche.org/calendar/casa-manana-charlottes-web/
END:VEVENT
END:VCALENDAR