BEGIN:VCALENDAR
VERSION:2.0
PRODID:-// - ECPv6.15.13//NONSGML v1.0//EN
CALSCALE:GREGORIAN
METHOD:PUBLISH
X-ORIGINAL-URL:https://pcche.org
X-WR-CALDESC:Events for 
REFRESH-INTERVAL;VALUE=DURATION:PT1H
X-Robots-Tag:noindex
X-PUBLISHED-TTL:PT1H
BEGIN:VTIMEZONE
TZID:UTC
BEGIN:STANDARD
TZOFFSETFROM:+0000
TZOFFSETTO:+0000
TZNAME:UTC
DTSTART:20220101T000000
END:STANDARD
END:VTIMEZONE
BEGIN:VEVENT
DTSTART;TZID=UTC:20230210T140000
DTEND;TZID=UTC:20230210T160000
DTSTAMP:20260425T193950
CREATED:20230201T181605Z
LAST-MODIFIED:20230201T181605Z
UID:4027-1676037600-1676044800@pcche.org
SUMMARY:PCCHE Valentine's Party
DESCRIPTION:We are excited for our annual Valentine’s party this year\, as it is full of fun traditions for all ages! We will have a Valentine box contest\, Valentine exchange\, photo booth\, and more!\nAll students from preschool to high school are invited to make their own Valentine box at home and bring thier finished creation to the Valentine party for our annual Valentine box contest. The creations will be judged according to age group and theme.\nEach child should bring approximately 3 dozen pre-signed Valentines to share with their PCCHE friends for the Valentine exchange. You may want to determine how many valentines your child brings based on the total RSVP numbers posted in the event\, or just bring enough to cover the age group your own child is in.\nPlease list your kids’ names and ages with your RSVP.\nThis is a PCCHE Sponsored event\, so it is for PCCHE members only.
URL:https://pcche.org/calendar/pcche-valentines-party-2/
END:VEVENT
END:VCALENDAR